Workbook

Sheet Semana 1
A1: WWW.BIBLIOTECADERUTINAS.COM
A2: Dia 1: Espalda, biceps, antebrazo y abdominales
A4: Ejercicios | B4: Sets | C4: Reps | D4: Peso | E4: Total Reps | F4: Volumen
A5: Peso muerto con agarre ancho | B5: 1 | C5: 15 | F5: =D5*E5 -> 0
A6: Peso muerto con agarre ancho (set 2) | B6: 1 | C6: 12 | F6: =IF(D6*E6=0,"",D6*E6)
A7: Peso muerto con agarre ancho (set 3) | B7: 1 | C7: 10 | F7: =IF(D7*E7=0,"",D7*E7)
A8: Peso muerto parcial con agarre ancho desde bloques o rack (set 4,5) | B8: 2 | C8: 10 | F8: =IF(D8*E8=0,"",D8*E8)
A9: Peso muerto parcial con agarre ancho desde bloques o rack (set 6) | B9: 1 | C9: 8 | F9: =IF(D9*E9=0,"",D9*E9)
A10: Remo en barra T | B10: 1 | C10: 12 | F10: =IF(D10*E10=0,"",D10*E10)
A11: Remo en barra T (set 2) | B11: 1 | C11: 10 | F11: =IF(D11*E11=0,"",D11*E11)
A12: Remo en barra T (set 3) | B12: 1 | C12: 8 | F12: =IF(D12*E12=0,"",D12*E12)
A13: Jalón al pecho | B13: 3 | C13: 44053 | F13: =IF(D13*E13=0,"",D13*E13)
A14: Remo con mancuernas | B14: 3 | C14: 44053 | F14: =IF(D14*E14=0,"",D14*E14)
A15: Curl de bíceps concentrado | B15: 3 | C15: 44053 | F15: =IF(D15*E15=0,"",D15*E15)
A16: Curl de bíceps con mancuerna alterno | B16: 3 | C16: 44053 | F16: =IF(D16*E16=0,"",D16*E16)
A17: Curl invertido con barra (SS1) | B17: 2 | C17: 12 | F17: =IF(D17*E17=0,"",D17*E17)
A18: Curl de muñeca con barra (SS1) | B18: 2 | C18: 20 | F18: =IF(D18*E18=0,"",D18*E18)
A19: Abdominales (SS2) | B19: * | C19: 50 | F19: =IF(D19*E19=0,"",D19*E19)
A20: Elevacion de piernas SS2) | B20: * | C20: 50 | F20: =IF(D20*E20=0,"",D20*E20)
A21: Elevación de rodillas en suspensión (SS3) | B21: * | C21: 50 | F21: =IF(D21*E21=0,"",D21*E21)
A22: Twists (SS3) | B22: * | C22: 50 | F22: =IF(D22*E22=0,"",D22*E22)
A24: Dia 2: Piernas, gemelos y abdominales
A26: Ejercicioss | B26: Sets | C26: Reps | D26: Peso | E26: Total Reps | F26: Volumen
A27: Extensiones de pierna (Como calentamiento) | F27: =IF(D27*E27=0,"",D27*E27)
A28: Sentadillas | B28: 1 | C28: 15 | F28: =IF(D28*E28=0,"",D28*E28)
A29: Sentadillas (set 2) | B29: 1 | C29: 12 | F29: =IF(D29*E29=0,"",D29*E29)
A30: Sentadillas (set 3) | B30: 1 | C30: 11 | F30: =IF(D30*E30=0,"",D30*E30)
A31: Sentadillas (set 4) | B31: 1 | C31: 10 | F31: =IF(D31*E31=0,"",D31*E31)
A32: Sentadillas (set 5) | B32: 1 | C32: 9 | F32: =D32*E32 -> 0
A33: Sentadillas (set 6) | B33: 1 | C33: 8 | F33: =D33*E33 -> 0
A34: Prensa | B34: 1 | C34: 15 | F34: =IF(D34*E34=0,"",D34*E34)
A35: Prensa (set 2) | B35: 1 | C35: 12 | F35: =IF(D35*E35=0,"",D35*E35)
A36: Prensa (set 3) | B36: 1 | C36: 10 | F36: =IF(D36*E36=0,"",D36*E36)
A37: Curl de pierna | B37: 3 | C37: 44116 | F37: =IF(D37*E37=0,"",D37*E37)
A38: Extensiones de pierna | B38: 1 | C38: 12 | F38: =IF(D38*E38=0,"",D38*E38)
A39: Extensiones de pierna (set 2) | B39: 1 | C39: 10 | F39: =IF(D39*E39=0,"",D39*E39)
A40: Extensiones de pierna (set 3) | B40: 1 | C40: 8 | F40: =IF(D40*E40=0,"",D40*E40)
A41: Elevación de gemelos | B41: 3 | C41: 15-20 | F41: =IF(D41*E41=0,"",D41*E41)
A42: Elevación de gemelos tipo burro | B42: 4 | C42: 20-25 | F42: =IF(D42*E42=0,"",D42*E42)
A43: Elevación de gemelos sentado (4x drop set, all 5 reps) | B43: 1 | C43: 5 | F43: =IF(D43*E43=0,"",D43*E43)
...

Sheet Semana 2
A2: ='Semana 1'!A2 -> Dia 1: Espalda, biceps, antebrazo y abdominales | B2: ='Semana 1'!B2 -> 0 | C2: ='Semana 1'!C2 -> 0
A3: ='Semana 1'!A3 -> 0 | B3: ='Semana 1'!B3 -> 0 | C3: ='Semana 1'!C3 -> 0
A4: ='Semana 1'!A4 -> Ejercicios | B4: ='Semana 1'!B4 -> Sets | C4: ='Semana 1'!C4 -> Reps | D4: Peso | E4: Total Reps | F4: Volumen
A5: ='Semana 1'!A5 -> Peso muerto con agarre ancho | B5: ='Semana 1'!B5 -> 1 | C5: ='Semana 1'!C5 -> 15 | F5: =D5*E5 -> 0
A6: ='Semana 1'!A6 -> Peso muerto con agarre ancho (set 2) | B6: ='Semana 1'!B6 -> 1 | C6: ='Semana 1'!C6 -> 12 | F6: =IF(D6*E6=0,"",D6*E6)
A7: ='Semana 1'!A7 -> Peso muerto con agarre ancho (set 3) | B7: ='Semana 1'!B7 -> 1 | C7: ='Semana 1'!C7 -> 10 | F7: =IF(D7*E7=0,"",D7*E7)
A8: ='Semana 1'!A8 -> Peso muerto parcial con agarre ancho desde bloques o rack (set 4,5) | B8: ='Semana 1'!B8 -> 2 | C8: ='Semana 1'!C8 -> 10 | F8: =IF(D8*E8=0,"",D8*E8)
A9: ='Semana 1'!A9 -> Peso muerto parcial con agarre ancho desde bloques o rack (set 6) | B9: ='Semana 1'!B9 -> 1 | C9: ='Semana 1'!C9 -> 8 | F9: =IF(D9*E9=0,"",D9*E9)
A10: ='Semana 1'!A10 -> Remo en barra T | B10: ='Semana 1'!B10 -> 1 | C10: ='Semana 1'!C10 -> 12 | F10: =IF(D10*E10=0,"",D10*E10)
A11: ='Semana 1'!A11 -> Remo en barra T (set 2) | B11: ='Semana 1'!B11 -> 1 | C11: ='Semana 1'!C11 -> 10 | F11: =IF(D11*E11=0,"",D11*E11)
A12: ='Semana 1'!A12 -> Remo en barra T (set 3) | B12: ='Semana 1'!B12 -> 1 | C12: ='Semana 1'!C12 -> 8
A13: ='Semana 1'!A13 -> Jalón al pecho | B13: ='Semana 1'!B13 -> 3 | C13: ='Semana 1'!C13 -> 44053
A14: ='Semana 1'!A14 -> Remo con mancuernas | B14: ='Semana 1'!B14 -> 3 | C14: ='Semana 1'!C14 -> 44053
A15: ='Semana 1'!A15 -> Curl de bíceps concentrado | B15: ='Semana 1'!B15 -> 3 | C15: ='Semana 1'!C15 -> 44053 | F15: =IF(D15*E15=0,"",D15*E15)
A16: ='Semana 1'!A16 -> Curl de bíceps con mancuerna alterno | B16: ='Semana 1'!B16 -> 3 | C16: ='Semana 1'!C16 -> 44053 | F16: =IF(D16*E16=0,"",D16*E16)
A17: ='Semana 1'!A17 -> Curl invertido con barra (SS1) | B17: ='Semana 1'!B17 -> 2 | C17: ='Semana 1'!C17 -> 12 | F17: =IF(D17*E17=0,"",D17*E17)
A18: ='Semana 1'!A18 -> Curl de muñeca con barra (SS1) | B18: ='Semana 1'!B18 -> 2 | C18: ='Semana 1'!C18 -> 20 | F18: =IF(D18*E18=0,"",D18*E18)
A19: ='Semana 1'!A19 -> Abdominales (SS2) | B19: ='Semana 1'!B19 -> * | C19: ='Semana 1'!C19 -> 50 | F19: =IF(D19*E19=0,"",D19*E19)
A20: ='Semana 1'!A20 -> Elevacion de piernas SS2) | B20: ='Semana 1'!B20 -> * | C20: ='Semana 1'!C20 -> 50 | F20: =IF(D20*E20=0,"",D20*E20)
A21: ='Semana 1'!A21 -> Elevación de rodillas en suspensión (SS3) | B21: ='Semana 1'!B21 -> * | C21: ='Semana 1'!C21 -> 50 | F21: =IF(D21*E21=0,"",D21*E21)
A22: ='Semana 1'!A22 -> Twists (SS3) | B22: ='Semana 1'!B22 -> * | C22: ='Semana 1'!C22 -> 50
A23: ='Semana 1'!A23 -> 0 | B23: ='Semana 1'!B23 -> 0 | C23: ='Semana 1'!C23 -> 0
A24: ='Semana 1'!A24 -> Dia 2: Piernas, gemelos y abdominales | B24: ='Semana 1'!B24 -> 0 | C24: ='Semana 1'!C24 -> 0
A25: ='Semana 1'!A25 -> 0 | B25: ='Semana 1'!B25 -> 0 | C25: ='Semana 1'!C25 -> 0 | F25: =IF(D25*E25=0,"",D25*E25)
A26: ='Semana 1'!A26 -> Ejercicioss | B26: ='Semana 1'!B26 -> Sets | C26: ='Semana 1'!C26 -> Reps | F26: =IF(D26*E26=0,"",D26*E26)
A27: ='Semana 1'!A27 -> Extensiones de pierna (Como calentamiento) | B27: ='Semana 1'!B27 -> 0 | C27: ='Semana 1'!C27 -> 0 | F27: =IF(D27*E27=0,"",D27*E27)
A28: ='Semana 1'!A28 -> Sentadillas | B28: ='Semana 1'!B28 -> 1 | C28: ='Semana 1'!C28 -> 15 | F28: =IF(D28*E28=0,"",D28*E28)
A29: ='Semana 1'!A29 -> Sentadillas (set 2) | B29: ='Semana 1'!B29 -> 1 | C29: ='Semana 1'!C29 -> 12 | F29: =IF(D29*E29=0,"",D29*E29)
A30: ='Semana 1'!A30 -> Sentadillas (set 3) | B30: ='Semana 1'!B30 -> 1 | C30: ='Semana 1'!C30 -> 11 | F30: =IF(D30*E30=0,"",D30*E30)
A31: ='Semana 1'!A31 -> Sentadillas (set 4) | B31: ='Semana 1'!B31 -> 1 | C31: ='Semana 1'!C31 -> 10
A32: ='Semana 1'!A32 -> Sentadillas (set 5) | B32: ='Semana 1'!B32 -> 1 | C32: ='Semana 1'!C32 -> 9
A33: ='Semana 1'!A33 -> Sentadillas (set 6) | B33: ='Semana 1'!B33 -> 1 | C33: ='Semana 1'!C33 -> 8 | F33: =IF(D33*E33=0,"",D33*E33)
A34: ='Semana 1'!A34 -> Prensa | B34: ='Semana 1'!B34 -> 1 | C34: ='Semana 1'!C34 -> 15 | F34: =IF(D34*E34=0,"",D34*E34)
A35: ='Semana 1'!A35 -> Prensa (set 2) | B35: ='Semana 1'!B35 -> 1 | C35: ='Semana 1'!C35 -> 12 | F35: =IF(D35*E35=0,"",D35*E35)
A36: ='Semana 1'!A36 -> Prensa (set 3) | B36: ='Semana 1'!B36 -> 1 | C36: ='Semana 1'!C36 -> 10 | F36: =IF(D36*E36=0,"",D36*E36)
A37: ='Semana 1'!A37 -> Curl de pierna | B37: ='Semana 1'!B37 -> 3 | C37: ='Semana 1'!C37 -> 44116 | F37: =IF(D37*E37=0,"",D37*E37)
A38: ='Semana 1'!A38 -> Extensiones de pierna | B38: ='Semana 1'!B38 -> 1 | C38: ='Semana 1'!C38 -> 12 | F38: =IF(D38*E38=0,"",D38*E38)
A39: ='Semana 1'!A39 -> Extensiones de pierna (set 2) | B39: ='Semana 1'!B39 -> 1 | C39: ='Semana 1'!C39 -> 10 | F39: =IF(D39*E39=0,"",D39*E39)
A40: ='Semana 1'!A40 -> Extensiones de pierna (set 3) | B40: ='Semana 1'!B40 -> 1 | C40: ='Semana 1'!C40 -> 8 | F40: =IF(D40*E40=0,"",D40*E40)
A41: ='Semana 1'!A41 -> Elevación de gemelos | B41: ='Semana 1'!B41 -> 3 | C41: ='Semana 1'!C41 -> 15-20 | F41: =IF(D41*E41=0,"",D41*E41)
...

Sheet Semana 3
A2: ='Semana 1'!A2 -> Dia 1: Espalda, biceps, antebrazo y abdominales | B2: ='Semana 1'!B2 -> 0 | C2: ='Semana 1'!C2 -> 0
A3: ='Semana 1'!A3 -> 0 | B3: ='Semana 1'!B3 -> 0 | C3: ='Semana 1'!C3 -> 0
A4: ='Semana 1'!A4 -> Ejercicios | B4: ='Semana 1'!B4 -> Sets | C4: ='Semana 1'!C4 -> Reps | D4: Peso | E4: Total Reps | F4: Volumen
A5: ='Semana 1'!A5 -> Peso muerto con agarre ancho | B5: ='Semana 1'!B5 -> 1 | C5: ='Semana 1'!C5 -> 15 | F5: =D5*E5 -> 0
A6: ='Semana 1'!A6 -> Peso muerto con agarre ancho (set 2) | B6: ='Semana 1'!B6 -> 1 | C6: ='Semana 1'!C6 -> 12 | F6: =IF(D6*E6=0,"",D6*E6)
A7: ='Semana 1'!A7 -> Peso muerto con agarre ancho (set 3) | B7: ='Semana 1'!B7 -> 1 | C7: ='Semana 1'!C7 -> 10 | F7: =IF(D7*E7=0,"",D7*E7)
A8: ='Semana 1'!A8 -> Peso muerto parcial con agarre ancho desde bloques o rack (set 4,5) | B8: ='Semana 1'!B8 -> 2 | C8: ='Semana 1'!C8 -> 10 | F8: =IF(D8*E8=0,"",D8*E8)
A9: ='Semana 1'!A9 -> Peso muerto parcial con agarre ancho desde bloques o rack (set 6) | B9: ='Semana 1'!B9 -> 1 | C9: ='Semana 1'!C9 -> 8 | F9: =IF(D9*E9=0,"",D9*E9)
A10: ='Semana 1'!A10 -> Remo en barra T | B10: ='Semana 1'!B10 -> 1 | C10: ='Semana 1'!C10 -> 12 | F10: =IF(D10*E10=0,"",D10*E10)
A11: ='Semana 1'!A11 -> Remo en barra T (set 2) | B11: ='Semana 1'!B11 -> 1 | C11: ='Semana 1'!C11 -> 10 | F11: =IF(D11*E11=0,"",D11*E11)
A12: ='Semana 1'!A12 -> Remo en barra T (set 3) | B12: ='Semana 1'!B12 -> 1 | C12: ='Semana 1'!C12 -> 8
A13: ='Semana 1'!A13 -> Jalón al pecho | B13: ='Semana 1'!B13 -> 3 | C13: ='Semana 1'!C13 -> 44053
A14: ='Semana 1'!A14 -> Remo con mancuernas | B14: ='Semana 1'!B14 -> 3 | C14: ='Semana 1'!C14 -> 44053
A15: ='Semana 1'!A15 -> Curl de bíceps concentrado | B15: ='Semana 1'!B15 -> 3 | C15: ='Semana 1'!C15 -> 44053 | F15: =IF(D15*E15=0,"",D15*E15)
A16: ='Semana 1'!A16 -> Curl de bíceps con mancuerna alterno | B16: ='Semana 1'!B16 -> 3 | C16: ='Semana 1'!C16 -> 44053 | F16: =IF(D16*E16=0,"",D16*E16)
A17: ='Semana 1'!A17 -> Curl invertido con barra (SS1) | B17: ='Semana 1'!B17 -> 2 | C17: ='Semana 1'!C17 -> 12 | F17: =IF(D17*E17=0,"",D17*E17)
A18: ='Semana 1'!A18 -> Curl de muñeca con barra (SS1) | B18: ='Semana 1'!B18 -> 2 | C18: ='Semana 1'!C18 -> 20 | F18: =IF(D18*E18=0,"",D18*E18)
A19: ='Semana 1'!A19 -> Abdominales (SS2) | B19: ='Semana 1'!B19 -> * | C19: ='Semana 1'!C19 -> 50 | F19: =IF(D19*E19=0,"",D19*E19)
A20: ='Semana 1'!A20 -> Elevacion de piernas SS2) | B20: ='Semana 1'!B20 -> * | C20: ='Semana 1'!C20 -> 50 | F20: =IF(D20*E20=0,"",D20*E20)
A21: ='Semana 1'!A21 -> Elevación de rodillas en suspensión (SS3) | B21: ='Semana 1'!B21 -> * | C21: ='Semana 1'!C21 -> 50 | F21: =IF(D21*E21=0,"",D21*E21)
A22: ='Semana 1'!A22 -> Twists (SS3) | B22: ='Semana 1'!B22 -> * | C22: ='Semana 1'!C22 -> 50
A23: ='Semana 1'!A23 -> 0 | B23: ='Semana 1'!B23 -> 0 | C23: ='Semana 1'!C23 -> 0
A24: ='Semana 1'!A24 -> Dia 2: Piernas, gemelos y abdominales | B24: ='Semana 1'!B24 -> 0 | C24: ='Semana 1'!C24 -> 0
A25: ='Semana 1'!A25 -> 0 | B25: ='Semana 1'!B25 -> 0 | C25: ='Semana 1'!C25 -> 0 | F25: =IF(D25*E25=0,"",D25*E25)
A26: ='Semana 1'!A26 -> Ejercicioss | B26: ='Semana 1'!B26 -> Sets | C26: ='Semana 1'!C26 -> Reps | F26: =IF(D26*E26=0,"",D26*E26)
A27: ='Semana 1'!A27 -> Extensiones de pierna (Como calentamiento) | B27: ='Semana 1'!B27 -> 0 | C27: ='Semana 1'!C27 -> 0 | F27: =IF(D27*E27=0,"",D27*E27)
A28: ='Semana 1'!A28 -> Sentadillas | B28: ='Semana 1'!B28 -> 1 | C28: ='Semana 1'!C28 -> 15 | F28: =IF(D28*E28=0,"",D28*E28)
A29: ='Semana 1'!A29 -> Sentadillas (set 2) | B29: ='Semana 1'!B29 -> 1 | C29: ='Semana 1'!C29 -> 12 | F29: =IF(D29*E29=0,"",D29*E29)
A30: ='Semana 1'!A30 -> Sentadillas (set 3) | B30: ='Semana 1'!B30 -> 1 | C30: ='Semana 1'!C30 -> 11 | F30: =IF(D30*E30=0,"",D30*E30)
A31: ='Semana 1'!A31 -> Sentadillas (set 4) | B31: ='Semana 1'!B31 -> 1 | C31: ='Semana 1'!C31 -> 10
A32: ='Semana 1'!A32 -> Sentadillas (set 5) | B32: ='Semana 1'!B32 -> 1 | C32: ='Semana 1'!C32 -> 9
A33: ='Semana 1'!A33 -> Sentadillas (set 6) | B33: ='Semana 1'!B33 -> 1 | C33: ='Semana 1'!C33 -> 8 | F33: =IF(D33*E33=0,"",D33*E33)
A34: ='Semana 1'!A34 -> Prensa | B34: ='Semana 1'!B34 -> 1 | C34: ='Semana 1'!C34 -> 15 | F34: =IF(D34*E34=0,"",D34*E34)
A35: ='Semana 1'!A35 -> Prensa (set 2) | B35: ='Semana 1'!B35 -> 1 | C35: ='Semana 1'!C35 -> 12 | F35: =IF(D35*E35=0,"",D35*E35)
A36: ='Semana 1'!A36 -> Prensa (set 3) | B36: ='Semana 1'!B36 -> 1 | C36: ='Semana 1'!C36 -> 10 | F36: =IF(D36*E36=0,"",D36*E36)
A37: ='Semana 1'!A37 -> Curl de pierna | B37: ='Semana 1'!B37 -> 3 | C37: ='Semana 1'!C37 -> 44116 | F37: =IF(D37*E37=0,"",D37*E37)
A38: ='Semana 1'!A38 -> Extensiones de pierna | B38: ='Semana 1'!B38 -> 1 | C38: ='Semana 1'!C38 -> 12 | F38: =IF(D38*E38=0,"",D38*E38)
A39: ='Semana 1'!A39 -> Extensiones de pierna (set 2) | B39: ='Semana 1'!B39 -> 1 | C39: ='Semana 1'!C39 -> 10 | F39: =IF(D39*E39=0,"",D39*E39)
A40: ='Semana 1'!A40 -> Extensiones de pierna (set 3) | B40: ='Semana 1'!B40 -> 1 | C40: ='Semana 1'!C40 -> 8 | F40: =IF(D40*E40=0,"",D40*E40)
A41: ='Semana 1'!A41 -> Elevación de gemelos | B41: ='Semana 1'!B41 -> 3 | C41: ='Semana 1'!C41 -> 15-20 | F41: =IF(D41*E41=0,"",D41*E41)
...

Sheet Semana 4
A2: ='Semana 1'!A2 -> Dia 1: Espalda, biceps, antebrazo y abdominales | B2: ='Semana 1'!B2 -> 0 | C2: ='Semana 1'!C2 -> 0
A3: ='Semana 1'!A3 -> 0 | B3: ='Semana 1'!B3 -> 0 | C3: ='Semana 1'!C3 -> 0
A4: ='Semana 1'!A4 -> Ejercicios | B4: ='Semana 1'!B4 -> Sets | C4: ='Semana 1'!C4 -> Reps | D4: Peso | E4: Total Reps | F4: Volumen
A5: ='Semana 1'!A5 -> Peso muerto con agarre ancho | B5: ='Semana 1'!B5 -> 1 | C5: ='Semana 1'!C5 -> 15 | F5: =D5*E5 -> 0
A6: ='Semana 1'!A6 -> Peso muerto con agarre ancho (set 2) | B6: ='Semana 1'!B6 -> 1 | C6: ='Semana 1'!C6 -> 12 | F6: =IF(D6*E6=0,"",D6*E6)
A7: ='Semana 1'!A7 -> Peso muerto con agarre ancho (set 3) | B7: ='Semana 1'!B7 -> 1 | C7: ='Semana 1'!C7 -> 10 | F7: =IF(D7*E7=0,"",D7*E7)
A8: ='Semana 1'!A8 -> Peso muerto parcial con agarre ancho desde bloques o rack (set 4,5) | B8: ='Semana 1'!B8 -> 2 | C8: ='Semana 1'!C8 -> 10 | F8: =IF(D8*E8=0,"",D8*E8)
A9: ='Semana 1'!A9 -> Peso muerto parcial con agarre ancho desde bloques o rack (set 6) | B9: ='Semana 1'!B9 -> 1 | C9: ='Semana 1'!C9 -> 8 | F9: =IF(D9*E9=0,"",D9*E9)
A10: ='Semana 1'!A10 -> Remo en barra T | B10: ='Semana 1'!B10 -> 1 | C10: ='Semana 1'!C10 -> 12 | F10: =IF(D10*E10=0,"",D10*E10)
A11: ='Semana 1'!A11 -> Remo en barra T (set 2) | B11: ='Semana 1'!B11 -> 1 | C11: ='Semana 1'!C11 -> 10 | F11: =IF(D11*E11=0,"",D11*E11)
A12: ='Semana 1'!A12 -> Remo en barra T (set 3) | B12: ='Semana 1'!B12 -> 1 | C12: ='Semana 1'!C12 -> 8
A13: ='Semana 1'!A13 -> Jalón al pecho | B13: ='Semana 1'!B13 -> 3 | C13: ='Semana 1'!C13 -> 44053
A14: ='Semana 1'!A14 -> Remo con mancuernas | B14: ='Semana 1'!B14 -> 3 | C14: ='Semana 1'!C14 -> 44053
A15: ='Semana 1'!A15 -> Curl de bíceps concentrado | B15: ='Semana 1'!B15 -> 3 | C15: ='Semana 1'!C15 -> 44053 | F15: =IF(D15*E15=0,"",D15*E15)
A16: ='Semana 1'!A16 -> Curl de bíceps con mancuerna alterno | B16: ='Semana 1'!B16 -> 3 | C16: ='Semana 1'!C16 -> 44053 | F16: =IF(D16*E16=0,"",D16*E16)
A17: ='Semana 1'!A17 -> Curl invertido con barra (SS1) | B17: ='Semana 1'!B17 -> 2 | C17: ='Semana 1'!C17 -> 12 | F17: =IF(D17*E17=0,"",D17*E17)
A18: ='Semana 1'!A18 -> Curl de muñeca con barra (SS1) | B18: ='Semana 1'!B18 -> 2 | C18: ='Semana 1'!C18 -> 20 | F18: =IF(D18*E18=0,"",D18*E18)
A19: ='Semana 1'!A19 -> Abdominales (SS2) | B19: ='Semana 1'!B19 -> * | C19: ='Semana 1'!C19 -> 50 | F19: =IF(D19*E19=0,"",D19*E19)
A20: ='Semana 1'!A20 -> Elevacion de piernas SS2) | B20: ='Semana 1'!B20 -> * | C20: ='Semana 1'!C20 -> 50 | F20: =IF(D20*E20=0,"",D20*E20)
A21: ='Semana 1'!A21 -> Elevación de rodillas en suspensión (SS3) | B21: ='Semana 1'!B21 -> * | C21: ='Semana 1'!C21 -> 50 | F21: =IF(D21*E21=0,"",D21*E21)
A22: ='Semana 1'!A22 -> Twists (SS3) | B22: ='Semana 1'!B22 -> * | C22: ='Semana 1'!C22 -> 50
A23: ='Semana 1'!A23 -> 0 | B23: ='Semana 1'!B23 -> 0 | C23: ='Semana 1'!C23 -> 0
A24: ='Semana 1'!A24 -> Dia 2: Piernas, gemelos y abdominales | B24: ='Semana 1'!B24 -> 0 | C24: ='Semana 1'!C24 -> 0
A25: ='Semana 1'!A25 -> 0 | B25: ='Semana 1'!B25 -> 0 | C25: ='Semana 1'!C25 -> 0 | F25: =IF(D25*E25=0,"",D25*E25)
A26: ='Semana 1'!A26 -> Ejercicioss | B26: ='Semana 1'!B26 -> Sets | C26: ='Semana 1'!C26 -> Reps | F26: =IF(D26*E26=0,"",D26*E26)
A27: ='Semana 1'!A27 -> Extensiones de pierna (Como calentamiento) | B27: ='Semana 1'!B27 -> 0 | C27: ='Semana 1'!C27 -> 0 | F27: =IF(D27*E27=0,"",D27*E27)
A28: ='Semana 1'!A28 -> Sentadillas | B28: ='Semana 1'!B28 -> 1 | C28: ='Semana 1'!C28 -> 15 | F28: =IF(D28*E28=0,"",D28*E28)
A29: ='Semana 1'!A29 -> Sentadillas (set 2) | B29: ='Semana 1'!B29 -> 1 | C29: ='Semana 1'!C29 -> 12 | F29: =IF(D29*E29=0,"",D29*E29)
A30: ='Semana 1'!A30 -> Sentadillas (set 3) | B30: ='Semana 1'!B30 -> 1 | C30: ='Semana 1'!C30 -> 11 | F30: =IF(D30*E30=0,"",D30*E30)
A31: ='Semana 1'!A31 -> Sentadillas (set 4) | B31: ='Semana 1'!B31 -> 1 | C31: ='Semana 1'!C31 -> 10
A32: ='Semana 1'!A32 -> Sentadillas (set 5) | B32: ='Semana 1'!B32 -> 1 | C32: ='Semana 1'!C32 -> 9
A33: ='Semana 1'!A33 -> Sentadillas (set 6) | B33: ='Semana 1'!B33 -> 1 | C33: ='Semana 1'!C33 -> 8 | F33: =IF(D33*E33=0,"",D33*E33)
A34: ='Semana 1'!A34 -> Prensa | B34: ='Semana 1'!B34 -> 1 | C34: ='Semana 1'!C34 -> 15 | F34: =IF(D34*E34=0,"",D34*E34)
A35: ='Semana 1'!A35 -> Prensa (set 2) | B35: ='Semana 1'!B35 -> 1 | C35: ='Semana 1'!C35 -> 12 | F35: =IF(D35*E35=0,"",D35*E35)
A36: ='Semana 1'!A36 -> Prensa (set 3) | B36: ='Semana 1'!B36 -> 1 | C36: ='Semana 1'!C36 -> 10 | F36: =IF(D36*E36=0,"",D36*E36)
A37: ='Semana 1'!A37 -> Curl de pierna | B37: ='Semana 1'!B37 -> 3 | C37: ='Semana 1'!C37 -> 44116 | F37: =IF(D37*E37=0,"",D37*E37)
A38: ='Semana 1'!A38 -> Extensiones de pierna | B38: ='Semana 1'!B38 -> 1 | C38: ='Semana 1'!C38 -> 12 | F38: =IF(D38*E38=0,"",D38*E38)
A39: ='Semana 1'!A39 -> Extensiones de pierna (set 2) | B39: ='Semana 1'!B39 -> 1 | C39: ='Semana 1'!C39 -> 10 | F39: =IF(D39*E39=0,"",D39*E39)
A40: ='Semana 1'!A40 -> Extensiones de pierna (set 3) | B40: ='Semana 1'!B40 -> 1 | C40: ='Semana 1'!C40 -> 8 | F40: =IF(D40*E40=0,"",D40*E40)
A41: ='Semana 1'!A41 -> Elevación de gemelos | B41: ='Semana 1'!B41 -> 3 | C41: ='Semana 1'!C41 -> 15-20 | F41: =IF(D41*E41=0,"",D41*E41)
...

Sheet Semana 5
A2: ='Semana 1'!A2 -> Dia 1: Espalda, biceps, antebrazo y abdominales | B2: ='Semana 1'!B2 -> 0 | C2: ='Semana 1'!C2 -> 0
A3: ='Semana 1'!A3 -> 0 | B3: ='Semana 1'!B3 -> 0 | C3: ='Semana 1'!C3 -> 0
A4: ='Semana 1'!A4 -> Ejercicios | B4: ='Semana 1'!B4 -> Sets | C4: ='Semana 1'!C4 -> Reps | D4: Peso | E4: Total Reps | F4: Volumen
A5: ='Semana 1'!A5 -> Peso muerto con agarre ancho | B5: ='Semana 1'!B5 -> 1 | C5: ='Semana 1'!C5 -> 15 | F5: =D5*E5 -> 0
A6: ='Semana 1'!A6 -> Peso muerto con agarre ancho (set 2) | B6: ='Semana 1'!B6 -> 1 | C6: ='Semana 1'!C6 -> 12 | F6: =IF(D6*E6=0,"",D6*E6)
A7: ='Semana 1'!A7 -> Peso muerto con agarre ancho (set 3) | B7: ='Semana 1'!B7 -> 1 | C7: ='Semana 1'!C7 -> 10 | F7: =IF(D7*E7=0,"",D7*E7)
A8: ='Semana 1'!A8 -> Peso muerto parcial con agarre ancho desde bloques o rack (set 4,5) | B8: ='Semana 1'!B8 -> 2 | C8: ='Semana 1'!C8 -> 10 | F8: =IF(D8*E8=0,"",D8*E8)
A9: ='Semana 1'!A9 -> Peso muerto parcial con agarre ancho desde bloques o rack (set 6) | B9: ='Semana 1'!B9 -> 1 | C9: ='Semana 1'!C9 -> 8 | F9: =IF(D9*E9=0,"",D9*E9)
A10: ='Semana 1'!A10 -> Remo en barra T | B10: ='Semana 1'!B10 -> 1 | C10: ='Semana 1'!C10 -> 12 | F10: =IF(D10*E10=0,"",D10*E10)
A11: ='Semana 1'!A11 -> Remo en barra T (set 2) | B11: ='Semana 1'!B11 -> 1 | C11: ='Semana 1'!C11 -> 10 | F11: =IF(D11*E11=0,"",D11*E11)
A12: ='Semana 1'!A12 -> Remo en barra T (set 3) | B12: ='Semana 1'!B12 -> 1 | C12: ='Semana 1'!C12 -> 8
A13: ='Semana 1'!A13 -> Jalón al pecho | B13: ='Semana 1'!B13 -> 3 | C13: ='Semana 1'!C13 -> 44053
A14: ='Semana 1'!A14 -> Remo con mancuernas | B14: ='Semana 1'!B14 -> 3 | C14: ='Semana 1'!C14 -> 44053
A15: ='Semana 1'!A15 -> Curl de bíceps concentrado | B15: ='Semana 1'!B15 -> 3 | C15: ='Semana 1'!C15 -> 44053 | F15: =IF(D15*E15=0,"",D15*E15)
A16: ='Semana 1'!A16 -> Curl de bíceps con mancuerna alterno | B16: ='Semana 1'!B16 -> 3 | C16: ='Semana 1'!C16 -> 44053 | F16: =IF(D16*E16=0,"",D16*E16)
A17: ='Semana 1'!A17 -> Curl invertido con barra (SS1) | B17: ='Semana 1'!B17 -> 2 | C17: ='Semana 1'!C17 -> 12 | F17: =IF(D17*E17=0,"",D17*E17)
A18: ='Semana 1'!A18 -> Curl de muñeca con barra (SS1) | B18: ='Semana 1'!B18 -> 2 | C18: ='Semana 1'!C18 -> 20 | F18: =IF(D18*E18=0,"",D18*E18)
A19: ='Semana 1'!A19 -> Abdominales (SS2) | B19: ='Semana 1'!B19 -> * | C19: ='Semana 1'!C19 -> 50 | F19: =IF(D19*E19=0,"",D19*E19)
A20: ='Semana 1'!A20 -> Elevacion de piernas SS2) | B20: ='Semana 1'!B20 -> * | C20: ='Semana 1'!C20 -> 50 | F20: =IF(D20*E20=0,"",D20*E20)
A21: ='Semana 1'!A21 -> Elevación de rodillas en suspensión (SS3) | B21: ='Semana 1'!B21 -> * | C21: ='Semana 1'!C21 -> 50 | F21: =IF(D21*E21=0,"",D21*E21)
A22: ='Semana 1'!A22 -> Twists (SS3) | B22: ='Semana 1'!B22 -> * | C22: ='Semana 1'!C22 -> 50
A23: ='Semana 1'!A23 -> 0 | B23: ='Semana 1'!B23 -> 0 | C23: ='Semana 1'!C23 -> 0
A24: ='Semana 1'!A24 -> Dia 2: Piernas, gemelos y abdominales | B24: ='Semana 1'!B24 -> 0 | C24: ='Semana 1'!C24 -> 0
A25: ='Semana 1'!A25 -> 0 | B25: ='Semana 1'!B25 -> 0 | C25: ='Semana 1'!C25 -> 0 | F25: =IF(D25*E25=0,"",D25*E25)
A26: ='Semana 1'!A26 -> Ejercicioss | B26: ='Semana 1'!B26 -> Sets | C26: ='Semana 1'!C26 -> Reps | F26: =IF(D26*E26=0,"",D26*E26)
A27: ='Semana 1'!A27 -> Extensiones de pierna (Como calentamiento) | B27: ='Semana 1'!B27 -> 0 | C27: ='Semana 1'!C27 -> 0 | F27: =IF(D27*E27=0,"",D27*E27)
A28: ='Semana 1'!A28 -> Sentadillas | B28: ='Semana 1'!B28 -> 1 | C28: ='Semana 1'!C28 -> 15 | F28: =IF(D28*E28=0,"",D28*E28)
A29: ='Semana 1'!A29 -> Sentadillas (set 2) | B29: ='Semana 1'!B29 -> 1 | C29: ='Semana 1'!C29 -> 12 | F29: =IF(D29*E29=0,"",D29*E29)
A30: ='Semana 1'!A30 -> Sentadillas (set 3) | B30: ='Semana 1'!B30 -> 1 | C30: ='Semana 1'!C30 -> 11 | F30: =IF(D30*E30=0,"",D30*E30)
A31: ='Semana 1'!A31 -> Sentadillas (set 4) | B31: ='Semana 1'!B31 -> 1 | C31: ='Semana 1'!C31 -> 10
A32: ='Semana 1'!A32 -> Sentadillas (set 5) | B32: ='Semana 1'!B32 -> 1 | C32: ='Semana 1'!C32 -> 9
A33: ='Semana 1'!A33 -> Sentadillas (set 6) | B33: ='Semana 1'!B33 -> 1 | C33: ='Semana 1'!C33 -> 8 | F33: =IF(D33*E33=0,"",D33*E33)
A34: ='Semana 1'!A34 -> Prensa | B34: ='Semana 1'!B34 -> 1 | C34: ='Semana 1'!C34 -> 15 | F34: =IF(D34*E34=0,"",D34*E34)
A35: ='Semana 1'!A35 -> Prensa (set 2) | B35: ='Semana 1'!B35 -> 1 | C35: ='Semana 1'!C35 -> 12 | F35: =IF(D35*E35=0,"",D35*E35)
A36: ='Semana 1'!A36 -> Prensa (set 3) | B36: ='Semana 1'!B36 -> 1 | C36: ='Semana 1'!C36 -> 10 | F36: =IF(D36*E36=0,"",D36*E36)
A37: ='Semana 1'!A37 -> Curl de pierna | B37: ='Semana 1'!B37 -> 3 | C37: ='Semana 1'!C37 -> 44116 | F37: =IF(D37*E37=0,"",D37*E37)
A38: ='Semana 1'!A38 -> Extensiones de pierna | B38: ='Semana 1'!B38 -> 1 | C38: ='Semana 1'!C38 -> 12 | F38: =IF(D38*E38=0,"",D38*E38)
A39: ='Semana 1'!A39 -> Extensiones de pierna (set 2) | B39: ='Semana 1'!B39 -> 1 | C39: ='Semana 1'!C39 -> 10 | F39: =IF(D39*E39=0,"",D39*E39)
A40: ='Semana 1'!A40 -> Extensiones de pierna (set 3) | B40: ='Semana 1'!B40 -> 1 | C40: ='Semana 1'!C40 -> 8 | F40: =IF(D40*E40=0,"",D40*E40)
A41: ='Semana 1'!A41 -> Elevación de gemelos | B41: ='Semana 1'!B41 -> 3 | C41: ='Semana 1'!C41 -> 15-20 | F41: =IF(D41*E41=0,"",D41*E41)
...

Sheet Semana 6
A2: ='Semana 1'!A2 -> Dia 1: Espalda, biceps, antebrazo y abdominales | B2: ='Semana 1'!B2 -> 0 | C2: ='Semana 1'!C2 -> 0
A3: ='Semana 1'!A3 -> 0 | B3: ='Semana 1'!B3 -> 0 | C3: ='Semana 1'!C3 -> 0
A4: ='Semana 1'!A4 -> Ejercicios | B4: ='Semana 1'!B4 -> Sets | C4: ='Semana 1'!C4 -> Reps | D4: Peso | E4: Total Reps | F4: Volumen
A5: ='Semana 1'!A5 -> Peso muerto con agarre ancho | B5: ='Semana 1'!B5 -> 1 | C5: ='Semana 1'!C5 -> 15 | F5: =D5*E5 -> 0
A6: ='Semana 1'!A6 -> Peso muerto con agarre ancho (set 2) | B6: ='Semana 1'!B6 -> 1 | C6: ='Semana 1'!C6 -> 12 | F6: =IF(D6*E6=0,"",D6*E6)
A7: ='Semana 1'!A7 -> Peso muerto con agarre ancho (set 3) | B7: ='Semana 1'!B7 -> 1 | C7: ='Semana 1'!C7 -> 10 | F7: =IF(D7*E7=0,"",D7*E7)
A8: ='Semana 1'!A8 -> Peso muerto parcial con agarre ancho desde bloques o rack (set 4,5) | B8: ='Semana 1'!B8 -> 2 | C8: ='Semana 1'!C8 -> 10 | F8: =IF(D8*E8=0,"",D8*E8)
A9: ='Semana 1'!A9 -> Peso muerto parcial con agarre ancho desde bloques o rack (set 6) | B9: ='Semana 1'!B9 -> 1 | C9: ='Semana 1'!C9 -> 8 | F9: =IF(D9*E9=0,"",D9*E9)
A10: ='Semana 1'!A10 -> Remo en barra T | B10: ='Semana 1'!B10 -> 1 | C10: ='Semana 1'!C10 -> 12 | F10: =IF(D10*E10=0,"",D10*E10)
A11: ='Semana 1'!A11 -> Remo en barra T (set 2) | B11: ='Semana 1'!B11 -> 1 | C11: ='Semana 1'!C11 -> 10 | F11: =IF(D11*E11=0,"",D11*E11)
A12: ='Semana 1'!A12 -> Remo en barra T (set 3) | B12: ='Semana 1'!B12 -> 1 | C12: ='Semana 1'!C12 -> 8
A13: ='Semana 1'!A13 -> Jalón al pecho | B13: ='Semana 1'!B13 -> 3 | C13: ='Semana 1'!C13 -> 44053
A14: ='Semana 1'!A14 -> Remo con mancuernas | B14: ='Semana 1'!B14 -> 3 | C14: ='Semana 1'!C14 -> 44053
A15: ='Semana 1'!A15 -> Curl de bíceps concentrado | B15: ='Semana 1'!B15 -> 3 | C15: ='Semana 1'!C15 -> 44053 | F15: =IF(D15*E15=0,"",D15*E15)
A16: ='Semana 1'!A16 -> Curl de bíceps con mancuerna alterno | B16: ='Semana 1'!B16 -> 3 | C16: ='Semana 1'!C16 -> 44053 | F16: =IF(D16*E16=0,"",D16*E16)
A17: ='Semana 1'!A17 -> Curl invertido con barra (SS1) | B17: ='Semana 1'!B17 -> 2 | C17: ='Semana 1'!C17 -> 12 | F17: =IF(D17*E17=0,"",D17*E17)
A18: ='Semana 1'!A18 -> Curl de muñeca con barra (SS1) | B18: ='Semana 1'!B18 -> 2 | C18: ='Semana 1'!C18 -> 20 | F18: =IF(D18*E18=0,"",D18*E18)
A19: ='Semana 1'!A19 -> Abdominales (SS2) | B19: ='Semana 1'!B19 -> * | C19: ='Semana 1'!C19 -> 50 | F19: =IF(D19*E19=0,"",D19*E19)
A20: ='Semana 1'!A20 -> Elevacion de piernas SS2) | B20: ='Semana 1'!B20 -> * | C20: ='Semana 1'!C20 -> 50 | F20: =IF(D20*E20=0,"",D20*E20)
A21: ='Semana 1'!A21 -> Elevación de rodillas en suspensión (SS3) | B21: ='Semana 1'!B21 -> * | C21: ='Semana 1'!C21 -> 50 | F21: =IF(D21*E21=0,"",D21*E21)
A22: ='Semana 1'!A22 -> Twists (SS3) | B22: ='Semana 1'!B22 -> * | C22: ='Semana 1'!C22 -> 50
A23: ='Semana 1'!A23 -> 0 | B23: ='Semana 1'!B23 -> 0 | C23: ='Semana 1'!C23 -> 0
A24: ='Semana 1'!A24 -> Dia 2: Piernas, gemelos y abdominales | B24: ='Semana 1'!B24 -> 0 | C24: ='Semana 1'!C24 -> 0
A25: ='Semana 1'!A25 -> 0 | B25: ='Semana 1'!B25 -> 0 | C25: ='Semana 1'!C25 -> 0 | F25: =IF(D25*E25=0,"",D25*E25)
A26: ='Semana 1'!A26 -> Ejercicioss | B26: ='Semana 1'!B26 -> Sets | C26: ='Semana 1'!C26 -> Reps | F26: =IF(D26*E26=0,"",D26*E26)
A27: ='Semana 1'!A27 -> Extensiones de pierna (Como calentamiento) | B27: ='Semana 1'!B27 -> 0 | C27: ='Semana 1'!C27 -> 0 | F27: =IF(D27*E27=0,"",D27*E27)
A28: ='Semana 1'!A28 -> Sentadillas | B28: ='Semana 1'!B28 -> 1 | C28: ='Semana 1'!C28 -> 15 | F28: =IF(D28*E28=0,"",D28*E28)
A29: ='Semana 1'!A29 -> Sentadillas (set 2) | B29: ='Semana 1'!B29 -> 1 | C29: ='Semana 1'!C29 -> 12 | F29: =IF(D29*E29=0,"",D29*E29)
A30: ='Semana 1'!A30 -> Sentadillas (set 3) | B30: ='Semana 1'!B30 -> 1 | C30: ='Semana 1'!C30 -> 11 | F30: =IF(D30*E30=0,"",D30*E30)
A31: ='Semana 1'!A31 -> Sentadillas (set 4) | B31: ='Semana 1'!B31 -> 1 | C31: ='Semana 1'!C31 -> 10
A32: ='Semana 1'!A32 -> Sentadillas (set 5) | B32: ='Semana 1'!B32 -> 1 | C32: ='Semana 1'!C32 -> 9
A33: ='Semana 1'!A33 -> Sentadillas (set 6) | B33: ='Semana 1'!B33 -> 1 | C33: ='Semana 1'!C33 -> 8 | F33: =IF(D33*E33=0,"",D33*E33)
A34: ='Semana 1'!A34 -> Prensa | B34: ='Semana 1'!B34 -> 1 | C34: ='Semana 1'!C34 -> 15 | F34: =IF(D34*E34=0,"",D34*E34)
A35: ='Semana 1'!A35 -> Prensa (set 2) | B35: ='Semana 1'!B35 -> 1 | C35: ='Semana 1'!C35 -> 12 | F35: =IF(D35*E35=0,"",D35*E35)
A36: ='Semana 1'!A36 -> Prensa (set 3) | B36: ='Semana 1'!B36 -> 1 | C36: ='Semana 1'!C36 -> 10 | F36: =IF(D36*E36=0,"",D36*E36)
A37: ='Semana 1'!A37 -> Curl de pierna | B37: ='Semana 1'!B37 -> 3 | C37: ='Semana 1'!C37 -> 44116 | F37: =IF(D37*E37=0,"",D37*E37)
A38: ='Semana 1'!A38 -> Extensiones de pierna | B38: ='Semana 1'!B38 -> 1 | C38: ='Semana 1'!C38 -> 12 | F38: =IF(D38*E38=0,"",D38*E38)
A39: ='Semana 1'!A39 -> Extensiones de pierna (set 2) | B39: ='Semana 1'!B39 -> 1 | C39: ='Semana 1'!C39 -> 10 | F39: =IF(D39*E39=0,"",D39*E39)
A40: ='Semana 1'!A40 -> Extensiones de pierna (set 3) | B40: ='Semana 1'!B40 -> 1 | C40: ='Semana 1'!C40 -> 8 | F40: =IF(D40*E40=0,"",D40*E40)
A41: ='Semana 1'!A41 -> Elevación de gemelos | B41: ='Semana 1'!B41 -> 3 | C41: ='Semana 1'!C41 -> 15-20 | F41: =IF(D41*E41=0,"",D41*E41)
...

Sheet Semana 7
A2: ='Semana 1'!A2 -> Dia 1: Espalda, biceps, antebrazo y abdominales | B2: ='Semana 1'!B2 -> 0 | C2: ='Semana 1'!C2 -> 0
A3: ='Semana 1'!A3 -> 0 | B3: ='Semana 1'!B3 -> 0 | C3: ='Semana 1'!C3 -> 0
A4: ='Semana 1'!A4 -> Ejercicios | B4: ='Semana 1'!B4 -> Sets | C4: ='Semana 1'!C4 -> Reps | D4: Peso | E4: Total Reps | F4: Volumen
A5: ='Semana 1'!A5 -> Peso muerto con agarre ancho | B5: ='Semana 1'!B5 -> 1 | C5: ='Semana 1'!C5 -> 15 | F5: =D5*E5 -> 0
A6: ='Semana 1'!A6 -> Peso muerto con agarre ancho (set 2) | B6: ='Semana 1'!B6 -> 1 | C6: ='Semana 1'!C6 -> 12 | F6: =IF(D6*E6=0,"",D6*E6)
A7: ='Semana 1'!A7 -> Peso muerto con agarre ancho (set 3) | B7: ='Semana 1'!B7 -> 1 | C7: ='Semana 1'!C7 -> 10 | F7: =IF(D7*E7=0,"",D7*E7)
A8: ='Semana 1'!A8 -> Peso muerto parcial con agarre ancho desde bloques o rack (set 4,5) | B8: ='Semana 1'!B8 -> 2 | C8: ='Semana 1'!C8 -> 10 | F8: =IF(D8*E8=0,"",D8*E8)
A9: ='Semana 1'!A9 -> Peso muerto parcial con agarre ancho desde bloques o rack (set 6) | B9: ='Semana 1'!B9 -> 1 | C9: ='Semana 1'!C9 -> 8 | F9: =IF(D9*E9=0,"",D9*E9)
A10: ='Semana 1'!A10 -> Remo en barra T | B10: ='Semana 1'!B10 -> 1 | C10: ='Semana 1'!C10 -> 12 | F10: =IF(D10*E10=0,"",D10*E10)
A11: ='Semana 1'!A11 -> Remo en barra T (set 2) | B11: ='Semana 1'!B11 -> 1 | C11: ='Semana 1'!C11 -> 10 | F11: =IF(D11*E11=0,"",D11*E11)
A12: ='Semana 1'!A12 -> Remo en barra T (set 3) | B12: ='Semana 1'!B12 -> 1 | C12: ='Semana 1'!C12 -> 8
A13: ='Semana 1'!A13 -> Jalón al pecho | B13: ='Semana 1'!B13 -> 3 | C13: ='Semana 1'!C13 -> 44053
A14: ='Semana 1'!A14 -> Remo con mancuernas | B14: ='Semana 1'!B14 -> 3 | C14: ='Semana 1'!C14 -> 44053
A15: ='Semana 1'!A15 -> Curl de bíceps concentrado | B15: ='Semana 1'!B15 -> 3 | C15: ='Semana 1'!C15 -> 44053 | F15: =IF(D15*E15=0,"",D15*E15)
A16: ='Semana 1'!A16 -> Curl de bíceps con mancuerna alterno | B16: ='Semana 1'!B16 -> 3 | C16: ='Semana 1'!C16 -> 44053 | F16: =IF(D16*E16=0,"",D16*E16)
A17: ='Semana 1'!A17 -> Curl invertido con barra (SS1) | B17: ='Semana 1'!B17 -> 2 | C17: ='Semana 1'!C17 -> 12 | F17: =IF(D17*E17=0,"",D17*E17)
A18: ='Semana 1'!A18 -> Curl de muñeca con barra (SS1) | B18: ='Semana 1'!B18 -> 2 | C18: ='Semana 1'!C18 -> 20 | F18: =IF(D18*E18=0,"",D18*E18)
A19: ='Semana 1'!A19 -> Abdominales (SS2) | B19: ='Semana 1'!B19 -> * | C19: ='Semana 1'!C19 -> 50 | F19: =IF(D19*E19=0,"",D19*E19)
A20: ='Semana 1'!A20 -> Elevacion de piernas SS2) | B20: ='Semana 1'!B20 -> * | C20: ='Semana 1'!C20 -> 50 | F20: =IF(D20*E20=0,"",D20*E20)
A21: ='Semana 1'!A21 -> Elevación de rodillas en suspensión (SS3) | B21: ='Semana 1'!B21 -> * | C21: ='Semana 1'!C21 -> 50 | F21: =IF(D21*E21=0,"",D21*E21)
A22: ='Semana 1'!A22 -> Twists (SS3) | B22: ='Semana 1'!B22 -> * | C22: ='Semana 1'!C22 -> 50
A23: ='Semana 1'!A23 -> 0 | B23: ='Semana 1'!B23 -> 0 | C23: ='Semana 1'!C23 -> 0
A24: ='Semana 1'!A24 -> Dia 2: Piernas, gemelos y abdominales | B24: ='Semana 1'!B24 -> 0 | C24: ='Semana 1'!C24 -> 0
A25: ='Semana 1'!A25 -> 0 | B25: ='Semana 1'!B25 -> 0 | C25: ='Semana 1'!C25 -> 0 | F25: =IF(D25*E25=0,"",D25*E25)
A26: ='Semana 1'!A26 -> Ejercicioss | B26: ='Semana 1'!B26 -> Sets | C26: ='Semana 1'!C26 -> Reps | F26: =IF(D26*E26=0,"",D26*E26)
A27: ='Semana 1'!A27 -> Extensiones de pierna (Como calentamiento) | B27: ='Semana 1'!B27 -> 0 | C27: ='Semana 1'!C27 -> 0 | F27: =IF(D27*E27=0,"",D27*E27)
A28: ='Semana 1'!A28 -> Sentadillas | B28: ='Semana 1'!B28 -> 1 | C28: ='Semana 1'!C28 -> 15 | F28: =IF(D28*E28=0,"",D28*E28)
A29: ='Semana 1'!A29 -> Sentadillas (set 2) | B29: ='Semana 1'!B29 -> 1 | C29: ='Semana 1'!C29 -> 12 | F29: =IF(D29*E29=0,"",D29*E29)
A30: ='Semana 1'!A30 -> Sentadillas (set 3) | B30: ='Semana 1'!B30 -> 1 | C30: ='Semana 1'!C30 -> 11 | F30: =IF(D30*E30=0,"",D30*E30)
A31: ='Semana 1'!A31 -> Sentadillas (set 4) | B31: ='Semana 1'!B31 -> 1 | C31: ='Semana 1'!C31 -> 10
A32: ='Semana 1'!A32 -> Sentadillas (set 5) | B32: ='Semana 1'!B32 -> 1 | C32: ='Semana 1'!C32 -> 9
A33: ='Semana 1'!A33 -> Sentadillas (set 6) | B33: ='Semana 1'!B33 -> 1 | C33: ='Semana 1'!C33 -> 8 | F33: =IF(D33*E33=0,"",D33*E33)
A34: ='Semana 1'!A34 -> Prensa | B34: ='Semana 1'!B34 -> 1 | C34: ='Semana 1'!C34 -> 15 | F34: =IF(D34*E34=0,"",D34*E34)
A35: ='Semana 1'!A35 -> Prensa (set 2) | B35: ='Semana 1'!B35 -> 1 | C35: ='Semana 1'!C35 -> 12 | F35: =IF(D35*E35=0,"",D35*E35)
A36: ='Semana 1'!A36 -> Prensa (set 3) | B36: ='Semana 1'!B36 -> 1 | C36: ='Semana 1'!C36 -> 10 | F36: =IF(D36*E36=0,"",D36*E36)
A37: ='Semana 1'!A37 -> Curl de pierna | B37: ='Semana 1'!B37 -> 3 | C37: ='Semana 1'!C37 -> 44116 | F37: =IF(D37*E37=0,"",D37*E37)
A38: ='Semana 1'!A38 -> Extensiones de pierna | B38: ='Semana 1'!B38 -> 1 | C38: ='Semana 1'!C38 -> 12 | F38: =IF(D38*E38=0,"",D38*E38)
A39: ='Semana 1'!A39 -> Extensiones de pierna (set 2) | B39: ='Semana 1'!B39 -> 1 | C39: ='Semana 1'!C39 -> 10 | F39: =IF(D39*E39=0,"",D39*E39)
A40: ='Semana 1'!A40 -> Extensiones de pierna (set 3) | B40: ='Semana 1'!B40 -> 1 | C40: ='Semana 1'!C40 -> 8 | F40: =IF(D40*E40=0,"",D40*E40)
A41: ='Semana 1'!A41 -> Elevación de gemelos | B41: ='Semana 1'!B41 -> 3 | C41: ='Semana 1'!C41 -> 15-20 | F41: =IF(D41*E41=0,"",D41*E41)
...

Sheet Semana 8
A2: ='Semana 1'!A2 -> Dia 1: Espalda, biceps, antebrazo y abdominales | B2: ='Semana 1'!B2 -> 0 | C2: ='Semana 1'!C2 -> 0
A3: ='Semana 1'!A3 -> 0 | B3: ='Semana 1'!B3 -> 0 | C3: ='Semana 1'!C3 -> 0
A4: ='Semana 1'!A4 -> Ejercicios | B4: ='Semana 1'!B4 -> Sets | C4: ='Semana 1'!C4 -> Reps | D4: Peso | E4: Total Reps | F4: Volumen
A5: ='Semana 1'!A5 -> Peso muerto con agarre ancho | B5: ='Semana 1'!B5 -> 1 | C5: ='Semana 1'!C5 -> 15 | F5: =D5*E5 -> 0
A6: ='Semana 1'!A6 -> Peso muerto con agarre ancho (set 2) | B6: ='Semana 1'!B6 -> 1 | C6: ='Semana 1'!C6 -> 12 | F6: =IF(D6*E6=0,"",D6*E6)
A7: ='Semana 1'!A7 -> Peso muerto con agarre ancho (set 3) | B7: ='Semana 1'!B7 -> 1 | C7: ='Semana 1'!C7 -> 10 | F7: =IF(D7*E7=0,"",D7*E7)
A8: ='Semana 1'!A8 -> Peso muerto parcial con agarre ancho desde bloques o rack (set 4,5) | B8: ='Semana 1'!B8 -> 2 | C8: ='Semana 1'!C8 -> 10 | F8: =IF(D8*E8=0,"",D8*E8)
A9: ='Semana 1'!A9 -> Peso muerto parcial con agarre ancho desde bloques o rack (set 6) | B9: ='Semana 1'!B9 -> 1 | C9: ='Semana 1'!C9 -> 8 | F9: =IF(D9*E9=0,"",D9*E9)
A10: ='Semana 1'!A10 -> Remo en barra T | B10: ='Semana 1'!B10 -> 1 | C10: ='Semana 1'!C10 -> 12 | F10: =IF(D10*E10=0,"",D10*E10)
A11: ='Semana 1'!A11 -> Remo en barra T (set 2) | B11: ='Semana 1'!B11 -> 1 | C11: ='Semana 1'!C11 -> 10 | F11: =IF(D11*E11=0,"",D11*E11)
A12: ='Semana 1'!A12 -> Remo en barra T (set 3) | B12: ='Semana 1'!B12 -> 1 | C12: ='Semana 1'!C12 -> 8
A13: ='Semana 1'!A13 -> Jalón al pecho | B13: ='Semana 1'!B13 -> 3 | C13: ='Semana 1'!C13 -> 44053
A14: ='Semana 1'!A14 -> Remo con mancuernas | B14: ='Semana 1'!B14 -> 3 | C14: ='Semana 1'!C14 -> 44053
A15: ='Semana 1'!A15 -> Curl de bíceps concentrado | B15: ='Semana 1'!B15 -> 3 | C15: ='Semana 1'!C15 -> 44053 | F15: =IF(D15*E15=0,"",D15*E15)
A16: ='Semana 1'!A16 -> Curl de bíceps con mancuerna alterno | B16: ='Semana 1'!B16 -> 3 | C16: ='Semana 1'!C16 -> 44053 | F16: =IF(D16*E16=0,"",D16*E16)
A17: ='Semana 1'!A17 -> Curl invertido con barra (SS1) | B17: ='Semana 1'!B17 -> 2 | C17: ='Semana 1'!C17 -> 12 | F17: =IF(D17*E17=0,"",D17*E17)
A18: ='Semana 1'!A18 -> Curl de muñeca con barra (SS1) | B18: ='Semana 1'!B18 -> 2 | C18: ='Semana 1'!C18 -> 20 | F18: =IF(D18*E18=0,"",D18*E18)
A19: ='Semana 1'!A19 -> Abdominales (SS2) | B19: ='Semana 1'!B19 -> * | C19: ='Semana 1'!C19 -> 50 | F19: =IF(D19*E19=0,"",D19*E19)
A20: ='Semana 1'!A20 -> Elevacion de piernas SS2) | B20: ='Semana 1'!B20 -> * | C20: ='Semana 1'!C20 -> 50 | F20: =IF(D20*E20=0,"",D20*E20)
A21: ='Semana 1'!A21 -> Elevación de rodillas en suspensión (SS3) | B21: ='Semana 1'!B21 -> * | C21: ='Semana 1'!C21 -> 50 | F21: =IF(D21*E21=0,"",D21*E21)
A22: ='Semana 1'!A22 -> Twists (SS3) | B22: ='Semana 1'!B22 -> * | C22: ='Semana 1'!C22 -> 50
A23: ='Semana 1'!A23 -> 0 | B23: ='Semana 1'!B23 -> 0 | C23: ='Semana 1'!C23 -> 0
A24: ='Semana 1'!A24 -> Dia 2: Piernas, gemelos y abdominales | B24: ='Semana 1'!B24 -> 0 | C24: ='Semana 1'!C24 -> 0
A25: ='Semana 1'!A25 -> 0 | B25: ='Semana 1'!B25 -> 0 | C25: ='Semana 1'!C25 -> 0 | F25: =IF(D25*E25=0,"",D25*E25)
A26: ='Semana 1'!A26 -> Ejercicioss | B26: ='Semana 1'!B26 -> Sets | C26: ='Semana 1'!C26 -> Reps | F26: =IF(D26*E26=0,"",D26*E26)
A27: ='Semana 1'!A27 -> Extensiones de pierna (Como calentamiento) | B27: ='Semana 1'!B27 -> 0 | C27: ='Semana 1'!C27 -> 0 | F27: =IF(D27*E27=0,"",D27*E27)
A28: ='Semana 1'!A28 -> Sentadillas | B28: ='Semana 1'!B28 -> 1 | C28: ='Semana 1'!C28 -> 15 | F28: =IF(D28*E28=0,"",D28*E28)
A29: ='Semana 1'!A29 -> Sentadillas (set 2) | B29: ='Semana 1'!B29 -> 1 | C29: ='Semana 1'!C29 -> 12 | F29: =IF(D29*E29=0,"",D29*E29)
A30: ='Semana 1'!A30 -> Sentadillas (set 3) | B30: ='Semana 1'!B30 -> 1 | C30: ='Semana 1'!C30 -> 11 | F30: =IF(D30*E30=0,"",D30*E30)
A31: ='Semana 1'!A31 -> Sentadillas (set 4) | B31: ='Semana 1'!B31 -> 1 | C31: ='Semana 1'!C31 -> 10
A32: ='Semana 1'!A32 -> Sentadillas (set 5) | B32: ='Semana 1'!B32 -> 1 | C32: ='Semana 1'!C32 -> 9
A33: ='Semana 1'!A33 -> Sentadillas (set 6) | B33: ='Semana 1'!B33 -> 1 | C33: ='Semana 1'!C33 -> 8 | F33: =IF(D33*E33=0,"",D33*E33)
A34: ='Semana 1'!A34 -> Prensa | B34: ='Semana 1'!B34 -> 1 | C34: ='Semana 1'!C34 -> 15 | F34: =IF(D34*E34=0,"",D34*E34)
A35: ='Semana 1'!A35 -> Prensa (set 2) | B35: ='Semana 1'!B35 -> 1 | C35: ='Semana 1'!C35 -> 12 | F35: =IF(D35*E35=0,"",D35*E35)
A36: ='Semana 1'!A36 -> Prensa (set 3) | B36: ='Semana 1'!B36 -> 1 | C36: ='Semana 1'!C36 -> 10 | F36: =IF(D36*E36=0,"",D36*E36)
A37: ='Semana 1'!A37 -> Curl de pierna | B37: ='Semana 1'!B37 -> 3 | C37: ='Semana 1'!C37 -> 44116 | F37: =IF(D37*E37=0,"",D37*E37)
A38: ='Semana 1'!A38 -> Extensiones de pierna | B38: ='Semana 1'!B38 -> 1 | C38: ='Semana 1'!C38 -> 12 | F38: =IF(D38*E38=0,"",D38*E38)
A39: ='Semana 1'!A39 -> Extensiones de pierna (set 2) | B39: ='Semana 1'!B39 -> 1 | C39: ='Semana 1'!C39 -> 10 | F39: =IF(D39*E39=0,"",D39*E39)
A40: ='Semana 1'!A40 -> Extensiones de pierna (set 3) | B40: ='Semana 1'!B40 -> 1 | C40: ='Semana 1'!C40 -> 8 | F40: =IF(D40*E40=0,"",D40*E40)
A41: ='Semana 1'!A41 -> Elevación de gemelos | B41: ='Semana 1'!B41 -> 3 | C41: ='Semana 1'!C41 -> 15-20 | F41: =IF(D41*E41=0,"",D41*E41)
...

Sheet Semana 9
A2: ='Semana 1'!A2 -> Dia 1: Espalda, biceps, antebrazo y abdominales | B2: ='Semana 1'!B2 -> 0 | C2: ='Semana 1'!C2 -> 0
A3: ='Semana 1'!A3 -> 0 | B3: ='Semana 1'!B3 -> 0 | C3: ='Semana 1'!C3 -> 0
A4: ='Semana 1'!A4 -> Ejercicios | B4: ='Semana 1'!B4 -> Sets | C4: ='Semana 1'!C4 -> Reps | D4: Peso | E4: Total Reps | F4: Volumen
A5: ='Semana 1'!A5 -> Peso muerto con agarre ancho | B5: ='Semana 1'!B5 -> 1 | C5: ='Semana 1'!C5 -> 15 | F5: =D5*E5 -> 0
A6: ='Semana 1'!A6 -> Peso muerto con agarre ancho (set 2) | B6: ='Semana 1'!B6 -> 1 | C6: ='Semana 1'!C6 -> 12 | F6: =IF(D6*E6=0,"",D6*E6)
A7: ='Semana 1'!A7 -> Peso muerto con agarre ancho (set 3) | B7: ='Semana 1'!B7 -> 1 | C7: ='Semana 1'!C7 -> 10 | F7: =IF(D7*E7=0,"",D7*E7)
A8: ='Semana 1'!A8 -> Peso muerto parcial con agarre ancho desde bloques o rack (set 4,5) | B8: ='Semana 1'!B8 -> 2 | C8: ='Semana 1'!C8 -> 10 | F8: =IF(D8*E8=0,"",D8*E8)
A9: ='Semana 1'!A9 -> Peso muerto parcial con agarre ancho desde bloques o rack (set 6) | B9: ='Semana 1'!B9 -> 1 | C9: ='Semana 1'!C9 -> 8 | F9: =IF(D9*E9=0,"",D9*E9)
A10: ='Semana 1'!A10 -> Remo en barra T | B10: ='Semana 1'!B10 -> 1 | C10: ='Semana 1'!C10 -> 12 | F10: =IF(D10*E10=0,"",D10*E10)
A11: ='Semana 1'!A11 -> Remo en barra T (set 2) | B11: ='Semana 1'!B11 -> 1 | C11: ='Semana 1'!C11 -> 10 | F11: =IF(D11*E11=0,"",D11*E11)
A12: ='Semana 1'!A12 -> Remo en barra T (set 3) | B12: ='Semana 1'!B12 -> 1 | C12: ='Semana 1'!C12 -> 8
A13: ='Semana 1'!A13 -> Jalón al pecho | B13: ='Semana 1'!B13 -> 3 | C13: ='Semana 1'!C13 -> 44053
A14: ='Semana 1'!A14 -> Remo con mancuernas | B14: ='Semana 1'!B14 -> 3 | C14: ='Semana 1'!C14 -> 44053
A15: ='Semana 1'!A15 -> Curl de bíceps concentrado | B15: ='Semana 1'!B15 -> 3 | C15: ='Semana 1'!C15 -> 44053 | F15: =IF(D15*E15=0,"",D15*E15)
A16: ='Semana 1'!A16 -> Curl de bíceps con mancuerna alterno | B16: ='Semana 1'!B16 -> 3 | C16: ='Semana 1'!C16 -> 44053 | F16: =IF(D16*E16=0,"",D16*E16)
A17: ='Semana 1'!A17 -> Curl invertido con barra (SS1) | B17: ='Semana 1'!B17 -> 2 | C17: ='Semana 1'!C17 -> 12 | F17: =IF(D17*E17=0,"",D17*E17)
A18: ='Semana 1'!A18 -> Curl de muñeca con barra (SS1) | B18: ='Semana 1'!B18 -> 2 | C18: ='Semana 1'!C18 -> 20 | F18: =IF(D18*E18=0,"",D18*E18)
A19: ='Semana 1'!A19 -> Abdominales (SS2) | B19: ='Semana 1'!B19 -> * | C19: ='Semana 1'!C19 -> 50 | F19: =IF(D19*E19=0,"",D19*E19)
A20: ='Semana 1'!A20 -> Elevacion de piernas SS2) | B20: ='Semana 1'!B20 -> * | C20: ='Semana 1'!C20 -> 50 | F20: =IF(D20*E20=0,"",D20*E20)
A21: ='Semana 1'!A21 -> Elevación de rodillas en suspensión (SS3) | B21: ='Semana 1'!B21 -> * | C21: ='Semana 1'!C21 -> 50 | F21: =IF(D21*E21=0,"",D21*E21)
A22: ='Semana 1'!A22 -> Twists (SS3) | B22: ='Semana 1'!B22 -> * | C22: ='Semana 1'!C22 -> 50
A23: ='Semana 1'!A23 -> 0 | B23: ='Semana 1'!B23 -> 0 | C23: ='Semana 1'!C23 -> 0
A24: ='Semana 1'!A24 -> Dia 2: Piernas, gemelos y abdominales | B24: ='Semana 1'!B24 -> 0 | C24: ='Semana 1'!C24 -> 0
A25: ='Semana 1'!A25 -> 0 | B25: ='Semana 1'!B25 -> 0 | C25: ='Semana 1'!C25 -> 0 | F25: =IF(D25*E25=0,"",D25*E25)
A26: ='Semana 1'!A26 -> Ejercicioss | B26: ='Semana 1'!B26 -> Sets | C26: ='Semana 1'!C26 -> Reps | F26: =IF(D26*E26=0,"",D26*E26)
A27: ='Semana 1'!A27 -> Extensiones de pierna (Como calentamiento) | B27: ='Semana 1'!B27 -> 0 | C27: ='Semana 1'!C27 -> 0 | F27: =IF(D27*E27=0,"",D27*E27)
A28: ='Semana 1'!A28 -> Sentadillas | B28: ='Semana 1'!B28 -> 1 | C28: ='Semana 1'!C28 -> 15 | F28: =IF(D28*E28=0,"",D28*E28)
A29: ='Semana 1'!A29 -> Sentadillas (set 2) | B29: ='Semana 1'!B29 -> 1 | C29: ='Semana 1'!C29 -> 12 | F29: =IF(D29*E29=0,"",D29*E29)
A30: ='Semana 1'!A30 -> Sentadillas (set 3) | B30: ='Semana 1'!B30 -> 1 | C30: ='Semana 1'!C30 -> 11 | F30: =IF(D30*E30=0,"",D30*E30)
A31: ='Semana 1'!A31 -> Sentadillas (set 4) | B31: ='Semana 1'!B31 -> 1 | C31: ='Semana 1'!C31 -> 10
A32: ='Semana 1'!A32 -> Sentadillas (set 5) | B32: ='Semana 1'!B32 -> 1 | C32: ='Semana 1'!C32 -> 9
A33: ='Semana 1'!A33 -> Sentadillas (set 6) | B33: ='Semana 1'!B33 -> 1 | C33: ='Semana 1'!C33 -> 8 | F33: =IF(D33*E33=0,"",D33*E33)
A34: ='Semana 1'!A34 -> Prensa | B34: ='Semana 1'!B34 -> 1 | C34: ='Semana 1'!C34 -> 15 | F34: =IF(D34*E34=0,"",D34*E34)
A35: ='Semana 1'!A35 -> Prensa (set 2) | B35: ='Semana 1'!B35 -> 1 | C35: ='Semana 1'!C35 -> 12 | F35: =IF(D35*E35=0,"",D35*E35)
A36: ='Semana 1'!A36 -> Prensa (set 3) | B36: ='Semana 1'!B36 -> 1 | C36: ='Semana 1'!C36 -> 10 | F36: =IF(D36*E36=0,"",D36*E36)
A37: ='Semana 1'!A37 -> Curl de pierna | B37: ='Semana 1'!B37 -> 3 | C37: ='Semana 1'!C37 -> 44116 | F37: =IF(D37*E37=0,"",D37*E37)
A38: ='Semana 1'!A38 -> Extensiones de pierna | B38: ='Semana 1'!B38 -> 1 | C38: ='Semana 1'!C38 -> 12 | F38: =IF(D38*E38=0,"",D38*E38)
A39: ='Semana 1'!A39 -> Extensiones de pierna (set 2) | B39: ='Semana 1'!B39 -> 1 | C39: ='Semana 1'!C39 -> 10 | F39: =IF(D39*E39=0,"",D39*E39)
A40: ='Semana 1'!A40 -> Extensiones de pierna (set 3) | B40: ='Semana 1'!B40 -> 1 | C40: ='Semana 1'!C40 -> 8 | F40: =IF(D40*E40=0,"",D40*E40)
A41: ='Semana 1'!A41 -> Elevación de gemelos | B41: ='Semana 1'!B41 -> 3 | C41: ='Semana 1'!C41 -> 15-20 | F41: =IF(D41*E41=0,"",D41*E41)
...

Sheet Semana 10
A2: ='Semana 1'!A2 -> Dia 1: Espalda, biceps, antebrazo y abdominales | B2: ='Semana 1'!B2 -> 0 | C2: ='Semana 1'!C2 -> 0
A3: ='Semana 1'!A3 -> 0 | B3: ='Semana 1'!B3 -> 0 | C3: ='Semana 1'!C3 -> 0
A4: ='Semana 1'!A4 -> Ejercicios | B4: ='Semana 1'!B4 -> Sets | C4: ='Semana 1'!C4 -> Reps | D4: Peso | E4: Total Reps | F4: Volumen
A5: ='Semana 1'!A5 -> Peso muerto con agarre ancho | B5: ='Semana 1'!B5 -> 1 | C5: ='Semana 1'!C5 -> 15 | F5: =D5*E5 -> 0
A6: ='Semana 1'!A6 -> Peso muerto con agarre ancho (set 2) | B6: ='Semana 1'!B6 -> 1 | C6: ='Semana 1'!C6 -> 12 | F6: =IF(D6*E6=0,"",D6*E6)
A7: ='Semana 1'!A7 -> Peso muerto con agarre ancho (set 3) | B7: ='Semana 1'!B7 -> 1 | C7: ='Semana 1'!C7 -> 10 | F7: =IF(D7*E7=0,"",D7*E7)
A8: ='Semana 1'!A8 -> Peso muerto parcial con agarre ancho desde bloques o rack (set 4,5) | B8: ='Semana 1'!B8 -> 2 | C8: ='Semana 1'!C8 -> 10 | F8: =IF(D8*E8=0,"",D8*E8)
A9: ='Semana 1'!A9 -> Peso muerto parcial con agarre ancho desde bloques o rack (set 6) | B9: ='Semana 1'!B9 -> 1 | C9: ='Semana 1'!C9 -> 8 | F9: =IF(D9*E9=0,"",D9*E9)
A10: ='Semana 1'!A10 -> Remo en barra T | B10: ='Semana 1'!B10 -> 1 | C10: ='Semana 1'!C10 -> 12 | F10: =IF(D10*E10=0,"",D10*E10)
A11: ='Semana 1'!A11 -> Remo en barra T (set 2) | B11: ='Semana 1'!B11 -> 1 | C11: ='Semana 1'!C11 -> 10 | F11: =IF(D11*E11=0,"",D11*E11)
A12: ='Semana 1'!A12 -> Remo en barra T (set 3) | B12: ='Semana 1'!B12 -> 1 | C12: ='Semana 1'!C12 -> 8
A13: ='Semana 1'!A13 -> Jalón al pecho | B13: ='Semana 1'!B13 -> 3 | C13: ='Semana 1'!C13 -> 44053
A14: ='Semana 1'!A14 -> Remo con mancuernas | B14: ='Semana 1'!B14 -> 3 | C14: ='Semana 1'!C14 -> 44053
A15: ='Semana 1'!A15 -> Curl de bíceps concentrado | B15: ='Semana 1'!B15 -> 3 | C15: ='Semana 1'!C15 -> 44053 | F15: =IF(D15*E15=0,"",D15*E15)
A16: ='Semana 1'!A16 -> Curl de bíceps con mancuerna alterno | B16: ='Semana 1'!B16 -> 3 | C16: ='Semana 1'!C16 -> 44053 | F16: =IF(D16*E16=0,"",D16*E16)
A17: ='Semana 1'!A17 -> Curl invertido con barra (SS1) | B17: ='Semana 1'!B17 -> 2 | C17: ='Semana 1'!C17 -> 12 | F17: =IF(D17*E17=0,"",D17*E17)
A18: ='Semana 1'!A18 -> Curl de muñeca con barra (SS1) | B18: ='Semana 1'!B18 -> 2 | C18: ='Semana 1'!C18 -> 20 | F18: =IF(D18*E18=0,"",D18*E18)
A19: ='Semana 1'!A19 -> Abdominales (SS2) | B19: ='Semana 1'!B19 -> * | C19: ='Semana 1'!C19 -> 50 | F19: =IF(D19*E19=0,"",D19*E19)
A20: ='Semana 1'!A20 -> Elevacion de piernas SS2) | B20: ='Semana 1'!B20 -> * | C20: ='Semana 1'!C20 -> 50 | F20: =IF(D20*E20=0,"",D20*E20)
A21: ='Semana 1'!A21 -> Elevación de rodillas en suspensión (SS3) | B21: ='Semana 1'!B21 -> * | C21: ='Semana 1'!C21 -> 50 | F21: =IF(D21*E21=0,"",D21*E21)
A22: ='Semana 1'!A22 -> Twists (SS3) | B22: ='Semana 1'!B22 -> * | C22: ='Semana 1'!C22 -> 50
A23: ='Semana 1'!A23 -> 0 | B23: ='Semana 1'!B23 -> 0 | C23: ='Semana 1'!C23 -> 0
A24: ='Semana 1'!A24 -> Dia 2: Piernas, gemelos y abdominales | B24: ='Semana 1'!B24 -> 0 | C24: ='Semana 1'!C24 -> 0
A25: ='Semana 1'!A25 -> 0 | B25: ='Semana 1'!B25 -> 0 | C25: ='Semana 1'!C25 -> 0 | F25: =IF(D25*E25=0,"",D25*E25)
A26: ='Semana 1'!A26 -> Ejercicioss | B26: ='Semana 1'!B26 -> Sets | C26: ='Semana 1'!C26 -> Reps | F26: =IF(D26*E26=0,"",D26*E26)
A27: ='Semana 1'!A27 -> Extensiones de pierna (Como calentamiento) | B27: ='Semana 1'!B27 -> 0 | C27: ='Semana 1'!C27 -> 0 | F27: =IF(D27*E27=0,"",D27*E27)
A28: ='Semana 1'!A28 -> Sentadillas | B28: ='Semana 1'!B28 -> 1 | C28: ='Semana 1'!C28 -> 15 | F28: =IF(D28*E28=0,"",D28*E28)
A29: ='Semana 1'!A29 -> Sentadillas (set 2) | B29: ='Semana 1'!B29 -> 1 | C29: ='Semana 1'!C29 -> 12 | F29: =IF(D29*E29=0,"",D29*E29)
A30: ='Semana 1'!A30 -> Sentadillas (set 3) | B30: ='Semana 1'!B30 -> 1 | C30: ='Semana 1'!C30 -> 11 | F30: =IF(D30*E30=0,"",D30*E30)
A31: ='Semana 1'!A31 -> Sentadillas (set 4) | B31: ='Semana 1'!B31 -> 1 | C31: ='Semana 1'!C31 -> 10
A32: ='Semana 1'!A32 -> Sentadillas (set 5) | B32: ='Semana 1'!B32 -> 1 | C32: ='Semana 1'!C32 -> 9
A33: ='Semana 1'!A33 -> Sentadillas (set 6) | B33: ='Semana 1'!B33 -> 1 | C33: ='Semana 1'!C33 -> 8 | F33: =IF(D33*E33=0,"",D33*E33)
A34: ='Semana 1'!A34 -> Prensa | B34: ='Semana 1'!B34 -> 1 | C34: ='Semana 1'!C34 -> 15 | F34: =IF(D34*E34=0,"",D34*E34)
A35: ='Semana 1'!A35 -> Prensa (set 2) | B35: ='Semana 1'!B35 -> 1 | C35: ='Semana 1'!C35 -> 12 | F35: =IF(D35*E35=0,"",D35*E35)
A36: ='Semana 1'!A36 -> Prensa (set 3) | B36: ='Semana 1'!B36 -> 1 | C36: ='Semana 1'!C36 -> 10 | F36: =IF(D36*E36=0,"",D36*E36)
A37: ='Semana 1'!A37 -> Curl de pierna | B37: ='Semana 1'!B37 -> 3 | C37: ='Semana 1'!C37 -> 44116 | F37: =IF(D37*E37=0,"",D37*E37)
A38: ='Semana 1'!A38 -> Extensiones de pierna | B38: ='Semana 1'!B38 -> 1 | C38: ='Semana 1'!C38 -> 12 | F38: =IF(D38*E38=0,"",D38*E38)
A39: ='Semana 1'!A39 -> Extensiones de pierna (set 2) | B39: ='Semana 1'!B39 -> 1 | C39: ='Semana 1'!C39 -> 10 | F39: =IF(D39*E39=0,"",D39*E39)
A40: ='Semana 1'!A40 -> Extensiones de pierna (set 3) | B40: ='Semana 1'!B40 -> 1 | C40: ='Semana 1'!C40 -> 8 | F40: =IF(D40*E40=0,"",D40*E40)
A41: ='Semana 1'!A41 -> Elevación de gemelos | B41: ='Semana 1'!B41 -> 3 | C41: ='Semana 1'!C41 -> 15-20 | F41: =IF(D41*E41=0,"",D41*E41)
...

Sheet Semana 11
A2: ='Semana 1'!A2 -> Dia 1: Espalda, biceps, antebrazo y abdominales | B2: ='Semana 1'!B2 -> 0 | C2: ='Semana 1'!C2 -> 0
A3: ='Semana 1'!A3 -> 0 | B3: ='Semana 1'!B3 -> 0 | C3: ='Semana 1'!C3 -> 0
A4: ='Semana 1'!A4 -> Ejercicios | B4: ='Semana 1'!B4 -> Sets | C4: ='Semana 1'!C4 -> Reps | D4: Peso | E4: Total Reps | F4: Volumen
A5: ='Semana 1'!A5 -> Peso muerto con agarre ancho | B5: ='Semana 1'!B5 -> 1 | C5: ='Semana 1'!C5 -> 15 | F5: =D5*E5 -> 0
A6: ='Semana 1'!A6 -> Peso muerto con agarre ancho (set 2) | B6: ='Semana 1'!B6 -> 1 | C6: ='Semana 1'!C6 -> 12 | F6: =IF(D6*E6=0,"",D6*E6)
A7: ='Semana 1'!A7 -> Peso muerto con agarre ancho (set 3) | B7: ='Semana 1'!B7 -> 1 | C7: ='Semana 1'!C7 -> 10 | F7: =IF(D7*E7=0,"",D7*E7)
A8: ='Semana 1'!A8 -> Peso muerto parcial con agarre ancho desde bloques o rack (set 4,5) | B8: ='Semana 1'!B8 -> 2 | C8: ='Semana 1'!C8 -> 10 | F8: =IF(D8*E8=0,"",D8*E8)
A9: ='Semana 1'!A9 -> Peso muerto parcial con agarre ancho desde bloques o rack (set 6) | B9: ='Semana 1'!B9 -> 1 | C9: ='Semana 1'!C9 -> 8 | F9: =IF(D9*E9=0,"",D9*E9)
A10: ='Semana 1'!A10 -> Remo en barra T | B10: ='Semana 1'!B10 -> 1 | C10: ='Semana 1'!C10 -> 12 | F10: =IF(D10*E10=0,"",D10*E10)
A11: ='Semana 1'!A11 -> Remo en barra T (set 2) | B11: ='Semana 1'!B11 -> 1 | C11: ='Semana 1'!C11 -> 10 | F11: =IF(D11*E11=0,"",D11*E11)
A12: ='Semana 1'!A12 -> Remo en barra T (set 3) | B12: ='Semana 1'!B12 -> 1 | C12: ='Semana 1'!C12 -> 8
A13: ='Semana 1'!A13 -> Jalón al pecho | B13: ='Semana 1'!B13 -> 3 | C13: ='Semana 1'!C13 -> 44053
A14: ='Semana 1'!A14 -> Remo con mancuernas | B14: ='Semana 1'!B14 -> 3 | C14: ='Semana 1'!C14 -> 44053
A15: ='Semana 1'!A15 -> Curl de bíceps concentrado | B15: ='Semana 1'!B15 -> 3 | C15: ='Semana 1'!C15 -> 44053 | F15: =IF(D15*E15=0,"",D15*E15)
A16: ='Semana 1'!A16 -> Curl de bíceps con mancuerna alterno | B16: ='Semana 1'!B16 -> 3 | C16: ='Semana 1'!C16 -> 44053 | F16: =IF(D16*E16=0,"",D16*E16)
A17: ='Semana 1'!A17 -> Curl invertido con barra (SS1) | B17: ='Semana 1'!B17 -> 2 | C17: ='Semana 1'!C17 -> 12 | F17: =IF(D17*E17=0,"",D17*E17)
A18: ='Semana 1'!A18 -> Curl de muñeca con barra (SS1) | B18: ='Semana 1'!B18 -> 2 | C18: ='Semana 1'!C18 -> 20 | F18: =IF(D18*E18=0,"",D18*E18)
A19: ='Semana 1'!A19 -> Abdominales (SS2) | B19: ='Semana 1'!B19 -> * | C19: ='Semana 1'!C19 -> 50 | F19: =IF(D19*E19=0,"",D19*E19)
A20: ='Semana 1'!A20 -> Elevacion de piernas SS2) | B20: ='Semana 1'!B20 -> * | C20: ='Semana 1'!C20 -> 50 | F20: =IF(D20*E20=0,"",D20*E20)
A21: ='Semana 1'!A21 -> Elevación de rodillas en suspensión (SS3) | B21: ='Semana 1'!B21 -> * | C21: ='Semana 1'!C21 -> 50 | F21: =IF(D21*E21=0,"",D21*E21)
A22: ='Semana 1'!A22 -> Twists (SS3) | B22: ='Semana 1'!B22 -> * | C22: ='Semana 1'!C22 -> 50
A23: ='Semana 1'!A23 -> 0 | B23: ='Semana 1'!B23 -> 0 | C23: ='Semana 1'!C23 -> 0
A24: ='Semana 1'!A24 -> Dia 2: Piernas, gemelos y abdominales | B24: ='Semana 1'!B24 -> 0 | C24: ='Semana 1'!C24 -> 0
A25: ='Semana 1'!A25 -> 0 | B25: ='Semana 1'!B25 -> 0 | C25: ='Semana 1'!C25 -> 0 | F25: =IF(D25*E25=0,"",D25*E25)
A26: ='Semana 1'!A26 -> Ejercicioss | B26: ='Semana 1'!B26 -> Sets | C26: ='Semana 1'!C26 -> Reps | F26: =IF(D26*E26=0,"",D26*E26)
A27: ='Semana 1'!A27 -> Extensiones de pierna (Como calentamiento) | B27: ='Semana 1'!B27 -> 0 | C27: ='Semana 1'!C27 -> 0 | F27: =IF(D27*E27=0,"",D27*E27)
A28: ='Semana 1'!A28 -> Sentadillas | B28: ='Semana 1'!B28 -> 1 | C28: ='Semana 1'!C28 -> 15 | F28: =IF(D28*E28=0,"",D28*E28)
A29: ='Semana 1'!A29 -> Sentadillas (set 2) | B29: ='Semana 1'!B29 -> 1 | C29: ='Semana 1'!C29 -> 12 | F29: =IF(D29*E29=0,"",D29*E29)
A30: ='Semana 1'!A30 -> Sentadillas (set 3) | B30: ='Semana 1'!B30 -> 1 | C30: ='Semana 1'!C30 -> 11 | F30: =IF(D30*E30=0,"",D30*E30)
A31: ='Semana 1'!A31 -> Sentadillas (set 4) | B31: ='Semana 1'!B31 -> 1 | C31: ='Semana 1'!C31 -> 10
A32: ='Semana 1'!A32 -> Sentadillas (set 5) | B32: ='Semana 1'!B32 -> 1 | C32: ='Semana 1'!C32 -> 9
A33: ='Semana 1'!A33 -> Sentadillas (set 6) | B33: ='Semana 1'!B33 -> 1 | C33: ='Semana 1'!C33 -> 8 | F33: =IF(D33*E33=0,"",D33*E33)
A34: ='Semana 1'!A34 -> Prensa | B34: ='Semana 1'!B34 -> 1 | C34: ='Semana 1'!C34 -> 15 | F34: =IF(D34*E34=0,"",D34*E34)
A35: ='Semana 1'!A35 -> Prensa (set 2) | B35: ='Semana 1'!B35 -> 1 | C35: ='Semana 1'!C35 -> 12 | F35: =IF(D35*E35=0,"",D35*E35)
A36: ='Semana 1'!A36 -> Prensa (set 3) | B36: ='Semana 1'!B36 -> 1 | C36: ='Semana 1'!C36 -> 10 | F36: =IF(D36*E36=0,"",D36*E36)
A37: ='Semana 1'!A37 -> Curl de pierna | B37: ='Semana 1'!B37 -> 3 | C37: ='Semana 1'!C37 -> 44116 | F37: =IF(D37*E37=0,"",D37*E37)
A38: ='Semana 1'!A38 -> Extensiones de pierna | B38: ='Semana 1'!B38 -> 1 | C38: ='Semana 1'!C38 -> 12 | F38: =IF(D38*E38=0,"",D38*E38)
A39: ='Semana 1'!A39 -> Extensiones de pierna (set 2) | B39: ='Semana 1'!B39 -> 1 | C39: ='Semana 1'!C39 -> 10 | F39: =IF(D39*E39=0,"",D39*E39)
A40: ='Semana 1'!A40 -> Extensiones de pierna (set 3) | B40: ='Semana 1'!B40 -> 1 | C40: ='Semana 1'!C40 -> 8 | F40: =IF(D40*E40=0,"",D40*E40)
A41: ='Semana 1'!A41 -> Elevación de gemelos | B41: ='Semana 1'!B41 -> 3 | C41: ='Semana 1'!C41 -> 15-20 | F41: =IF(D41*E41=0,"",D41*E41)
...

Sheet Semana 12
A2: ='Semana 1'!A2 -> Dia 1: Espalda, biceps, antebrazo y abdominales | B2: ='Semana 1'!B2 -> 0 | C2: ='Semana 1'!C2 -> 0
A3: ='Semana 1'!A3 -> 0 | B3: ='Semana 1'!B3 -> 0 | C3: ='Semana 1'!C3 -> 0
A4: ='Semana 1'!A4 -> Ejercicios | B4: ='Semana 1'!B4 -> Sets | C4: ='Semana 1'!C4 -> Reps | D4: Peso | E4: Total Reps | F4: Volumen
A5: ='Semana 1'!A5 -> Peso muerto con agarre ancho | B5: ='Semana 1'!B5 -> 1 | C5: ='Semana 1'!C5 -> 15 | F5: =D5*E5 -> 0
A6: ='Semana 1'!A6 -> Peso muerto con agarre ancho (set 2) | B6: ='Semana 1'!B6 -> 1 | C6: ='Semana 1'!C6 -> 12 | F6: =IF(D6*E6=0,"",D6*E6)
A7: ='Semana 1'!A7 -> Peso muerto con agarre ancho (set 3) | B7: ='Semana 1'!B7 -> 1 | C7: ='Semana 1'!C7 -> 10 | F7: =IF(D7*E7=0,"",D7*E7)
A8: ='Semana 1'!A8 -> Peso muerto parcial con agarre ancho desde bloques o rack (set 4,5) | B8: ='Semana 1'!B8 -> 2 | C8: ='Semana 1'!C8 -> 10 | F8: =IF(D8*E8=0,"",D8*E8)
A9: ='Semana 1'!A9 -> Peso muerto parcial con agarre ancho desde bloques o rack (set 6) | B9: ='Semana 1'!B9 -> 1 | C9: ='Semana 1'!C9 -> 8 | F9: =IF(D9*E9=0,"",D9*E9)
A10: ='Semana 1'!A10 -> Remo en barra T | B10: ='Semana 1'!B10 -> 1 | C10: ='Semana 1'!C10 -> 12 | F10: =IF(D10*E10=0,"",D10*E10)
A11: ='Semana 1'!A11 -> Remo en barra T (set 2) | B11: ='Semana 1'!B11 -> 1 | C11: ='Semana 1'!C11 -> 10 | F11: =IF(D11*E11=0,"",D11*E11)
A12: ='Semana 1'!A12 -> Remo en barra T (set 3) | B12: ='Semana 1'!B12 -> 1 | C12: ='Semana 1'!C12 -> 8
A13: ='Semana 1'!A13 -> Jalón al pecho | B13: ='Semana 1'!B13 -> 3 | C13: ='Semana 1'!C13 -> 44053
A14: ='Semana 1'!A14 -> Remo con mancuernas | B14: ='Semana 1'!B14 -> 3 | C14: ='Semana 1'!C14 -> 44053
A15: ='Semana 1'!A15 -> Curl de bíceps concentrado | B15: ='Semana 1'!B15 -> 3 | C15: ='Semana 1'!C15 -> 44053 | F15: =IF(D15*E15=0,"",D15*E15)
A16: ='Semana 1'!A16 -> Curl de bíceps con mancuerna alterno | B16: ='Semana 1'!B16 -> 3 | C16: ='Semana 1'!C16 -> 44053 | F16: =IF(D16*E16=0,"",D16*E16)
A17: ='Semana 1'!A17 -> Curl invertido con barra (SS1) | B17: ='Semana 1'!B17 -> 2 | C17: ='Semana 1'!C17 -> 12 | F17: =IF(D17*E17=0,"",D17*E17)
A18: ='Semana 1'!A18 -> Curl de muñeca con barra (SS1) | B18: ='Semana 1'!B18 -> 2 | C18: ='Semana 1'!C18 -> 20 | F18: =IF(D18*E18=0,"",D18*E18)
A19: ='Semana 1'!A19 -> Abdominales (SS2) | B19: ='Semana 1'!B19 -> * | C19: ='Semana 1'!C19 -> 50 | F19: =IF(D19*E19=0,"",D19*E19)
A20: ='Semana 1'!A20 -> Elevacion de piernas SS2) | B20: ='Semana 1'!B20 -> * | C20: ='Semana 1'!C20 -> 50 | F20: =IF(D20*E20=0,"",D20*E20)
A21: ='Semana 1'!A21 -> Elevación de rodillas en suspensión (SS3) | B21: ='Semana 1'!B21 -> * | C21: ='Semana 1'!C21 -> 50 | F21: =IF(D21*E21=0,"",D21*E21)
A22: ='Semana 1'!A22 -> Twists (SS3) | B22: ='Semana 1'!B22 -> * | C22: ='Semana 1'!C22 -> 50
A23: ='Semana 1'!A23 -> 0 | B23: ='Semana 1'!B23 -> 0 | C23: ='Semana 1'!C23 -> 0
A24: ='Semana 1'!A24 -> Dia 2: Piernas, gemelos y abdominales | B24: ='Semana 1'!B24 -> 0 | C24: ='Semana 1'!C24 -> 0
A25: ='Semana 1'!A25 -> 0 | B25: ='Semana 1'!B25 -> 0 | C25: ='Semana 1'!C25 -> 0 | F25: =IF(D25*E25=0,"",D25*E25)
A26: ='Semana 1'!A26 -> Ejercicioss | B26: ='Semana 1'!B26 -> Sets | C26: ='Semana 1'!C26 -> Reps | F26: =IF(D26*E26=0,"",D26*E26)
A27: ='Semana 1'!A27 -> Extensiones de pierna (Como calentamiento) | B27: ='Semana 1'!B27 -> 0 | C27: ='Semana 1'!C27 -> 0 | F27: =IF(D27*E27=0,"",D27*E27)
A28: ='Semana 1'!A28 -> Sentadillas | B28: ='Semana 1'!B28 -> 1 | C28: ='Semana 1'!C28 -> 15 | F28: =IF(D28*E28=0,"",D28*E28)
A29: ='Semana 1'!A29 -> Sentadillas (set 2) | B29: ='Semana 1'!B29 -> 1 | C29: ='Semana 1'!C29 -> 12 | F29: =IF(D29*E29=0,"",D29*E29)
A30: ='Semana 1'!A30 -> Sentadillas (set 3) | B30: ='Semana 1'!B30 -> 1 | C30: ='Semana 1'!C30 -> 11 | F30: =IF(D30*E30=0,"",D30*E30)
A31: ='Semana 1'!A31 -> Sentadillas (set 4) | B31: ='Semana 1'!B31 -> 1 | C31: ='Semana 1'!C31 -> 10
A32: ='Semana 1'!A32 -> Sentadillas (set 5) | B32: ='Semana 1'!B32 -> 1 | C32: ='Semana 1'!C32 -> 9
A33: ='Semana 1'!A33 -> Sentadillas (set 6) | B33: ='Semana 1'!B33 -> 1 | C33: ='Semana 1'!C33 -> 8 | F33: =IF(D33*E33=0,"",D33*E33)
A34: ='Semana 1'!A34 -> Prensa | B34: ='Semana 1'!B34 -> 1 | C34: ='Semana 1'!C34 -> 15 | F34: =IF(D34*E34=0,"",D34*E34)
A35: ='Semana 1'!A35 -> Prensa (set 2) | B35: ='Semana 1'!B35 -> 1 | C35: ='Semana 1'!C35 -> 12 | F35: =IF(D35*E35=0,"",D35*E35)
A36: ='Semana 1'!A36 -> Prensa (set 3) | B36: ='Semana 1'!B36 -> 1 | C36: ='Semana 1'!C36 -> 10 | F36: =IF(D36*E36=0,"",D36*E36)
A37: ='Semana 1'!A37 -> Curl de pierna | B37: ='Semana 1'!B37 -> 3 | C37: ='Semana 1'!C37 -> 44116 | F37: =IF(D37*E37=0,"",D37*E37)
A38: ='Semana 1'!A38 -> Extensiones de pierna | B38: ='Semana 1'!B38 -> 1 | C38: ='Semana 1'!C38 -> 12 | F38: =IF(D38*E38=0,"",D38*E38)
A39: ='Semana 1'!A39 -> Extensiones de pierna (set 2) | B39: ='Semana 1'!B39 -> 1 | C39: ='Semana 1'!C39 -> 10 | F39: =IF(D39*E39=0,"",D39*E39)
