Workbook

Sheet Semana 1
A1: WWW.BIBLIOTECADERUTINAS.COM
A2: Dia 1: Espalda, biceps, antebrazo y abdominales
A4: Ejercicios | B4: Sets | C4: Reps | D4: Peso | E4: Total Reps | F4: Volumen
A5: Peso muerto con agarre ancho | B5: 1 | C5: 15 | F5: =D5*E5 -> 0
A6: Peso muerto con agarre ancho (set 2) | B6: 1 | C6: 12 | F6: =IF(D6*E6=0,"",D6*E6)
A7: Peso muerto con agarre ancho (set 3) | B7: 1 | C7: 10 | F7: =IF(D7*E7=0,"",D7*E7)
A8: Peso muerto parcial con agarre ancho desde bloques o rack (set 4,5) | B8: 2 | C8: 10 | F8: =IF(D8*E8=0,"",D8*E8)
A9: Peso muerto parcial con agarre ancho desde bloques o rack (set 6) | B9: 1 | C9: 8 | F9: =IF(D9*E9=0,"",D9*E9)
A10: Remo en barra T | B10: 1 | C10: 12 | F10: =IF(D10*E10=0,"",D10*E10)
A11: Remo en barra T (set 2) | B11: 1 | C11: 10 | F11: =IF(D11*E11=0,"",D11*E11)
A12: Remo en barra T (set 3) | B12: 1 | C12: 8 | F12: =IF(D12*E12=0,"",D12*E12)
A13: Jalón al pecho | B13: 3 | C13: 44053 | F13: =IF(D13*E13=0,"",D13*E13)
A14: Remo con mancuernas | B14: 3 | C14: 44053 | F14: =IF(D14*E14=0,"",D14*E14)
A15: Curl de bíceps concentrado | B15: 3 | C15: 44053 | F15: =IF(D15*E15=0,"",D15*E15)
A16: Curl de bíceps con mancuerna alterno | B16: 3 | C16: 44053 | F16: =IF(D16*E16=0,"",D16*E16)
A17: Curl invertido con barra (SS1) | B17: 2 | C17: 12 | F17: =IF(D17*E17=0,"",D17*E17)
A18: Curl de muñeca con barra (SS1) | B18: 2 | C18: 20 | F18: =IF(D18*E18=0,"",D18*E18)
A19: Abdominales (SS2) | B19: * | C19: 50 | F19: =IF(D19*E19=0,"",D19*E19)
A20: Elevacion de piernas SS2) | B20: * | C20: 50 | F20: =IF(D20*E20=0,"",D20*E20)
A21: Elevación de rodillas en suspensión (SS3) | B21: * | C21: 50 | F21: =IF(D21*E21=0,"",D21*E21)
A22: Twists (SS3) | B22: * | C22: 50 | F22: =IF(D22*E22=0,"",D22*E22)
A24: Dia 2: Piernas, gemelos y abdominales
A26: Ejercicioss | B26: Sets | C26: Reps | D26: Peso | E26: Total Reps | F26: Volumen
A27: Extensiones de pierna (Como calentamiento) | F27: =IF(D27*E27=0,"",D27*E27)
A28: Sentadillas | B28: 1 | C28: 15 | F28: =IF(D28*E28=0,"",D28*E28)
A29: Sentadillas (set 2) | B29: 1 | C29: 12 | F29: =IF(D29*E29=0,"",D29*E29)
A30: Sentadillas (set 3) | B30: 1 | C30: 11 | F30: =IF(D30*E30=0,"",D30*E30)
A31: Sentadillas (set 4) | B31: 1 | C31: 10 | F31: =IF(D31*E31=0,"",D31*E31)
A32: Sentadillas (set 5) | B32: 1 | C32: 9 | F32: =D32*E32 -> 0
A33: Sentadillas (set 6) | B33: 1 | C33: 8 | F33: =D33*E33 -> 0
A34: Prensa | B34: 1 | C34: 15 | F34: =IF(D34*E34=0,"",D34*E34)
A35: Prensa (set 2) | B35: 1 | C35: 12 | F35: =IF(D35*E35=0,"",D35*E35)
A36: Prensa (set 3) | B36: 1 | C36: 10 | F36: =IF(D36*E36=0,"",D36*E36)
A37: Curl de pierna | B37: 3 | C37: 44116 | F37: =IF(D37*E37=0,"",D37*E37)
A38: Extensiones de pierna | B38: 1 | C38: 12 | F38: =IF(D38*E38=0,"",D38*E38)
A39: Extensiones de pierna (set 2) | B39: 1 | C39: 10 | F39: =IF(D39*E39=0,"",D39*E39)
A40: Extensiones de pierna (set 3) | B40: 1 | C40: 8 | F40: =IF(D40*E40=0,"",D40*E40)
A41: Elevación de gemelos | B41: 3 | C41: 15-20 | F41: =IF(D41*E41=0,"",D41*E41)
A42: Elevación de gemelos tipo burro | B42: 4 | C42: 20-25 | F42: =IF(D42*E42=0,"",D42*E42)
A43: Elevación de gemelos sentado (4x drop set, all 5 reps) | B43: 1 | C43: 5 | F43: =IF(D43*E43=0,"",D43*E43)
A44: Trabajo abdominal ligero | F44: =IF(D44*E44=0,"",D44*E44)
A46: Dia 3: Pecho, hombros, triceps y abdominales
A48: Ejercicioss | B48: Sets | C48: Reps | D48: Peso | E48: Total Reps | F48: Volumen
A49: Press de banca | B49: 1 | C49: 12 | F49: =IF(D49*E49=0,"",D49*E49)
A50: Press de banca (set 2) | B50: 1 | C50: 10 | F50: =IF(D50*E50=0,"",D50*E50)
A51: Press de banca (set 3) | B51: 1 | C51: 8 | F51: =IF(D51*E51=0,"",D51*E51)
A52: Press de banca (set 4) | B52: 1 | C52: 6 | F52: =IF(D52*E52=0,"",D52*E52)
A53: Press de banca (set 5) | B53: 1 | C53: 4 | F53: =IF(D53*E53=0,"",D53*E53)
A54: Press de banca (set 6) | B54: 1 | C54: 2 | F54: =IF(D54*E54=0,"",D54*E54)
A55: Press inclinado con mancuernas | B55: 1 | C55: 10 | F55: =IF(D55*E55=0,"",D55*E55)
A56: Press inclinado con mancuernas (set 2) | B56: 1 | C56: 8 | F56: =IF(D56*E56=0,"",D56*E56)
A57: Press inclinado con mancuernas (set 3) | B57: 1 | C57: 6 | F57: =IF(D57*E57=0,"",D57*E57)
A58: Press inclinado con mancuernas (set 4) | B58: 1 | C58: 43927 | F58: =IF(D58*E58=0,"",D58*E58)
A59: Flyes declinadas con mancuernas | B59: 1 | C59: 12 | F59: =IF(D59*E59=0,"",D59*E59)
A60: Flyes declinadas con mancuernas (set 2) | B60: 1 | C60: 10 | F60: =IF(D60*E60=0,"",D60*E60)
... A79: Elevación lateral con cable (set 3) | B79: 1 | C79: 8 | F79: =IF(D79*E79=0,"",D79*E79)
A80: Elevacion de piernas (SS1) | B80: 4 | C80: 25
A81: Abdominales (SS1) | B81: 4 | C81: 25
A82: Twists | B82: 1 | C82: 100
A83: Elevacion de piernass en suspension | B83: 4 | C83: 25

Sheet Semana 2
A2: ='Semana 1'!A2 -> Dia 1: Espalda, biceps, antebrazo y abdominales | B2: ='Semana 1'!B2 -> 0 | C2: ='Semana 1'!C2 -> 0
A3: ='Semana 1'!A3 -> 0 | B3: ='Semana 1'!B3 -> 0 | C3: ='Semana 1'!C3 -> 0
A4: ='Semana 1'!A4 -> Ejercicios | B4: ='Semana 1'!B4 -> Sets | C4: ='Semana 1'!C4 -> Reps | D4: Peso | E4: Total Reps | F4: Volumen
A5: ='Semana 1'!A5 -> Peso muerto con agarre ancho | B5: ='Semana 1'!B5 -> 1 | C5: ='Semana 1'!C5 -> 15 | F5: =D5*E5 -> 0
A6: ='Semana 1'!A6 -> Peso muerto con agarre ancho (set 2) | B6: ='Semana 1'!B6 -> 1 | C6: ='Semana 1'!C6 -> 12 | F6: =IF(D6*E6=0,"",D6*E6)
A7: ='Semana 1'!A7 -> Peso muerto con agarre ancho (set 3) | B7: ='Semana 1'!B7 -> 1 | C7: ='Semana 1'!C7 -> 10 | F7: =IF(D7*E7=0,"",D7*E7)
A8: ='Semana 1'!A8 -> Peso muerto parcial con agarre ancho desde bloques o rack (set 4,5) | B8: ='Semana 1'!B8 -> 2 | C8: ='Semana 1'!C8 -> 10 | F8: =IF(D8*E8=0,"",D8*E8)
A9: ='Semana 1'!A9 -> Peso muerto parcial con agarre ancho desde bloques o rack (set 6) | B9: ='Semana 1'!B9 -> 1 | C9: ='Semana 1'!C9 -> 8 | F9: =IF(D9*E9=0,"",D9*E9)
A10: ='Semana 1'!A10 -> Remo en barra T | B10: ='Semana 1'!B10 -> 1 | C10: ='Semana 1'!C10 -> 12 | F10: =IF(D10*E10=0,"",D10*E10)
A11: ='Semana 1'!A11 -> Remo en barra T (set 2) | B11: ='Semana 1'!B11 -> 1 | C11: ='Semana 1'!C11 -> 10 | F11: =IF(D11*E11=0,"",D11*E11)
A12: ='Semana 1'!A12 -> Remo en barra T (set 3) | B12: ='Semana 1'!B12 -> 1 | C12: ='Semana 1'!C12 -> 8
A13: ='Semana 1'!A13 -> Jalón al pecho | B13: ='Semana 1'!B13 -> 3 | C13: ='Semana 1'!C13 -> 44053
A14: ='Semana 1'!A14 -> Remo con mancuernas | B14: ='Semana 1'!B14 -> 3 | C14: ='Semana 1'!C14 -> 44053
A15: ='Semana 1'!A15 -> Curl de bíceps concentrado | B15: ='Semana 1'!B15 -> 3 | C15: ='Semana 1'!C15 -> 44053 | F15: =IF(D15*E15=0,"",D15*E15)
A16: ='Semana 1'!A16 -> Curl de bíceps con mancuerna alterno | B16: ='Semana 1'!B16 -> 3 | C16: ='Semana 1'!C16 -> 44053 | F16: =IF(D16*E16=0,"",D16*E16)
A17: ='Semana 1'!A17 -> Curl invertido con barra (SS1) | B17: ='Semana 1'!B17 -> 2 | C17: ='Semana 1'!C17 -> 12 | F17: =IF(D17*E17=0,"",D17*E17)
A18: ='Semana 1'!A18 -> Curl de muñeca con barra (SS1) | B18: ='Semana 1'!B18 -> 2 | C18: ='Semana 1'!C18 -> 20 | F18: =IF(D18*E18=0,"",D18*E18)
A19: ='Semana 1'!A19 -> Abdominales (SS2) | B19: ='Semana 1'!B19 -> * | C19: ='Semana 1'!C19 -> 50 | F19: =IF(D19*E19=0,"",D19*E19)
A20: ='Semana 1'!A20 -> Elevacion de piernas SS2) | B20: ='Semana 1'!B20 -> * | C20: ='Semana 1'!C20 -> 50 | F20: =IF(D20*E20=0,"",D20*E20)
A21: ='Semana 1'!A21 -> Elevación de rodillas en suspensión (SS3) | B21: ='Semana 1'!B21 -> * | C21: ='Semana 1'!C21 -> 50 | F21: =IF(D21*E21=0,"",D21*E21)
A22: ='Semana 1'!A22 -> Twists (SS3) | B22: ='Semana 1'!B22 -> * | C22: ='Semana 1'!C22 -> 50
A23: ='Semana 1'!A23 -> 0 | B23: ='Semana 1'!B23 -> 0 | C23: ='Semana 1'!C23 -> 0
A24: ='Semana 1'!A24 -> Dia 2: Piernas, gemelos y abdominales | B24: ='Semana 1'!B24 -> 0 | C24: ='Semana 1'!C24 -> 0
A25: ='Semana 1'!A25 -> 0 | B25: ='Semana 1'!B25 -> 0 | C25: ='Semana 1'!C25 -> 0 | F25: =IF(D25*E25=0,"",D25*E25)
A26: ='Semana 1'!A26 -> Ejercicioss | B26: ='Semana 1'!B26 -> Sets | C26: ='Semana 1'!C26 -> Reps | F26: =IF(D26*E26=0,"",D26*E26)
A27: ='Semana 1'!A27 -> Extensiones de pierna (Como calentamiento) | B27: ='Semana 1'!B27 -> 0 | C27: ='Semana 1'!C27 -> 0 | F27: =IF(D27*E27=0,"",D27*E27)
A28: ='Semana 1'!A28 -> Sentadillas | B28: ='Semana 1'!B28 -> 1 | C28: ='Semana 1'!C28 -> 15 | F28: =IF(D28*E28=0,"",D28*E28)
A29: ='Semana 1'!A29 -> Sentadillas (set 2) | B29: ='Semana 1'!B29 -> 1 | C29: ='Semana 1'!C29 -> 12 | F29: =IF(D29*E29=0,"",D29*E29)
A30: ='Semana 1'!A30 -> Sentadillas (set 3) | B30: ='Semana 1'!B30 -> 1 | C30: ='Semana 1'!C30 -> 11 | F30: =IF(D30*E30=0,"",D30*E30)
A31: ='Semana 1'!A31 -> Sentadillas (set 4) | B31: ='Semana 1'!B31 -> 1 | C31: ='Semana 1'!C31 -> 10
A32: ='Semana 1'!A32 -> Sentadillas (set 5) | B32: ='Semana 1'!B32 -> 1 | C32: ='Semana 1'!C32 -> 9
A33: ='Semana 1'!A33 -> Sentadillas (set 6) | B33: ='Semana 1'!B33 -> 1 | C33: ='Semana 1'!C33 -> 8 | F33: =IF(D33*E33=0,"",D33*E33)
A34: ='Semana 1'!A34 -> Prensa | B34: ='Semana 1'!B34 -> 1 | C34: ='Semana 1'!C34 -> 15 | F34: =IF(D34*E34=0,"",D34*E34)
A35: ='Semana 1'!A35 -> Prensa (set 2) | B35: ='Semana 1'!B35 -> 1 | C35: ='Semana 1'!C35 -> 12 | F35: =IF(D35*E35=0,"",D35*E35)
A36: ='Semana 1'!A36 -> Prensa (set 3) | B36: ='Semana 1'!B36 -> 1 | C36: ='Semana 1'!C36 -> 10 | F36: =IF(D36*E36=0,"",D36*E36)
A37: ='Semana 1'!A37 -> Curl de pierna | B37: ='Semana 1'!B37 -> 3 | C37: ='Semana 1'!C37 -> 44116 | F37: =IF(D37*E37=0,"",D37*E37)
A38: ='Semana 1'!A38 -> Extensiones de pierna | B38: ='Semana 1'!B38 -> 1 | C38: ='Semana 1'!C38 -> 12 | F38: =IF(D38*E38=0,"",D38*E38)
A39: ='Semana 1'!A39 -> Extensiones de pierna (set 2) | B39: ='Semana 1'!B39 -> 1 | C39: ='Semana 1'!C39 -> 10 | F39: =IF(D39*E39=0,"",D39*E39)
A40: ='Semana 1'!A40 -> Extensiones de pierna (set 3) | B40: ='Semana 1'!B40 -> 1 | C40: ='Semana 1'!C40 -> 8 | F40: =IF(D40*E40=0,"",D40*E40)
A41: ='Semana 1'!A41 -> Elevación de gemelos | B41: ='Semana 1'!B41 -> 3 | C41: ='Semana 1'!C41 -> 15-20 | F41: =IF(D41*E41=0,"",D41*E41)
A42: ='Semana 1'!A42 -> Elevación de gemelos tipo burro | B42: ='Semana 1'!B42 -> 4 | C42: ='Semana 1'!C42 -> 20-25 | F42: =IF(D42*E42=0,"",D42*E42)
A43: ='Semana 1'!A43 -> Elevación de gemelos sentado (4x drop set, all 5 reps) | B43: ='Semana 1'!B43 -> 1 | C43: ='Semana 1'!C43 -> 5 | F43: =IF(D43*E43=0,"",D43*E43)
A44: ='Semana 1'!A44 -> Trabajo abdominal ligero | B44: ='Semana 1'!B44 -> 0 | C44: ='Semana 1'!C44 -> 0 | F44: =IF(D44*E44=0,"",D44*E44)
... A51: ='Semana 1'!A51 -> Press de banca (set 3) | B51: ='Semana 1'!B51 -> 1 | C51: ='Semana 1'!C51 -> 8 | F51: =IF(D51*E51=0,"",D51*E51)
A52: ='Semana 1'!A52 -> Press de banca (set 4) | B52: ='Semana 1'!B52 -> 1 | C52: ='Semana 1'!C52 -> 6
A53: ='Semana 1'!A53 -> Press de banca (set 5) | B53: ='Semana 1'!B53 -> 1 | C53: ='Semana 1'!C53 -> 4 | F53: =IF(D53*E53=0,"",D53*E53)
A54: ='Semana 1'!A54 -> Press de banca (set 6) | B54: ='Semana 1'!B54 -> 1 | C54: ='Semana 1'!C54 -> 2 | F54: =IF(D54*E54=0,"",D54*E54)
A55: ='Semana 1'!A55 -> Press inclinado con mancuernas | B55: ='Semana 1'!B55 -> 1 | C55: ='Semana 1'!C55 -> 10 | F55: =IF(D55*E55=0,"",D55*E55)
A56: ='Semana 1'!A56 -> Press inclinado con mancuernas (set 2) | B56: ='Semana 1'!B56 -> 1 | C56: ='Semana 1'!C56 -> 8 | F56: =IF(D56*E56=0,"",D56*E56)
A57: ='Semana 1'!A57 -> Press inclinado con mancuernas (set 3) | B57: ='Semana 1'!B57 -> 1 | C57: ='Semana 1'!C57 -> 6
A58: ='Semana 1'!A58 -> Press inclinado con mancuernas (set 4) | B58: ='Semana 1'!B58 -> 1 | C58: ='Semana 1'!C58 -> 43927
A59: ='Semana 1'!A59 -> Flyes declinadas con mancuernas | B59: ='Semana 1'!B59 -> 1 | C59: ='Semana 1'!C59 -> 12
A60: ='Semana 1'!A60 -> Flyes declinadas con mancuernas (set 2) | B60: ='Semana 1'!B60 -> 1 | C60: ='Semana 1'!C60 -> 10
A61: ='Semana 1'!A61 -> Flyes declinadas con mancuernas (set 3) | B61: ='Semana 1'!B61 -> 1 | C61: ='Semana 1'!C61 -> 8
A62: ='Semana 1'!A62 -> Pullover con mancuerna | B62: ='Semana 1'!B62 -> 1 | C62: ='Semana 1'!C62 -> 12
A63: ='Semana 1'!A63 -> Pullover con mancuerna (set 2) | B63: ='Semana 1'!B63 -> 1 | C63: ='Semana 1'!C63 -> 10
A64: ='Semana 1'!A64 -> Pullover con mancuerna (set 3) | B64: ='Semana 1'!B64 -> 1 | C64: ='Semana 1'!C64 -> 8
A65: ='Semana 1'!A65 -> Press de banca agarre estrecho | B65: ='Semana 1'!B65 -> 1 | C65: ='Semana 1'!C65 -> 12
A66: ='Semana 1'!A66 -> Press de banca agarre estrecho (set 2) | B66: ='Semana 1'!B66 -> 1 | C66: ='Semana 1'!C66 -> 10
A67: ='Semana 1'!A67 -> Press de banca agarre estrecho (set 3) | B67: ='Semana 1'!B67 -> 1 | C67: ='Semana 1'!C67 -> 8
A68: ='Semana 1'!A68 -> Extensión de tríceps sobre cabeza con mancuerna a una mano | B68: ='Semana 1'!B68 -> 1 | C68: ='Semana 1'!C68 -> 12
... A103: ='Semana 1'!A103 -> 0 | B103: ='Semana 1'!B103 -> 0 | C103: ='Semana 1'!C103 -> 0

Sheet Semana 3
A2: ='Semana 1'!A2 -> Dia 1: Espalda, biceps, antebrazo y abdominales | B2: ='Semana 1'!B2 -> 0 | C2: ='Semana 1'!C2 -> 0
A3: ='Semana 1'!A3 -> 0 | B3: ='Semana 1'!B3 -> 0 | C3: ='Semana 1'!C3 -> 0
A4: ='Semana 1'!A4 -> Ejercicios | B4: ='Semana 1'!B4 -> Sets | C4: ='Semana 1'!C4 -> Reps | D4: Peso | E4: Total Reps | F4: Volumen
A5: ='Semana 1'!A5 -> Peso muerto con agarre ancho | B5: ='Semana 1'!B5 -> 1 | C5: ='Semana 1'!C5 -> 15 | F5: =D5*E5 -> 0
A6: ='Semana 1'!A6 -> Peso muerto con agarre ancho (set 2) | B6: ='Semana 1'!B6 -> 1 | C6: ='Semana 1'!C6 -> 12 | F6: =IF(D6*E6=0,"",D6*E6)
A7: ='Semana 1'!A7 -> Peso muerto con agarre ancho (set 3) | B7: ='Semana 1'!B7 -> 1 | C7: ='Semana 1'!C7 -> 10 | F7: =IF(D7*E7=0,"",D7*E7)
A8: ='Semana 1'!A8 -> Peso muerto parcial con agarre ancho desde bloques o rack (set 4,5) | B8: ='Semana 1'!B8 -> 2 | C8: ='Semana 1'!C8 -> 10 | F8: =IF(D8*E8=0,"",D8*E8)
A9: ='Semana 1'!A9 -> Peso muerto parcial con agarre ancho desde bloques o rack (set 6) | B9: ='Semana 1'!B9 -> 1 | C9: ='Semana 1'!C9 -> 8 | F9: =IF(D9*E9=0,"",D9*E9)
A10: ='Semana 1'!A10 -> Remo en barra T | B10: ='Semana 1'!B10 -> 1 | C10: ='Semana 1'!C10 -> 12 | F10: =IF(D10*E10=0,"",D10*E10)
A11: ='Semana 1'!A11 -> Remo en barra T (set 2) | B11: ='Semana 1'!B11 -> 1 | C11: ='Semana 1'!C11 -> 10 | F11: =IF(D11*E11=0,"",D11*E11)
A12: ='Semana 1'!A12 -> Remo en barra T (set 3) | B12: ='Semana 1'!B12 -> 1 | C12: ='Semana 1'!C12 -> 8
A13: ='Semana 1'!A13 -> Jalón al pecho | B13: ='Semana 1'!B13 -> 3 | C13: ='Semana 1'!C13 -> 44053
A14: ='Semana 1'!A14 -> Remo con mancuernas | B14: ='Semana 1'!B14 -> 3 | C14: ='Semana 1'!C14 -> 44053
A15: ='Semana 1'!A15 -> Curl de bíceps concentrado | B15: ='Semana 1'!B15 -> 3 | C15: ='Semana 1'!C15 -> 44053 | F15: =IF(D15*E15=0,"",D15*E15)
A16: ='Semana 1'!A16 -> Curl de bíceps con mancuerna alterno | B16: ='Semana 1'!B16 -> 3 | C16: ='Semana 1'!C16 -> 44053 | F16: =IF(D16*E16=0,"",D16*E16)
A17: ='Semana 1'!A17 -> Curl invertido con barra (SS1) | B17: ='Semana 1'!B17 -> 2 | C17: ='Semana 1'!C17 -> 12 | F17: =IF(D17*E17=0,"",D17*E17)
A18: ='Semana 1'!A18 -> Curl de muñeca con barra (SS1) | B18: ='Semana 1'!B18 -> 2 | C18: ='Semana 1'!C18 -> 20 | F18: =IF(D18*E18=0,"",D18*E18)
A19: ='Semana 1'!A19 -> Abdominales (SS2) | B19: ='Semana 1'!B19 -> * | C19: ='Semana 1'!C19 -> 50 | F19: =IF(D19*E19=0,"",D19*E19)
A20: ='Semana 1'!A20 -> Elevacion de piernas SS2) | B20: ='Semana 1'!B20 -> * | C20: ='Semana 1'!C20 -> 50 | F20: =IF(D20*E20=0,"",D20*E20)
A21: ='Semana 1'!A21 -> Elevación de rodillas en suspensión (SS3) | B21: ='Semana 1'!B21 -> * | C21: ='Semana 1'!C21 -> 50 | F21: =IF(D21*E21=0,"",D21*E21)
A22: ='Semana 1'!A22 -> Twists (SS3) | B22: ='Semana 1'!B22 -> * | C22: ='Semana 1'!C22 -> 50
A23: ='Semana 1'!A23 -> 0 | B23: ='Semana 1'!B23 -> 0 | C23: ='Semana 1'!C23 -> 0
A24: ='Semana 1'!A24 -> Dia 2: Piernas, gemelos y abdominales | B24: ='Semana 1'!B24 -> 0 | C24: ='Semana 1'!C24 -> 0
A25: ='Semana 1'!A25 -> 0 | B25: ='Semana 1'!B25 -> 0 | C25: ='Semana 1'!C25 -> 0 | F25: =IF(D25*E25=0,"",D25*E25)
A26: ='Semana 1'!A26 -> Ejercicioss | B26: ='Semana 1'!B26 -> Sets | C26: ='Semana 1'!C26 -> Reps | F26: =IF(D26*E26=0,"",D26*E26)
A27: ='Semana 1'!A27 -> Extensiones de pierna (Como calentamiento) | B27: ='Semana 1'!B27 -> 0 | C27: ='Semana 1'!C27 -> 0 | F27: =IF(D27*E27=0,"",D27*E27)
A28: ='Semana 1'!A28 -> Sentadillas | B28: ='Semana 1'!B28 -> 1 | C28: ='Semana 1'!C28 -> 15 | F28: =IF(D28*E28=0,"",D28*E28)
A29: ='Semana 1'!A29 -> Sentadillas (set 2) | B29: ='Semana 1'!B29 -> 1 | C29: ='Semana 1'!C29 -> 12 | F29: =IF(D29*E29=0,"",D29*E29)
A30: ='Semana 1'!A30 -> Sentadillas (set 3) | B30: ='Semana 1'!B30 -> 1 | C30: ='Semana 1'!C30 -> 11 | F30: =IF(D30*E30=0,"",D30*E30)
A31: ='Semana 1'!A31 -> Sentadillas (set 4) | B31: ='Semana 1'!B31 -> 1 | C31: ='Semana 1'!C31 -> 10
A32: ='Semana 1'!A32 -> Sentadillas (set 5) | B32: ='Semana 1'!B32 -> 1 | C32: ='Semana 1'!C32 -> 9
A33: ='Semana 1'!A33 -> Sentadillas (set 6) | B33: ='Semana 1'!B33 -> 1 | C33: ='Semana 1'!C33 -> 8 | F33: =IF(D33*E33=0,"",D33*E33)
A34: ='Semana 1'!A34 -> Prensa | B34: ='Semana 1'!B34 -> 1 | C34: ='Semana 1'!C34 -> 15 | F34: =IF(D34*E34=0,"",D34*E34)
A35: ='Semana 1'!A35 -> Prensa (set 2) | B35: ='Semana 1'!B35 -> 1 | C35: ='Semana 1'!C35 -> 12 | F35: =IF(D35*E35=0,"",D35*E35)
A36: ='Semana 1'!A36 -> Prensa (set 3) | B36: ='Semana 1'!B36 -> 1 | C36: ='Semana 1'!C36 -> 10 | F36: =IF(D36*E36=0,"",D36*E36)
A37: ='Semana 1'!A37 -> Curl de pierna | B37: ='Semana 1'!B37 -> 3 | C37: ='Semana 1'!C37 -> 44116 | F37: =IF(D37*E37=0,"",D37*E37)
A38: ='Semana 1'!A38 -> Extensiones de pierna | B38: ='Semana 1'!B38 -> 1 | C38: ='Semana 1'!C38 -> 12 | F38: =IF(D38*E38=0,"",D38*E38)
A39: ='Semana 1'!A39 -> Extensiones de pierna (set 2) | B39: ='Semana 1'!B39 -> 1 | C39: ='Semana 1'!C39 -> 10 | F39: =IF(D39*E39=0,"",D39*E39)
A40: ='Semana 1'!A40 -> Extensiones de pierna (set 3) | B40: ='Semana 1'!B40 -> 1 | C40: ='Semana 1'!C40 -> 8 | F40: =IF(D40*E40=0,"",D40*E40)
A41: ='Semana 1'!A41 -> Elevación de gemelos | B41: ='Semana 1'!B41 -> 3 | C41: ='Semana 1'!C41 -> 15-20 | F41: =IF(D41*E41=0,"",D41*E41)
A42: ='Semana 1'!A42 -> Elevación de gemelos tipo burro | B42: ='Semana 1'!B42 -> 4 | C42: ='Semana 1'!C42 -> 20-25 | F42: =IF(D42*E42=0,"",D42*E42)
A43: ='Semana 1'!A43 -> Elevación de gemelos sentado (4x drop set, all 5 reps) | B43: ='Semana 1'!B43 -> 1 | C43: ='Semana 1'!C43 -> 5 | F43: =IF(D43*E43=0,"",D43*E43)
A44: ='Semana 1'!A44 -> Trabajo abdominal ligero | B44: ='Semana 1'!B44 -> 0 | C44: ='Semana 1'!C44 -> 0 | F44: =IF(D44*E44=0,"",D44*E44)
... A51: ='Semana 1'!A51 -> Press de banca (set 3) | B51: ='Semana 1'!B51 -> 1 | C51: ='Semana 1'!C51 -> 8 | F51: =IF(D51*E51=0,"",D51*E51)
A52: ='Semana 1'!A52 -> Press de banca (set 4) | B52: ='Semana 1'!B52 -> 1 | C52: ='Semana 1'!C52 -> 6
A53: ='Semana 1'!A53 -> Press de banca (set 5) | B53: ='Semana 1'!B53 -> 1 | C53: ='Semana 1'!C53 -> 4 | F53: =IF(D53*E53=0,"",D53*E53)
A54: ='Semana 1'!A54 -> Press de banca (set 6) | B54: ='Semana 1'!B54 -> 1 | C54: ='Semana 1'!C54 -> 2 | F54: =IF(D54*E54=0,"",D54*E54)
A55: ='Semana 1'!A55 -> Press inclinado con mancuernas | B55: ='Semana 1'!B55 -> 1 | C55: ='Semana 1'!C55 -> 10 | F55: =IF(D55*E55=0,"",D55*E55)
A56: ='Semana 1'!A56 -> Press inclinado con mancuernas (set 2) | B56: ='Semana 1'!B56 -> 1 | C56: ='Semana 1'!C56 -> 8 | F56: =IF(D56*E56=0,"",D56*E56)
A57: ='Semana 1'!A57 -> Press inclinado con mancuernas (set 3) | B57: ='Semana 1'!B57 -> 1 | C57: ='Semana 1'!C57 -> 6
A58: ='Semana 1'!A58 -> Press inclinado con mancuernas (set 4) | B58: ='Semana 1'!B58 -> 1 | C58: ='Semana 1'!C58 -> 43927
A59: ='Semana 1'!A59 -> Flyes declinadas con mancuernas | B59: ='Semana 1'!B59 -> 1 | C59: ='Semana 1'!C59 -> 12
A60: ='Semana 1'!A60 -> Flyes declinadas con mancuernas (set 2) | B60: ='Semana 1'!B60 -> 1 | C60: ='Semana 1'!C60 -> 10
A61: ='Semana 1'!A61 -> Flyes declinadas con mancuernas (set 3) | B61: ='Semana 1'!B61 -> 1 | C61: ='Semana 1'!C61 -> 8
A62: ='Semana 1'!A62 -> Pullover con mancuerna | B62: ='Semana 1'!B62 -> 1 | C62: ='Semana 1'!C62 -> 12
A63: ='Semana 1'!A63 -> Pullover con mancuerna (set 2) | B63: ='Semana 1'!B63 -> 1 | C63: ='Semana 1'!C63 -> 10
A64: ='Semana 1'!A64 -> Pullover con mancuerna (set 3) | B64: ='Semana 1'!B64 -> 1 | C64: ='Semana 1'!C64 -> 8
A65: ='Semana 1'!A65 -> Press de banca agarre estrecho | B65: ='Semana 1'!B65 -> 1 | C65: ='Semana 1'!C65 -> 12
A66: ='Semana 1'!A66 -> Press de banca agarre estrecho (set 2) | B66: ='Semana 1'!B66 -> 1 | C66: ='Semana 1'!C66 -> 10
A67: ='Semana 1'!A67 -> Press de banca agarre estrecho (set 3) | B67: ='Semana 1'!B67 -> 1 | C67: ='Semana 1'!C67 -> 8
A68: ='Semana 1'!A68 -> Extensión de tríceps sobre cabeza con mancuerna a una mano | B68: ='Semana 1'!B68 -> 1 | C68: ='Semana 1'!C68 -> 12
... A103: ='Semana 1'!A103 -> 0 | B103: ='Semana 1'!B103 -> 0 | C103: ='Semana 1'!C103 -> 0

Sheet Semana 4
A2: ='Semana 1'!A2 -> Dia 1: Espalda, biceps, antebrazo y abdominales | B2: ='Semana 1'!B2 -> 0 | C2: ='Semana 1'!C2 -> 0
A3: ='Semana 1'!A3 -> 0 | B3: ='Semana 1'!B3 -> 0 | C3: ='Semana 1'!C3 -> 0
A4: ='Semana 1'!A4 -> Ejercicios | B4: ='Semana 1'!B4 -> Sets | C4: ='Semana 1'!C4 -> Reps | D4: Peso | E4: Total Reps | F4: Volumen
A5: ='Semana 1'!A5 -> Peso muerto con agarre ancho | B5: ='Semana 1'!B5 -> 1 | C5: ='Semana 1'!C5 -> 15 | F5: =D5*E5 -> 0
A6: ='Semana 1'!A6 -> Peso muerto con agarre ancho (set 2) | B6: ='Semana 1'!B6 -> 1 | C6: ='Semana 1'!C6 -> 12 | F6: =IF(D6*E6=0,"",D6*E6)
A7: ='Semana 1'!A7 -> Peso muerto con agarre ancho (set 3) | B7: ='Semana 1'!B7 -> 1 | C7: ='Semana 1'!C7 -> 10 | F7: =IF(D7*E7=0,"",D7*E7)
A8: ='Semana 1'!A8 -> Peso muerto parcial con agarre ancho desde bloques o rack (set 4,5) | B8: ='Semana 1'!B8 -> 2 | C8: ='Semana 1'!C8 -> 10 | F8: =IF(D8*E8=0,"",D8*E8)
A9: ='Semana 1'!A9 -> Peso muerto parcial con agarre ancho desde bloques o rack (set 6) | B9: ='Semana 1'!B9 -> 1 | C9: ='Semana 1'!C9 -> 8 | F9: =IF(D9*E9=0,"",D9*E9)
A10: ='Semana 1'!A10 -> Remo en barra T | B10: ='Semana 1'!B10 -> 1 | C10: ='Semana 1'!C10 -> 12 | F10: =IF(D10*E10=0,"",D10*E10)
A11: ='Semana 1'!A11 -> Remo en barra T (set 2) | B11: ='Semana 1'!B11 -> 1 | C11: ='Semana 1'!C11 -> 10 | F11: =IF(D11*E11=0,"",D11*E11)
A12: ='Semana 1'!A12 -> Remo en barra T (set 3) | B12: ='Semana 1'!B12 -> 1 | C12: ='Semana 1'!C12 -> 8
A13: ='Semana 1'!A13 -> Jalón al pecho | B13: ='Semana 1'!B13 -> 3 | C13: ='Semana 1'!C13 -> 44053
A14: ='Semana 1'!A14 -> Remo con mancuernas | B14: ='Semana 1'!B14 -> 3 | C14: ='Semana 1'!C14 -> 44053
A15: ='Semana 1'!A15 -> Curl de bíceps concentrado | B15: ='Semana 1'!B15 -> 3 | C15: ='Semana 1'!C15 -> 44053 | F15: =IF(D15*E15=0,"",D15*E15)
A16: ='Semana 1'!A16 -> Curl de bíceps con mancuerna alterno | B16: ='Semana 1'!B16 -> 3 | C16: ='Semana 1'!C16 -> 44053 | F16: =IF(D16*E16=0,"",D16*E16)
A17: ='Semana 1'!A17 -> Curl invertido con barra (SS1) | B17: ='Semana 1'!B17 -> 2 | C17: ='Semana 1'!C17 -> 12 | F17: =IF(D17*E17=0,"",D17*E17)
A18: ='Semana 1'!A18 -> Curl de muñeca con barra (SS1) | B18: ='Semana 1'!B18 -> 2 | C18: ='Semana 1'!C18 -> 20 | F18: =IF(D18*E18=0,"",D18*E18)
A19: ='Semana 1'!A19 -> Abdominales (SS2) | B19: ='Semana 1'!B19 -> * | C19: ='Semana 1'!C19 -> 50 | F19: =IF(D19*E19=0,"",D19*E19)
A20: ='Semana 1'!A20 -> Elevacion de piernas SS2) | B20: ='Semana 1'!B20 -> * | C20: ='Semana 1'!C20 -> 50 | F20: =IF(D20*E20=0,"",D20*E20)
A21: ='Semana 1'!A21 -> Elevación de rodillas en suspensión (SS3) | B21: ='Semana 1'!B21 -> * | C21: ='Semana 1'!C21 -> 50 | F21: =IF(D21*E21=0,"",D21*E21)
A22: ='Semana 1'!A22 -> Twists (SS3) | B22: ='Semana 1'!B22 -> * | C22: ='Semana 1'!C22 -> 50
A23: ='Semana 1'!A23 -> 0 | B23: ='Semana 1'!B23 -> 0 | C23: ='Semana 1'!C23 -> 0
A24: ='Semana 1'!A24 -> Dia 2: Piernas, gemelos y abdominales | B24: ='Semana 1'!B24 -> 0 | C24: ='Semana 1'!C24 -> 0
A25: ='Semana 1'!A25 -> 0 | B25: ='Semana 1'!B25 -> 0 | C25: ='Semana 1'!C25 -> 0 | F25: =IF(D25*E25=0,"",D25*E25)
A26: ='Semana 1'!A26 -> Ejercicioss | B26: ='Semana 1'!B26 -> Sets | C26: ='Semana 1'!C26 -> Reps | F26: =IF(D26*E26=0,"",D26*E26)
A27: ='Semana 1'!A27 -> Extensiones de pierna (Como calentamiento) | B27: ='Semana 1'!B27 -> 0 | C27: ='Semana 1'!C27 -> 0 | F27: =IF(D27*E27=0,"",D27*E27)
A28: ='Semana 1'!A28 -> Sentadillas | B28: ='Semana 1'!B28 -> 1 | C28: ='Semana 1'!C28 -> 15 | F28: =IF(D28*E28=0,"",D28*E28)
A29: ='Semana 1'!A29 -> Sentadillas (set 2) | B29: ='Semana 1'!B29 -> 1 | C29: ='Semana 1'!C29 -> 12 | F29: =IF(D29*E29=0,"",D29*E29)
A30: ='Semana 1'!A30 -> Sentadillas (set 3) | B30: ='Semana 1'!B30 -> 1 | C30: ='Semana 1'!C30 -> 11 | F30: =IF(D30*E30=0,"",D30*E30)
A31: ='Semana 1'!A31 -> Sentadillas (set 4) | B31: ='Semana 1'!B31 -> 1 | C31: ='Semana 1'!C31 -> 10
A32: ='Semana 1'!A32 -> Sentadillas (set 5) | B32: ='Semana 1'!B32 -> 1 | C32: ='Semana 1'!C32 -> 9
A33: ='Semana 1'!A33 -> Sentadillas (set 6) | B33: ='Semana 1'!B33 -> 1 | C33: ='Semana 1'!C33 -> 8 | F33: =IF(D33*E33=0,"",D33*E33)
A34: ='Semana 1'!A34 -> Prensa | B34: ='Semana 1'!B34 -> 1 | C34: ='Semana 1'!C34 -> 15 | F34: =IF(D34*E34=0,"",D34*E34)
A35: ='Semana 1'!A35 -> Prensa (set 2) | B35: ='Semana 1'!B35 -> 1 | C35: ='Semana 1'!C35 -> 12 | F35: =IF(D35*E35=0,"",D35*E35)
A36: ='Semana 1'!A36 -> Prensa (set 3) | B36: ='Semana 1'!B36 -> 1 | C36: ='Semana 1'!C36 -> 10 | F36: =IF(D36*E36=0,"",D36*E36)
A37: ='Semana 1'!A37 -> Curl de pierna | B37: ='Semana 1'!B37 -> 3 | C37: ='Semana 1'!C37 -> 44116 | F37: =IF(D37*E37=0,"",D37*E37)
A38: ='Semana 1'!A38 -> Extensiones de pierna | B38: ='Semana 1'!B38 -> 1 | C38: ='Semana 1'!C38 -> 12 | F38: =IF(D38*E38=0,"",D38*E38)
A39: ='Semana 1'!A39 -> Extensiones de pierna (set 2) | B39: ='Semana 1'!B39 -> 1 | C39: ='Semana 1'!C39 -> 10 | F39: =IF(D39*E39=0,"",D39*E39)
A40: ='Semana 1'!A40 -> Extensiones de pierna (set 3) | B40: ='Semana 1'!B40 -> 1 | C40: ='Semana 1'!C40 -> 8 | F40: =IF(D40*E40=0,"",D40*E40)
A41: ='Semana 1'!A41 -> Elevación de gemelos | B41: ='Semana 1'!B41 -> 3 | C41: ='Semana 1'!C41 -> 15-20 | F41: =IF(D41*E41=0,"",D41*E41)
A42: ='Semana 1'!A42 -> Elevación de gemelos tipo burro | B42: ='Semana 1'!B42 -> 4 | C42: ='Semana 1'!C42 -> 20-25 | F42: =IF(D42*E42=0,"",D42*E42)
A43: ='Semana 1'!A43 -> Elevación de gemelos sentado (4x drop set, all 5 reps) | B43: ='Semana 1'!B43 -> 1 | C43: ='Semana 1'!C43 -> 5 | F43: =IF(D43*E43=0,"",D43*E43)
A44: ='Semana 1'!A44 -> Trabajo abdominal ligero | B44: ='Semana 1'!B44 -> 0 | C44: ='Semana 1'!C44 -> 0 | F44: =IF(D44*E44=0,"",D44*E44)
... A51: ='Semana 1'!A51 -> Press de banca (set 3) | B51: ='Semana 1'!B51 -> 1 | C51: ='Semana 1'!C51 -> 8 | F51: =IF(D51*E51=0,"",D51*E51)
A52: ='Semana 1'!A52 -> Press de banca (set 4) | B52: ='Semana 1'!B52 -> 1 | C52: ='Semana 1'!C52 -> 6
A53: ='Semana 1'!A53 -> Press de banca (set 5) | B53: ='Semana 1'!B53 -> 1 | C53: ='Semana 1'!C53 -> 4 | F53: =IF(D53*E53=0,"",D53*E53)
A54: ='Semana 1'!A54 -> Press de banca (set 6) | B54: ='Semana 1'!B54 -> 1 | C54: ='Semana 1'!C54 -> 2 | F54: =IF(D54*E54=0,"",D54*E54)
A55: ='Semana 1'!A55 -> Press inclinado con mancuernas | B55: ='Semana 1'!B55 -> 1 | C55: ='Semana 1'!C55 -> 10 | F55: =IF(D55*E55=0,"",D55*E55)
A56: ='Semana 1'!A56 -> Press inclinado con mancuernas (set 2) | B56: ='Semana 1'!B56 -> 1 | C56: ='Semana 1'!C56 -> 8 | F56: =IF(D56*E56=0,"",D56*E56)
A57: ='Semana 1'!A57 -> Press inclinado con mancuernas (set 3) | B57: ='Semana 1'!B57 -> 1 | C57: ='Semana 1'!C57 -> 6
A58: ='Semana 1'!A58 -> Press inclinado con mancuernas (set 4) | B58: ='Semana 1'!B58 -> 1 | C58: ='Semana 1'!C58 -> 43927
A59: ='Semana 1'!A59 -> Flyes declinadas con mancuernas | B59: ='Semana 1'!B59 -> 1 | C59: ='Semana 1'!C59 -> 12
A60: ='Semana 1'!A60 -> Flyes declinadas con mancuernas (set 2) | B60: ='Semana 1'!B60 -> 1 | C60: ='Semana 1'!C60 -> 10
A61: ='Semana 1'!A61 -> Flyes declinadas con mancuernas (set 3) | B61: ='Semana 1'!B61 -> 1 | C61: ='Semana 1'!C61 -> 8
A62: ='Semana 1'!A62 -> Pullover con mancuerna | B62: ='Semana 1'!B62 -> 1 | C62: ='Semana 1'!C62 -> 12
A63: ='Semana 1'!A63 -> Pullover con mancuerna (set 2) | B63: ='Semana 1'!B63 -> 1 | C63: ='Semana 1'!C63 -> 10
A64: ='Semana 1'!A64 -> Pullover con mancuerna (set 3) | B64: ='Semana 1'!B64 -> 1 | C64: ='Semana 1'!C64 -> 8
A65: ='Semana 1'!A65 -> Press de banca agarre estrecho | B65: ='Semana 1'!B65 -> 1 | C65: ='Semana 1'!C65 -> 12
A66: ='Semana 1'!A66 -> Press de banca agarre estrecho (set 2) | B66: ='Semana 1'!B66 -> 1 | C66: ='Semana 1'!C66 -> 10
A67: ='Semana 1'!A67 -> Press de banca agarre estrecho (set 3) | B67: ='Semana 1'!B67 -> 1 | C67: ='Semana 1'!C67 -> 8
A68: ='Semana 1'!A68 -> Extensión de tríceps sobre cabeza con mancuerna a una mano | B68: ='Semana 1'!B68 -> 1 | C68: ='Semana 1'!C68 -> 12
... A103: ='Semana 1'!A103 -> 0 | B103: ='Semana 1'!B103 -> 0 | C103: ='Semana 1'!C103 -> 0

Sheet Semana 5
A2: ='Semana 1'!A2 -> Dia 1: Espalda, biceps, antebrazo y abdominales | B2: ='Semana 1'!B2 -> 0 | C2: ='Semana 1'!C2 -> 0
A3: ='Semana 1'!A3 -> 0 | B3: ='Semana 1'!B3 -> 0 | C3: ='Semana 1'!C3 -> 0
A4: ='Semana 1'!A4 -> Ejercicios | B4: ='Semana 1'!B4 -> Sets | C4: ='Semana 1'!C4 -> Reps | D4: Peso | E4: Total Reps | F4: Volumen
A5: ='Semana 1'!A5 -> Peso muerto con agarre ancho | B5: ='Semana 1'!B5 -> 1 | C5: ='Semana 1'!C5 -> 15 | F5: =D5*E5 -> 0
A6: ='Semana 1'!A6 -> Peso muerto con agarre ancho (set 2) | B6: ='Semana 1'!B6 -> 1 | C6: ='Semana 1'!C6 -> 12 | F6: =IF(D6*E6=0,"",D6*E6)
A7: ='Semana 1'!A7 -> Peso muerto con agarre ancho (set 3) | B7: ='Semana 1'!B7 -> 1 | C7: ='Semana 1'!C7 -> 10 | F7: =IF(D7*E7=0,"",D7*E7)
A8: ='Semana 1'!A8 -> Peso muerto parcial con agarre ancho desde bloques o rack (set 4,5) | B8: ='Semana 1'!B8 -> 2 | C8: ='Semana 1'!C8 -> 10 | F8: =IF(D8*E8=0,"",D8*E8)
A9: ='Semana 1'!A9 -> Peso muerto parcial con agarre ancho desde bloques o rack (set 6) | B9: ='Semana 1'!B9 -> 1 | C9: ='Semana 1'!C9 -> 8 | F9: =IF(D9*E9=0,"",D9*E9)
A10: ='Semana 1'!A10 -> Remo en barra T | B10: ='Semana 1'!B10 -> 1 | C10: ='Semana 1'!C10 -> 12 | F10: =IF(D10*E10=0,"",D10*E10)
A11: ='Semana 1'!A11 -> Remo en barra T (set 2) | B11: ='Semana 1'!B11 -> 1 | C11: ='Semana 1'!C11 -> 10 | F11: =IF(D11*E11=0,"",D11*E11)
A12: ='Semana 1'!A12 -> Remo en barra T (set 3) | B12: ='Semana 1'!B12 -> 1 | C12: ='Semana 1'!C12 -> 8
A13: ='Semana 1'!A13 -> Jalón al pecho | B13: ='Semana 1'!B13 -> 3 | C13: ='Semana 1'!C13 -> 44053
A14: ='Semana 1'!A14 -> Remo con mancuernas | B14: ='Semana 1'!B14 -> 3 | C14: ='Semana 1'!C14 -> 44053
A15: ='Semana 1'!A15 -> Curl de bíceps concentrado | B15: ='Semana 1'!B15 -> 3 | C15: ='Semana 1'!C15 -> 44053 | F15: =IF(D15*E15=0,"",D15*E15)
A16: ='Semana 1'!A16 -> Curl de bíceps con mancuerna alterno | B16: ='Semana 1'!B16 -> 3 | C16: ='Semana 1'!C16 -> 44053 | F16: =IF(D16*E16=0,"",D16*E16)
A17: ='Semana 1'!A17 -> Curl invertido con barra (SS1) | B17: ='Semana 1'!B17 -> 2 | C17: ='Semana 1'!C17 -> 12 | F17: =IF(D17*E17=0,"",D17*E17)
A18: ='Semana 1'!A18 -> Curl de muñeca con barra (SS1) | B18: ='Semana 1'!B18 -> 2 | C18: ='Semana 1'!C18 -> 20 | F18: =IF(D18*E18=0,"",D18*E18)
A19: ='Semana 1'!A19 -> Abdominales (SS2) | B19: ='Semana 1'!B19 -> * | C19: ='Semana 1'!C19 -> 50 | F19: =IF(D19*E19=0,"",D19*E19)
A20: ='Semana 1'!A20 -> Elevacion de piernas SS2) | B20: ='Semana 1'!B20 -> * | C20: ='Semana 1'!C20 -> 50 | F20: =IF(D20*E20=0,"",D20*E20)
A21: ='Semana 1'!A21 -> Elevación de rodillas en suspensión (SS3) | B21: ='Semana 1'!B21 -> * | C21: ='Semana 1'!C21 -> 50 | F21: =IF(D21*E21=0,"",D21*E21)
A22: ='Semana 1'!A22 -> Twists (SS3) | B22: ='Semana 1'!B22 -> * | C22: ='Semana 1'!C22 -> 50
A23: ='Semana 1'!A23 -> 0 | B23: ='Semana 1'!B23 -> 0 | C23: ='Semana 1'!C23 -> 0
A24: ='Semana 1'!A24 -> Dia 2: Piernas, gemelos y abdominales | B24: ='Semana 1'!B24 -> 0 | C24: ='Semana 1'!C24 -> 0
A25: ='Semana 1'!A25 -> 0 | B25: ='Semana 1'!B25 -> 0 | C25: ='Semana 1'!C25 -> 0 | F25: =IF(D25*E25=0,"",D25*E25)
A26: ='Semana 1'!A26 -> Ejercicioss | B26: ='Semana 1'!B26 -> Sets | C26: ='Semana 1'!C26 -> Reps | F26: =IF(D26*E26=0,"",D26*E26)
A27: ='Semana 1'!A27 -> Extensiones de pierna (Como calentamiento) | B27: ='Semana 1'!B27 -> 0 | C27: ='Semana 1'!C27 -> 0 | F27: =IF(D27*E27=0,"",D27*E27)
A28: ='Semana 1'!A28 -> Sentadillas | B28: ='Semana 1'!B28 -> 1 | C28: ='Semana 1'!C28 -> 15 | F28: =IF(D28*E28=0,"",D28*E28)
A29: ='Semana 1'!A29 -> Sentadillas (set 2) | B29: ='Semana 1'!B29 -> 1 | C29: ='Semana 1'!C29 -> 12 | F29: =IF(D29*E29=0,"",D29*E29)
A30: ='Semana 1'!A30 -> Sentadillas (set 3) | B30: ='Semana 1'!B30 -> 1 | C30: ='Semana 1'!C30 -> 11 | F30: =IF(D30*E30=0,"",D30*E30)
A31: ='Semana 1'!A31 -> Sentadillas (set 4) | B31: ='Semana 1'!B31 -> 1 | C31: ='Semana 1'!C31 -> 10
A32: ='Semana 1'!A32 -> Sentadillas (set 5) | B32: ='Semana 1'!B32 -> 1 | C32: ='Semana 1'!C32 -> 9
A33: ='Semana 1'!A33 -> Sentadillas (set 6) | B33: ='Semana 1'!B33 -> 1 | C33: ='Semana 1'!C33 -> 8 | F33: =IF(D33*E33=0,"",D33*E33)
A34: ='Semana 1'!A34 -> Prensa | B34: ='Semana 1'!B34 -> 1 | C34: ='Semana 1'!C34 -> 15 | F34: =IF(D34*E34=0,"",D34*E34)
A35: ='Semana 1'!A35 -> Prensa (set 2) | B35: ='Semana 1'!B35 -> 1 | C35: ='Semana 1'!C35 -> 12 | F35: =IF(D35*E35=0,"",D35*E35)
A36: ='Semana 1'!A36 -> Prensa (set 3) | B36: ='Semana 1'!B36 -> 1 | C36: ='Semana 1'!C36 -> 10 | F36: =IF(D36*E36=0,"",D36*E36)
A37: ='Semana 1'!A37 -> Curl de pierna | B37: ='Semana 1'!B37 -> 3 | C37: ='Semana 1'!C37 -> 44116 | F37: =IF(D37*E37=0,"",D37*E37)
A38: ='Semana 1'!A38 -> Extensiones de pierna | B38: ='Semana 1'!B38 -> 1 | C38: ='Semana 1'!C38 -> 12 | F38: =IF(D38*E38=0,"",D38*E38)
A39: ='Semana 1'!A39 -> Extensiones de pierna (set 2) | B39: ='Semana 1'!B39 -> 1 | C39: ='Semana 1'!C39 -> 10 | F39: =IF(D39*E39=0,"",D39*E39)
A40: ='Semana 1'!A40 -> Extensiones de pierna (set 3) | B40: ='Semana 1'!B40 -> 1 | C40: ='Semana 1'!C40 -> 8 | F40: =IF(D40*E40=0,"",D40*E40)
A41: ='Semana 1'!A41 -> Elevación de gemelos | B41: ='Semana 1'!B41 -> 3 | C41: ='Semana 1'!C41 -> 15-20 | F41: =IF(D41*E41=0,"",D41*E41)
A42: ='Semana 1'!A42 -> Elevación de gemelos tipo burro | B42: ='Semana 1'!B42 -> 4 | C42: ='Semana 1'!C42 -> 20-25 | F42: =IF(D42*E42=0,"",D42*E42)
A43: ='Semana 1'!A43 -> Elevación de gemelos sentado (4x drop set, all 5 reps) | B43: ='Semana 1'!B43 -> 1 | C43: ='Semana 1'!C43 -> 5 | F43: =IF(D43*E43=0,"",D43*E43)
A44: ='Semana 1'!A44 -> Trabajo abdominal ligero | B44: ='Semana 1'!B44 -> 0 | C44: ='Semana 1'!C44 -> 0 | F44: =IF(D44*E44=0,"",D44*E44)
... A51: ='Semana 1'!A51 -> Press de banca (set 3) | B51: ='Semana 1'!B51 -> 1 | C51: ='Semana 1'!C51 -> 8 | F51: =IF(D51*E51=0,"",D51*E51)
A52: ='Semana 1'!A52 -> Press de banca (set 4) | B52: ='Semana 1'!B52 -> 1 | C52: ='Semana 1'!C52 -> 6
A53: ='Semana 1'!A53 -> Press de banca (set 5) | B53: ='Semana 1'!B53 -> 1 | C53: ='Semana 1'!C53 -> 4 | F53: =IF(D53*E53=0,"",D53*E53)
A54: ='Semana 1'!A54 -> Press de banca (set 6) | B54: ='Semana 1'!B54 -> 1 | C54: ='Semana 1'!C54 -> 2 | F54: =IF(D54*E54=0,"",D54*E54)
A55: ='Semana 1'!A55 -> Press inclinado con mancuernas | B55: ='Semana 1'!B55 -> 1 | C55: ='Semana 1'!C55 -> 10 | F55: =IF(D55*E55=0,"",D55*E55)
A56: ='Semana 1'!A56 -> Press inclinado con mancuernas (set 2) | B56: ='Semana 1'!B56 -> 1 | C56: ='Semana 1'!C56 -> 8 | F56: =IF(D56*E56=0,"",D56*E56)
A57: ='Semana 1'!A57 -> Press inclinado con mancuernas (set 3) | B57: ='Semana 1'!B57 -> 1 | C57: ='Semana 1'!C57 -> 6
A58: ='Semana 1'!A58 -> Press inclinado con mancuernas (set 4) | B58: ='Semana 1'!B58 -> 1 | C58: ='Semana 1'!C58 -> 43927
A59: ='Semana 1'!A59 -> Flyes declinadas con mancuernas | B59: ='Semana 1'!B59 -> 1 | C59: ='Semana 1'!C59 -> 12
A60: ='Semana 1'!A60 -> Flyes declinadas con mancuernas (set 2) | B60: ='Semana 1'!B60 -> 1 | C60: ='Semana 1'!C60 -> 10
A61: ='Semana 1'!A61 -> Flyes declinadas con mancuernas (set 3) | B61: ='Semana 1'!B61 -> 1 | C61: ='Semana 1'!C61 -> 8
A62: ='Semana 1'!A62 -> Pullover con mancuerna | B62: ='Semana 1'!B62 -> 1 | C62: ='Semana 1'!C62 -> 12
A63: ='Semana 1'!A63 -> Pullover con mancuerna (set 2) | B63: ='Semana 1'!B63 -> 1 | C63: ='Semana 1'!C63 -> 10
A64: ='Semana 1'!A64 -> Pullover con mancuerna (set 3) | B64: ='Semana 1'!B64 -> 1 | C64: ='Semana 1'!C64 -> 8
A65: ='Semana 1'!A65 -> Press de banca agarre estrecho | B65: ='Semana 1'!B65 -> 1 | C65: ='Semana 1'!C65 -> 12
A66: ='Semana 1'!A66 -> Press de banca agarre estrecho (set 2) | B66: ='Semana 1'!B66 -> 1 | C66: ='Semana 1'!C66 -> 10
A67: ='Semana 1'!A67 -> Press de banca agarre estrecho (set 3) | B67: ='Semana 1'!B67 -> 1 | C67: ='Semana 1'!C67 -> 8
A68: ='Semana 1'!A68 -> Extensión de tríceps sobre cabeza con mancuerna a una mano | B68: ='Semana 1'!B68 -> 1 | C68: ='Semana 1'!C68 -> 12
... A103: ='Semana 1'!A103 -> 0 | B103: ='Semana 1'!B103 -> 0 | C103: ='Semana 1'!C103 -> 0

Sheet Semana 6
A2: ='Semana 1'!A2 -> Dia 1: Espalda, biceps, antebrazo y abdominales | B2: ='Semana 1'!B2 -> 0 | C2: ='Semana 1'!C2 -> 0
A3: ='Semana 1'!A3 -> 0 | B3: ='Semana 1'!B3 -> 0 | C3: ='Semana 1'!C3 -> 0
A4: ='Semana 1'!A4 -> Ejercicios | B4: ='Semana 1'!B4 -> Sets | C4: ='Semana 1'!C4 -> Reps | D4: Peso | E4: Total Reps | F4: Volumen
A5: ='Semana 1'!A5 -> Peso muerto con agarre ancho | B5: ='Semana 1'!B5 -> 1 | C5: ='Semana 1'!C5 -> 15 | F5: =D5*E5 -> 0
A6: ='Semana 1'!A6 -> Peso muerto con agarre ancho (set 2) | B6: ='Semana 1'!B6 -> 1 | C6: ='Semana 1'!C6 -> 12 | F6: =IF(D6*E6=0,"",D6*E6)
A7: ='Semana 1'!A7 -> Peso muerto con agarre ancho (set 3) | B7: ='Semana 1'!B7 -> 1 | C7: ='Semana 1'!C7 -> 10 | F7: =IF(D7*E7=0,"",D7*E7)
A8: ='Semana 1'!A8 -> Peso muerto parcial con agarre ancho desde bloques o rack (set 4,5) | B8: ='Semana 1'!B8 -> 2 | C8: ='Semana 1'!C8 -> 10 | F8: =IF(D8*E8=0,"",D8*E8)
A9: ='Semana 1'!A9 -> Peso muerto parcial con agarre ancho desde bloques o rack (set 6) | B9: ='Semana 1'!B9 -> 1 | C9: ='Semana 1'!C9 -> 8 | F9: =IF(D9*E9=0,"",D9*E9)
A10: ='Semana 1'!A10 -> Remo en barra T | B10: ='Semana 1'!B10 -> 1 | C10: ='Semana 1'!C10 -> 12 | F10: =IF(D10*E10=0,"",D10*E10)
A11: ='Semana 1'!A11 -> Remo en barra T (set 2) | B11: ='Semana 1'!B11 -> 1 | C11: ='Semana 1'!C11 -> 10 | F11: =IF(D11*E11=0,"",D11*E11)
A12: ='Semana 1'!A12 -> Remo en barra T (set 3) | B12: ='Semana 1'!B12 -> 1 | C12: ='Semana 1'!C12 -> 8
A13: ='Semana 1'!A13 -> Jalón al pecho | B13: ='Semana 1'!B13 -> 3 | C13: ='Semana 1'!C13 -> 44053
A14: ='Semana 1'!A14 -> Remo con mancuernas | B14: ='Semana 1'!B14 -> 3 | C14: ='Semana 1'!C14 -> 44053
A15: ='Semana 1'!A15 -> Curl de bíceps concentrado | B15: ='Semana 1'!B15 -> 3 | C15: ='Semana 1'!C15 -> 44053 | F15: =IF(D15*E15=0,"",D15*E15)
A16: ='Semana 1'!A16 -> Curl de bíceps con mancuerna alterno | B16: ='Semana 1'!B16 -> 3 | C16: ='Semana 1'!C16 -> 44053 | F16: =IF(D16*E16=0,"",D16*E16)
A17: ='Semana 1'!A17 -> Curl invertido con barra (SS1) | B17: ='Semana 1'!B17 -> 2 | C17: ='Semana 1'!C17 -> 12 | F17: =IF(D17*E17=0,"",D17*E17)
A18: ='Semana 1'!A18 -> Curl de muñeca con barra (SS1) | B18: ='Semana 1'!B18 -> 2 | C18: ='Semana 1'!C18 -> 20 | F18: =IF(D18*E18=0,"",D18*E18)
A19: ='Semana 1'!A19 -> Abdominales (SS2) | B19: ='Semana 1'!B19 -> * | C19: ='Semana 1'!C19 -> 50 | F19: =IF(D19*E19=0,"",D19*E19)
A20: ='Semana 1'!A20 -> Elevacion de piernas SS2) | B20: ='Semana 1'!B20 -> * | C20: ='Semana 1'!C20 -> 50 | F20: =IF(D20*E20=0,"",D20*E20)
A21: ='Semana 1'!A21 -> Elevación de rodillas en suspensión (SS3) | B21: ='Semana 1'!B21 -> * | C21: ='Semana 1'!C21 -> 50 | F21: =IF(D21*E21=0,"",D21*E21)
A22: ='Semana 1'!A22 -> Twists (SS3) | B22: ='Semana 1'!B22 -> * | C22: ='Semana 1'!C22 -> 50
A23: ='Semana 1'!A23 -> 0 | B23: ='Semana 1'!B23 -> 0 | C23: ='Semana 1'!C23 -> 0
A24: ='Semana 1'!A24 -> Dia 2: Piernas, gemelos y abdominales | B24: ='Semana 1'!B24 -> 0 | C24: ='Semana 1'!C24 -> 0
A25: ='Semana 1'!A25 -> 0 | B25: ='Semana 1'!B25 -> 0 | C25: ='Semana 1'!C25 -> 0 | F25: =IF(D25*E25=0,"",D25*E25)
A26: ='Semana 1'!A26 -> Ejercicioss | B26: ='Semana 1'!B26 -> Sets | C26: ='Semana 1'!C26 -> Reps | F26: =IF(D26*E26=0,"",D26*E26)
A27: ='Semana 1'!A27 -> Extensiones de pierna (Como calentamiento) | B27: ='Semana 1'!B27 -> 0 | C27: ='Semana 1'!C27 -> 0 | F27: =IF(D27*E27=0,"",D27*E27)
A28: ='Semana 1'!A28 -> Sentadillas | B28: ='Semana 1'!B28 -> 1 | C28: ='Semana 1'!C28 -> 15 | F28: =IF(D28*E28=0,"",D28*E28)
A29: ='Semana 1'!A29 -> Sentadillas (set 2) | B29: ='Semana 1'!B29 -> 1 | C29: ='Semana 1'!C29 -> 12 | F29: =IF(D29*E29=0,"",D29*E29)
A30: ='Semana 1'!A30 -> Sentadillas (set 3) | B30: ='Semana 1'!B30 -> 1 | C30: ='Semana 1'!C30 -> 11 | F30: =IF(D30*E30=0,"",D30*E30)
A31: ='Semana 1'!A31 -> Sentadillas (set 4) | B31: ='Semana 1'!B31 -> 1 | C31: ='Semana 1'!C31 -> 10
A32: ='Semana 1'!A32 -> Sentadillas (set 5) | B32: ='Semana 1'!B32 -> 1 | C32: ='Semana 1'!C32 -> 9
A33: ='Semana 1'!A33 -> Sentadillas (set 6) | B33: ='Semana 1'!B33 -> 1 | C33: ='Semana 1'!C33 -> 8 | F33: =IF(D33*E33=0,"",D33*E33)
A34: ='Semana 1'!A34 -> Prensa | B34: ='Semana 1'!B34 -> 1 | C34: ='Semana 1'!C34 -> 15 | F34: =IF(D34*E34=0,"",D34*E34)
A35: ='Semana 1'!A35 -> Prensa (set 2) | B35: ='Semana 1'!B35 -> 1 | C35: ='Semana 1'!C35 -> 12 | F35: =IF(D35*E35=0,"",D35*E35)
A36: ='Semana 1'!A36 -> Prensa (set 3) | B36: ='Semana 1'!B36 -> 1 | C36: ='Semana 1'!C36 -> 10 | F36: =IF(D36*E36=0,"",D36*E36)
A37: ='Semana 1'!A37 -> Curl de pierna | B37: ='Semana 1'!B37 -> 3 | C37: ='Semana 1'!C37 -> 44116 | F37: =IF(D37*E37=0,"",D37*E37)
A38: ='Semana 1'!A38 -> Extensiones de pierna | B38: ='Semana 1'!B38 -> 1 | C38: ='Semana 1'!C38 -> 12 | F38: =IF(D38*E38=0,"",D38*E38)
A39: ='Semana 1'!A39 -> Extensiones de pierna (set 2) | B39: ='Semana 1'!B39 -> 1 | C39: ='Semana 1'!C39 -> 10 | F39: =IF(D39*E39=0,"",D39*E39)
A40: ='Semana 1'!A40 -> Extensiones de pierna (set 3) | B40: ='Semana 1'!B40 -> 1 | C40: ='Semana 1'!C40 -> 8 | F40: =IF(D40*E40=0,"",D40*E40)
A41: ='Semana 1'!A41 -> Elevación de gemelos | B41: ='Semana 1'!B41 -> 3 | C41: ='Semana 1'!C41 -> 15-20 | F41: =IF(D41*E41=0,"",D41*E41)
A42: ='Semana 1'!A42 -> Elevación de gemelos tipo burro | B42: ='Semana 1'!B42 -> 4 | C42: ='Semana 1'!C42 -> 20-25 | F42: =IF(D42*E42=0,"",D42*E42)
A43: ='Semana 1'!A43 -> Elevación de gemelos sentado (4x drop set, all 5 reps) | B43: ='Semana 1'!B43 -> 1 | C43: ='Semana 1'!C43 -> 5 | F43: =IF(D43*E43=0,"",D43*E43)
A44: ='Semana 1'!A44 -> Trabajo abdominal ligero | B44: ='Semana 1'!B44 -> 0 | C44: ='Semana 1'!C44 -> 0 | F44: =IF(D44*E44=0,"",D44*E44)
... A51: ='Semana 1'!A51 -> Press de banca (set 3) | B51: ='Semana 1'!B51 -> 1 | C51: ='Semana 1'!C51 -> 8 | F51: =IF(D51*E51=0,"",D51*E51)
A52: ='Semana 1'!A52 -> Press de banca (set 4) | B52: ='Semana 1'!B52 -> 1 | C52: ='Semana 1'!C52 -> 6
A53: ='Semana 1'!A53 -> Press de banca (set 5) | B53: ='Semana 1'!B53 -> 1 | C53: ='Semana 1'!C53 -> 4 | F53: =IF(D53*E53=0,"",D53*E53)
A54: ='Semana 1'!A54 -> Press de banca (set 6) | B54: ='Semana 1'!B54 -> 1 | C54: ='Semana 1'!C54 -> 2 | F54: =IF(D54*E54=0,"",D54*E54)
A55: ='Semana 1'!A55 -> Press inclinado con mancuernas | B55: ='Semana 1'!B55 -> 1 | C55: ='Semana 1'!C55 -> 10 | F55: =IF(D55*E55=0,"",D55*E55)
A56: ='Semana 1'!A56 -> Press inclinado con mancuernas (set 2) | B56: ='Semana 1'!B56 -> 1 | C56: ='Semana 1'!C56 -> 8 | F56: =IF(D56*E56=0,"",D56*E56)
A57: ='Semana 1'!A57 -> Press inclinado con mancuernas (set 3) | B57: ='Semana 1'!B57 -> 1 | C57: ='Semana 1'!C57 -> 6
A58: ='Semana 1'!A58 -> Press inclinado con mancuernas (set 4) | B58: ='Semana 1'!B58 -> 1 | C58: ='Semana 1'!C58 -> 43927
A59: ='Semana 1'!A59 -> Flyes declinadas con mancuernas | B59: ='Semana 1'!B59 -> 1 | C59: ='Semana 1'!C59 -> 12
A60: ='Semana 1'!A60 -> Flyes declinadas con mancuernas (set 2) | B60: ='Semana 1'!B60 -> 1 | C60: ='Semana 1'!C60 -> 10
A61: ='Semana 1'!A61 -> Flyes declinadas con mancuernas (set 3) | B61: ='Semana 1'!B61 -> 1 | C61: ='Semana 1'!C61 -> 8
A62: ='Semana 1'!A62 -> Pullover con mancuerna | B62: ='Semana 1'!B62 -> 1 | C62: ='Semana 1'!C62 -> 12
A63: ='Semana 1'!A63 -> Pullover con mancuerna (set 2) | B63: ='Semana 1'!B63 -> 1 | C63: ='Semana 1'!C63 -> 10
A64: ='Semana 1'!A64 -> Pullover con mancuerna (set 3) | B64: ='Semana 1'!B64 -> 1 | C64: ='Semana 1'!C64 -> 8
A65: ='Semana 1'!A65 -> Press de banca agarre estrecho | B65: ='Semana 1'!B65 -> 1 | C65: ='Semana 1'!C65 -> 12
A66: ='Semana 1'!A66 -> Press de banca agarre estrecho (set 2) | B66: ='Semana 1'!B66 -> 1 | C66: ='Semana 1'!C66 -> 10
A67: ='Semana 1'!A67 -> Press de banca agarre estrecho (set 3) | B67: ='Semana 1'!B67 -> 1 | C67: ='Semana 1'!C67 -> 8
A68: ='Semana 1'!A68 -> Extensión de tríceps sobre cabeza con mancuerna a una mano | B68: ='Semana 1'!B68 -> 1 | C68: ='Semana 1'!C68 -> 12
... A103: ='Semana 1'!A103 -> 0 | B103: ='Semana 1'!B103 -> 0 | C103: ='Semana 1'!C103 -> 0

Sheet Semana 7
A2: ='Semana 1'!A2 -> Dia 1: Espalda, biceps, antebrazo y abdominales | B2: ='Semana 1'!B2 -> 0 | C2: ='Semana 1'!C2 -> 0
A3: ='Semana 1'!A3 -> 0 | B3: ='Semana 1'!B3 -> 0 | C3: ='Semana 1'!C3 -> 0
A4: ='Semana 1'!A4 -> Ejercicios | B4: ='Semana 1'!B4 -> Sets | C4: ='Semana 1'!C4 -> Reps | D4: Peso | E4: Total Reps | F4: Volumen
A5: ='Semana 1'!A5 -> Peso muerto con agarre ancho | B5: ='Semana 1'!B5 -> 1 | C5: ='Semana 1'!C5 -> 15 | F5: =D5*E5 -> 0
A6: ='Semana 1'!A6 -> Peso muerto con agarre ancho (set 2) | B6: ='Semana 1'!B6 -> 1 | C6: ='Semana 1'!C6 -> 12 | F6: =IF(D6*E6=0,"",D6*E6)
A7: ='Semana 1'!A7 -> Peso muerto con agarre ancho (set 3) | B7: ='Semana 1'!B7 -> 1 | C7: ='Semana 1'!C7 -> 10 | F7: =IF(D7*E7=0,"",D7*E7)
A8: ='Semana 1'!A8 -> Peso muerto parcial con agarre ancho desde bloques o rack (set 4,5) | B8: ='Semana 1'!B8 -> 2 | C8: ='Semana 1'!C8 -> 10 | F8: =IF(D8*E8=0,"",D8*E8)
A9: ='Semana 1'!A9 -> Peso muerto parcial con agarre ancho desde bloques o rack (set 6) | B9: ='Semana 1'!B9 -> 1 | C9: ='Semana 1'!C9 -> 8 | F9: =IF(D9*E9=0,"",D9*E9)
A10: ='Semana 1'!A10 -> Remo en barra T | B10: ='Semana 1'!B10 -> 1 | C10: ='Semana 1'!C10 -> 12 | F10: =IF(D10*E10=0,"",D10*E10)
A11: ='Semana 1'!A11 -> Remo en barra T (set 2) | B11: ='Semana 1'!B11 -> 1 | C11: ='Semana 1'!C11 -> 10 | F11: =IF(D11*E11=0,"",D11*E11)
A12: ='Semana 1'!A12 -> Remo en barra T (set 3) | B12: ='Semana 1'!B12 -> 1 | C12: ='Semana 1'!C12 -> 8
A13: ='Semana 1'!A13 -> Jalón al pecho | B13: ='Semana 1'!B13 -> 3 | C13: ='Semana 1'!C13 -> 44053
A14: ='Semana 1'!A14 -> Remo con mancuernas | B14: ='Semana 1'!B14 -> 3 | C14: ='Semana 1'!C14 -> 44053
A15: ='Semana 1'!A15 -> Curl de bíceps concentrado | B15: ='Semana 1'!B15 -> 3 | C15: ='Semana 1'!C15 -> 44053 | F15: =IF(D15*E15=0,"",D15*E15)
A16: ='Semana 1'!A16 -> Curl de bíceps con mancuerna alterno | B16: ='Semana 1'!B16 -> 3 | C16: ='Semana 1'!C16 -> 44053 | F16: =IF(D16*E16=0,"",D16*E16)
A17: ='Semana 1'!A17 -> Curl invertido con barra (SS1) | B17: ='Semana 1'!B17 -> 2 | C17: ='Semana 1'!C17 -> 12 | F17: =IF(D17*E17=0,"",D17*E17)
A18: ='Semana 1'!A18 -> Curl de muñeca con barra (SS1) | B18: ='Semana 1'!B18 -> 2 | C18: ='Semana 1'!C18 -> 20 | F18: =IF(D18*E18=0,"",D18*E18)
A19: ='Semana 1'!A19 -> Abdominales (SS2) | B19: ='Semana 1'!B19 -> * | C19: ='Semana 1'!C19 -> 50 | F19: =IF(D19*E19=0,"",D19*E19)
A20: ='Semana 1'!A20 -> Elevacion de piernas SS2) | B20: ='Semana 1'!B20 -> * | C20: ='Semana 1'!C20 -> 50 | F20: =IF(D20*E20=0,"",D20*E20)
A21: ='Semana 1'!A21 -> Elevación de rodillas en suspensión (SS3) | B21: ='Semana 1'!B21 -> * | C21: ='Semana 1'!C21 -> 50 | F21: =IF(D21*E21=0,"",D21*E21)
A22: ='Semana 1'!A22 -> Twists (SS3) | B22: ='Semana 1'!B22 -> * | C22: ='Semana 1'!C22 -> 50
A23: ='Semana 1'!A23 -> 0 | B23: ='Semana 1'!B23 -> 0 | C23: ='Semana 1'!C23 -> 0
A24: ='Semana 1'!A24 -> Dia 2: Piernas, gemelos y abdominales | B24: ='Semana 1'!B24 -> 0 | C24: ='Semana 1'!C24 -> 0
A25: ='Semana 1'!A25 -> 0 | B25: ='Semana 1'!B25 -> 0 | C25: ='Semana 1'!C25 -> 0 | F25: =IF(D25*E25=0,"",D25*E25)
A26: ='Semana 1'!A26 -> Ejercicioss | B26: ='Semana 1'!B26 -> Sets | C26: ='Semana 1'!C26 -> Reps | F26: =IF(D26*E26=0,"",D26*E26)
A27: ='Semana 1'!A27 -> Extensiones de pierna (Como calentamiento) | B27: ='Semana 1'!B27 -> 0 | C27: ='Semana 1'!C27 -> 0 | F27: =IF(D27*E27=0,"",D27*E27)
A28: ='Semana 1'!A28 -> Sentadillas | B28: ='Semana 1'!B28 -> 1 | C28: ='Semana 1'!C28 -> 15 | F28: =IF(D28*E28=0,"",D28*E28)
A29: ='Semana 1'!A29 -> Sentadillas (set 2) | B29: ='Semana 1'!B29 -> 1 | C29: ='Semana 1'!C29 -> 12 | F29: =IF(D29*E29=0,"",D29*E29)
A30: ='Semana 1'!A30 -> Sentadillas (set 3) | B30: ='Semana 1'!B30 -> 1 | C30: ='Semana 1'!C30 -> 11 | F30: =IF(D30*E30=0,"",D30*E30)
A31: ='Semana 1'!A31 -> Sentadillas (set 4) | B31: ='Semana 1'!B31 -> 1 | C31: ='Semana 1'!C31 -> 10
A32: ='Semana 1'!A32 -> Sentadillas (set 5) | B32: ='Semana 1'!B32 -> 1 | C32: ='Semana 1'!C32 -> 9
A33: ='Semana 1'!A33 -> Sentadillas (set 6) | B33: ='Semana 1'!B33 -> 1 | C33: ='Semana 1'!C33 -> 8 | F33: =IF(D33*E33=0,"",D33*E33)
A34: ='Semana 1'!A34 -> Prensa | B34: ='Semana 1'!B34 -> 1 | C34: ='Semana 1'!C34 -> 15 | F34: =IF(D34*E34=0,"",D34*E34)
A35: ='Semana 1'!A35 -> Prensa (set 2) | B35: ='Semana 1'!B35 -> 1 | C35: ='Semana 1'!C35 -> 12 | F35: =IF(D35*E35=0,"",D35*E35)
A36: ='Semana 1'!A36 -> Prensa (set 3) | B36: ='Semana 1'!B36 -> 1 | C36: ='Semana 1'!C36 -> 10 | F36: =IF(D36*E36=0,"",D36*E36)
A37: ='Semana 1'!A37 -> Curl de pierna | B37: ='Semana 1'!B37 -> 3 | C37: ='Semana 1'!C37 -> 44116 | F37: =IF(D37*E37=0,"",D37*E37)
A38: ='Semana 1'!A38 -> Extensiones de pierna | B38: ='Semana 1'!B38 -> 1 | C38: ='Semana 1'!C38 -> 12 | F38: =IF(D38*E38=0,"",D38*E38)
A39: ='Semana 1'!A39 -> Extensiones de pierna (set 2) | B39: ='Semana 1'!B39 -> 1 | C39: ='Semana 1'!C39 -> 10 | F39: =IF(D39*E39=0,"",D39*E39)
A40: ='Semana 1'!A40 -> Extensiones de pierna (set 3) | B40: ='Semana 1'!B40 -> 1 | C40: ='Semana 1'!C40 -> 8 | F40: =IF(D40*E40=0,"",D40*E40)
A41: ='Semana 1'!A41 -> Elevación de gemelos | B41: ='Semana 1'!B41 -> 3 | C41: ='Semana 1'!C41 -> 15-20 | F41: =IF(D41*E41=0,"",D41*E41)
A42: ='Semana 1'!A42 -> Elevación de gemelos tipo burro | B42: ='Semana 1'!B42 -> 4 | C42: ='Semana 1'!C42 -> 20-25 | F42: =IF(D42*E42=0,"",D42*E42)
A43: ='Semana 1'!A43 -> Elevación de gemelos sentado (4x drop set, all 5 reps) | B43: ='Semana 1'!B43 -> 1 | C43: ='Semana 1'!C43 -> 5 | F43: =IF(D43*E43=0,"",D43*E43)
A44: ='Semana 1'!A44 -> Trabajo abdominal ligero | B44: ='Semana 1'!B44 -> 0 | C44: ='Semana 1'!C44 -> 0 | F44: =IF(D44*E44=0,"",D44*E44)
... A51: ='Semana 1'!A51 -> Press de banca (set 3) | B51: ='Semana 1'!B51 -> 1 | C51: ='Semana 1'!C51 -> 8 | F51: =IF(D51*E51=0,"",D51*E51)
A52: ='Semana 1'!A52 -> Press de banca (set 4) | B52: ='Semana 1'!B52 -> 1 | C52: ='Semana 1'!C52 -> 6
A53: ='Semana 1'!A53 -> Press de banca (set 5) | B53: ='Semana 1'!B53 -> 1 | C53: ='Semana 1'!C53 -> 4 | F53: =IF(D53*E53=0,"",D53*E53)
A54: ='Semana 1'!A54 -> Press de banca (set 6) | B54: ='Semana 1'!B54 -> 1 | C54: ='Semana 1'!C54 -> 2 | F54: =IF(D54*E54=0,"",D54*E54)
A55: ='Semana 1'!A55 -> Press inclinado con mancuernas | B55: ='Semana 1'!B55 -> 1 | C55: ='Semana 1'!C55 -> 10 | F55: =IF(D55*E55=0,"",D55*E55)
A56: ='Semana 1'!A56 -> Press inclinado con mancuernas (set 2) | B56: ='Semana 1'!B56 -> 1 | C56: ='Semana 1'!C56 -> 8 | F56: =IF(D56*E56=0,"",D56*E56)
A57: ='Semana 1'!A57 -> Press inclinado con mancuernas (set 3) | B57: ='Semana 1'!B57 -> 1 | C57: ='Semana 1'!C57 -> 6
A58: ='Semana 1'!A58 -> Press inclinado con mancuernas (set 4) | B58: ='Semana 1'!B58 -> 1 | C58: ='Semana 1'!C58 -> 43927
A59: ='Semana 1'!A59 -> Flyes declinadas con mancuernas | B59: ='Semana 1'!B59 -> 1 | C59: ='Semana 1'!C59 -> 12
A60: ='Semana 1'!A60 -> Flyes declinadas con mancuernas (set 2) | B60: ='Semana 1'!B60 -> 1 | C60: ='Semana 1'!C60 -> 10
A61: ='Semana 1'!A61 -> Flyes declinadas con mancuernas (set 3) | B61: ='Semana 1'!B61 -> 1 | C61: ='Semana 1'!C61 -> 8
A62: ='Semana 1'!A62 -> Pullover con mancuerna | B62: ='Semana 1'!B62 -> 1 | C62: ='Semana 1'!C62 -> 12
A63: ='Semana 1'!A63 -> Pullover con mancuerna (set 2) | B63: ='Semana 1'!B63 -> 1 | C63: ='Semana 1'!C63 -> 10
A64: ='Semana 1'!A64 -> Pullover con mancuerna (set 3) | B64: ='Semana 1'!B64 -> 1 | C64: ='Semana 1'!C64 -> 8
A65: ='Semana 1'!A65 -> Press de banca agarre estrecho | B65: ='Semana 1'!B65 -> 1 | C65: ='Semana 1'!C65 -> 12
A66: ='Semana 1'!A66 -> Press de banca agarre estrecho (set 2) | B66: ='Semana 1'!B66 -> 1 | C66: ='Semana 1'!C66 -> 10
A67: ='Semana 1'!A67 -> Press de banca agarre estrecho (set 3) | B67: ='Semana 1'!B67 -> 1 | C67: ='Semana 1'!C67 -> 8
A68: ='Semana 1'!A68 -> Extensión de tríceps sobre cabeza con mancuerna a una mano | B68: ='Semana 1'!B68 -> 1 | C68: ='Semana 1'!C68 -> 12
... A103: ='Semana 1'!A103 -> 0 | B103: ='Semana 1'!B103 -> 0 | C103: ='Semana 1'!C103 -> 0

Sheet Semana 8
A2: ='Semana 1'!A2 -> Dia 1: Espalda, biceps, antebrazo y abdominales | B2: ='Semana 1'!B2 -> 0 | C2: ='Semana 1'!C2 -> 0
A3: ='Semana 1'!A3 -> 0 | B3: ='Semana 1'!B3 -> 0 | C3: ='Semana 1'!C3 -> 0
A4: ='Semana 1'!A4 -> Ejercicios | B4: ='Semana 1'!B4 -> Sets | C4: ='Semana 1'!C4 -> Reps | D4: Peso | E4: Total Reps | F4: Volumen
A5: ='Semana 1'!A5 -> Peso muerto con agarre ancho | B5: ='Semana 1'!B5 -> 1 | C5: ='Semana 1'!C5 -> 15 | F5: =D5*E5 -> 0
A6: ='Semana 1'!A6 -> Peso muerto con agarre ancho (set 2) | B6: ='Semana 1'!B6 -> 1 | C6: ='Semana 1'!C6 -> 12 | F6: =IF(D6*E6=0,"",D6*E6)
A7: ='Semana 1'!A7 -> Peso muerto con agarre ancho (set 3) | B7: ='Semana 1'!B7 -> 1 | C7: ='Semana 1'!C7 -> 10 | F7: =IF(D7*E7=0,"",D7*E7)
A8: ='Semana 1'!A8 -> Peso muerto parcial con agarre ancho desde bloques o rack (set 4,5) | B8: ='Semana 1'!B8 -> 2 | C8: ='Semana 1'!C8 -> 10 | F8: =IF(D8*E8=0,"",D8*E8)
A9: ='Semana 1'!A9 -> Peso muerto parcial con agarre ancho desde bloques o rack (set 6) | B9: ='Semana 1'!B9 -> 1 | C9: ='Semana 1'!C9 -> 8 | F9: =IF(D9*E9=0,"",D9*E9)
A10: ='Semana 1'!A10 -> Remo en barra T | B10: ='Semana 1'!B10 -> 1 | C10: ='Semana 1'!C10 -> 12 | F10: =IF(D10*E10=0,"",D10*E10)
A11: ='Semana 1'!A11 -> Remo en barra T (set 2) | B11: ='Semana 1'!B11 -> 1 | C11: ='Semana 1'!C11 -> 10 | F11: =IF(D11*E11=0,"",D11*E11)
A12: ='Semana 1'!A12 -> Remo en barra T (set 3) | B12: ='Semana 1'!B12 -> 1 | C12: ='Semana 1'!C12 -> 8
A13: ='Semana 1'!A13 -> Jalón al pecho | B13: ='Semana 1'!B13 -> 3 | C13: ='Semana 1'!C13 -> 44053
A14: ='Semana 1'!A14 -> Remo con mancuernas | B14: ='Semana 1'!B14 -> 3 | C14: ='Semana 1'!C14 -> 44053
A15: ='Semana 1'!A15 -> Curl de bíceps concentrado | B15: ='Semana 1'!B15 -> 3 | C15: ='Semana 1'!C15 -> 44053 | F15: =IF(D15*E15=0,"",D15*E15)
A16: ='Semana 1'!A16 -> Curl de bíceps con mancuerna alterno | B16: ='Semana 1'!B16 -> 3 | C16: ='Semana 1'!C16 -> 44053 | F16: =IF(D16*E16=0,"",D16*E16)
A17: ='Semana 1'!A17 -> Curl invertido con barra (SS1) | B17: ='Semana 1'!B17 -> 2 | C17: ='Semana 1'!C17 -> 12 | F17: =IF(D17*E17=0,"",D17*E17)
A18: ='Semana 1'!A18 -> Curl de muñeca con barra (SS1) | B18: ='Semana 1'!B18 -> 2 | C18: ='Semana 1'!C18 -> 20 | F18: =IF(D18*E18=0,"",D18*E18)
A19: ='Semana 1'!A19 -> Abdominales (SS2) | B19: ='Semana 1'!B19 -> * | C19: ='Semana 1'!C19 -> 50 | F19: =IF(D19*E19=0,"",D19*E19)
A20: ='Semana 1'!A20 -> Elevacion de piernas SS2) | B20: ='Semana 1'!B20 -> * | C20: ='Semana 1'!C20 -> 50 | F20: =IF(D20*E20=0,"",D20*E20)
A21: ='Semana 1'!A21 -> Elevación de rodillas en suspensión (SS3) | B21: ='Semana 1'!B21 -> * | C21: ='Semana 1'!C21 -> 50 | F21: =IF(D21*E21=0,"",D21*E21)
A22: ='Semana 1'!A22 -> Twists (SS3) | B22: ='Semana 1'!B22 -> * | C22: ='Semana 1'!C22 -> 50
A23: ='Semana 1'!A23 -> 0 | B23: ='Semana 1'!B23 -> 0 | C23: ='Semana 1'!C23 -> 0
A24: ='Semana 1'!A24 -> Dia 2: Piernas, gemelos y abdominales | B24: ='Semana 1'!B24 -> 0 | C24: ='Semana 1'!C24 -> 0
A25: ='Semana 1'!A25 -> 0 | B25: ='Semana 1'!B25 -> 0 | C25: ='Semana 1'!C25 -> 0 | F25: =IF(D25*E25=0,"",D25*E25)
A26: ='Semana 1'!A26 -> Ejercicioss | B26: ='Semana 1'!B26 -> Sets | C26: ='Semana 1'!C26 -> Reps | F26: =IF(D26*E26=0,"",D26*E26)
A27: ='Semana 1'!A27 -> Extensiones de pierna (Como calentamiento) | B27: ='Semana 1'!B27 -> 0 | C27: ='Semana 1'!C27 -> 0 | F27: =IF(D27*E27=0,"",D27*E27)
A28: ='Semana 1'!A28 -> Sentadillas | B28: ='Semana 1'!B28 -> 1 | C28: ='Semana 1'!C28 -> 15 | F28: =IF(D28*E28=0,"",D28*E28)
A29: ='Semana 1'!A29 -> Sentadillas (set 2) | B29: ='Semana 1'!B29 -> 1 | C29: ='Semana 1'!C29 -> 12 | F29: =IF(D29*E29=0,"",D29*E29)
A30: ='Semana 1'!A30 -> Sentadillas (set 3) | B30: ='Semana 1'!B30 -> 1 | C30: ='Semana 1'!C30 -> 11 | F30: =IF(D30*E30=0,"",D30*E30)
A31: ='Semana 1'!A31 -> Sentadillas (set 4) | B31: ='Semana 1'!B31 -> 1 | C31: ='Semana 1'!C31 -> 10
A32: ='Semana 1'!A32 -> Sentadillas (set 5) | B32: ='Semana 1'!B32 -> 1 | C32: ='Semana 1'!C32 -> 9
A33: ='Semana 1'!A33 -> Sentadillas (set 6) | B33: ='Semana 1'!B33 -> 1 | C33: ='Semana 1'!C33 -> 8 | F33: =IF(D33*E33=0,"",D33*E33)
A34: ='Semana 1'!A34 -> Prensa | B34: ='Semana 1'!B34 -> 1 | C34: ='Semana 1'!C34 -> 15 | F34: =IF(D34*E34=0,"",D34*E34)
A35: ='Semana 1'!A35 -> Prensa (set 2) | B35: ='Semana 1'!B35 -> 1 | C35: ='Semana 1'!C35 -> 12 | F35: =IF(D35*E35=0,"",D35*E35)
A36: ='Semana 1'!A36 -> Prensa (set 3) | B36: ='Semana 1'!B36 -> 1 | C36: ='Semana 1'!C36 -> 10 | F36: =IF(D36*E36=0,"",D36*E36)
A37: ='Semana 1'!A37 -> Curl de pierna | B37: ='Semana 1'!B37 -> 3 | C37: ='Semana 1'!C37 -> 44116 | F37: =IF(D37*E37=0,"",D37*E37)
A38: ='Semana 1'!A38 -> Extensiones de pierna | B38: ='Semana 1'!B38 -> 1 | C38: ='Semana 1'!C38 -> 12 | F38: =IF(D38*E38=0,"",D38*E38)
A39: ='Semana 1'!A39 -> Extensiones de pierna (set 2) | B39: ='Semana 1'!B39 -> 1 | C39: ='Semana 1'!C39 -> 10 | F39: =IF(D39*E39=0,"",D39*E39)
A40: ='Semana 1'!A40 -> Extensiones de pierna (set 3) | B40: ='Semana 1'!B40 -> 1 | C40: ='Semana 1'!C40 -> 8 | F40: =IF(D40*E40=0,"",D40*E40)
A41: ='Semana 1'!A41 -> Elevación de gemelos | B41: ='Semana 1'!B41 -> 3 | C41: ='Semana 1'!C41 -> 15-20 | F41: =IF(D41*E41=0,"",D41*E41)
A42: ='Semana 1'!A42 -> Elevación de gemelos tipo burro | B42: ='Semana 1'!B42 -> 4 | C42: ='Semana 1'!C42 -> 20-25 | F42: =IF(D42*E42=0,"",D42*E42)
A43: ='Semana 1'!A43 -> Elevación de gemelos sentado (4x drop set, all 5 reps) | B43: ='Semana 1'!B43 -> 1 | C43: ='Semana 1'!C43 -> 5 | F43: =IF(D43*E43=0,"",D43*E43)
A44: ='Semana 1'!A44 -> Trabajo abdominal ligero | B44: ='Semana 1'!B44 -> 0 | C44: ='Semana 1'!C44 -> 0 | F44: =IF(D44*E44=0,"",D44*E44)
... A51: ='Semana 1'!A51 -> Press de banca (set 3) | B51: ='Semana 1'!B51 -> 1 | C51: ='Semana 1'!C51 -> 8 | F51: =IF(D51*E51=0,"",D51*E51)
A52: ='Semana 1'!A52 -> Press de banca (set 4) | B52: ='Semana 1'!B52 -> 1 | C52: ='Semana 1'!C52 -> 6
A53: ='Semana 1'!A53 -> Press de banca (set 5) | B53: ='Semana 1'!B53 -> 1 | C53: ='Semana 1'!C53 -> 4 | F53: =IF(D53*E53=0,"",D53*E53)
A54: ='Semana 1'!A54 -> Press de banca (set 6) | B54: ='Semana 1'!B54 -> 1 | C54: ='Semana 1'!C54 -> 2 | F54: =IF(D54*E54=0,"",D54*E54)
A55: ='Semana 1'!A55 -> Press inclinado con mancuernas | B55: ='Semana 1'!B55 -> 1 | C55: ='Semana 1'!C55 -> 10 | F55: =IF(D55*E55=0,"",D55*E55)
A56: ='Semana 1'!A56 -> Press inclinado con mancuernas (set 2) | B56: ='Semana 1'!B56 -> 1 | C56: ='Semana 1'!C56 -> 8 | F56: =IF(D56*E56=0,"",D56*E56)
A57: ='Semana 1'!A57 -> Press inclinado con mancuernas (set 3) | B57: ='Semana 1'!B57 -> 1 | C57: ='Semana 1'!C57 -> 6
A58: ='Semana 1'!A58 -> Press inclinado con mancuernas (set 4) | B58: ='Semana 1'!B58 -> 1 | C58: ='Semana 1'!C58 -> 43927
A59: ='Semana 1'!A59 -> Flyes declinadas con mancuernas | B59: ='Semana 1'!B59 -> 1 | C59: ='Semana 1'!C59 -> 12
A60: ='Semana 1'!A60 -> Flyes declinadas con mancuernas (set 2) | B60: ='Semana 1'!B60 -> 1 | C60: ='Semana 1'!C60 -> 10
A61: ='Semana 1'!A61 -> Flyes declinadas con mancuernas (set 3) | B61: ='Semana 1'!B61 -> 1 | C61: ='Semana 1'!C61 -> 8
A62: ='Semana 1'!A62 -> Pullover con mancuerna | B62: ='Semana 1'!B62 -> 1 | C62: ='Semana 1'!C62 -> 12
A63: ='Semana 1'!A63 -> Pullover con mancuerna (set 2) | B63: ='Semana 1'!B63 -> 1 | C63: ='Semana 1'!C63 -> 10
A64: ='Semana 1'!A64 -> Pullover con mancuerna (set 3) | B64: ='Semana 1'!B64 -> 1 | C64: ='Semana 1'!C64 -> 8
A65: ='Semana 1'!A65 -> Press de banca agarre estrecho | B65: ='Semana 1'!B65 -> 1 | C65: ='Semana 1'!C65 -> 12
A66: ='Semana 1'!A66 -> Press de banca agarre estrecho (set 2) | B66: ='Semana 1'!B66 -> 1 | C66: ='Semana 1'!C66 -> 10
A67: ='Semana 1'!A67 -> Press de banca agarre estrecho (set 3) | B67: ='Semana 1'!B67 -> 1 | C67: ='Semana 1'!C67 -> 8
A68: ='Semana 1'!A68 -> Extensión de tríceps sobre cabeza con mancuerna a una mano | B68: ='Semana 1'!B68 -> 1 | C68: ='Semana 1'!C68 -> 12
... A103: ='Semana 1'!A103 -> 0 | B103: ='Semana 1'!B103 -> 0 | C103: ='Semana 1'!C103 -> 0

Sheet Semana 9
A2: ='Semana 1'!A2 -> Dia 1: Espalda, biceps, antebrazo y abdominales | B2: ='Semana 1'!B2 -> 0 | C2: ='Semana 1'!C2 -> 0
A3: ='Semana 1'!A3 -> 0 | B3: ='Semana 1'!B3 -> 0 | C3: ='Semana 1'!C3 -> 0
A4: ='Semana 1'!A4 -> Ejercicios | B4: ='Semana 1'!B4 -> Sets | C4: ='Semana 1'!C4 -> Reps | D4: Peso | E4: Total Reps | F4: Volumen
A5: ='Semana 1'!A5 -> Peso muerto con agarre ancho | B5: ='Semana 1'!B5 -> 1 | C5: ='Semana 1'!C5 -> 15 | F5: =D5*E5 -> 0
A6: ='Semana 1'!A6 -> Peso muerto con agarre ancho (set 2) | B6: ='Semana 1'!B6 -> 1 | C6: ='Semana 1'!C6 -> 12 | F6: =IF(D6*E6=0,"",D6*E6)
A7: ='Semana 1'!A7 -> Peso muerto con agarre ancho (set 3) | B7: ='Semana 1'!B7 -> 1 | C7: ='Semana 1'!C7 -> 10 | F7: =IF(D7*E7=0,"",D7*E7)
A8: ='Semana 1'!A8 -> Peso muerto parcial con agarre ancho desde bloques o rack (set 4,5) | B8: ='Semana 1'!B8 -> 2 | C8: ='Semana 1'!C8 -> 10 | F8: =IF(D8*E8=0,"",D8*E8)
A9: ='Semana 1'!A9 -> Peso muerto parcial con agarre ancho desde bloques o rack (set 6) | B9: ='Semana 1'!B9 -> 1 | C9: ='Semana 1'!C9 -> 8 | F9: =IF(D9*E9=0,"",D9*E9)
A10: ='Semana 1'!A10 -> Remo en barra T | B10: ='Semana 1'!B10 -> 1 | C10: ='Semana 1'!C10 -> 12 | F10: =IF(D10*E10=0,"",D10*E10)
A11: ='Semana 1'!A11 -> Remo en barra T (set 2) | B11: ='Semana 1'!B11 -> 1 | C11: ='Semana 1'!C11 -> 10 | F11: =IF(D11*E11=0,"",D11*E11)
A12: ='Semana 1'!A12 -> Remo en barra T (set 3) | B12: ='Semana 1'!B12 -> 1 | C12: ='Semana 1'!C12 -> 8
A13: ='Semana 1'!A13 -> Jalón al pecho | B13: ='Semana 1'!B13 -> 3 | C13: ='Semana 1'!C13 -> 44053
A14: ='Semana 1'!A14 -> Remo con mancuernas | B14: ='Semana 1'!B14 -> 3 | C14: ='Semana 1'!C14 -> 44053
A15: ='Semana 1'!A15 -> Curl de bíceps concentrado | B15: ='Semana 1'!B15 -> 3 | C15: ='Semana 1'!C15 -> 44053 | F15: =IF(D15*E15=0,"",D15*E15)
A16: ='Semana 1'!A16 -> Curl de bíceps con mancuerna alterno | B16: ='Semana 1'!B16 -> 3 | C16: ='Semana 1'!C16 -> 44053 | F16: =IF(D16*E16=0,"",D16*E16)
A17: ='Semana 1'!A17 -> Curl invertido con barra (SS1) | B17: ='Semana 1'!B17 -> 2 | C17: ='Semana 1'!C17 -> 12 | F17: =IF(D17*E17=0,"",D17*E17)
A18: ='Semana 1'!A18 -> Curl de muñeca con barra (SS1) | B18: ='Semana 1'!B18 -> 2 | C18: ='Semana 1'!C18 -> 20 | F18: =IF(D18*E18=0,"",D18*E18)
A19: ='Semana 1'!A19 -> Abdominales (SS2) | B19: ='Semana 1'!B19 -> * | C19: ='Semana 1'!C19 -> 50 | F19: =IF(D19*E19=0,"",D19*E19)
A20: ='Semana 1'!A20 -> Elevacion de piernas SS2) | B20: ='Semana 1'!B20 -> * | C20: ='Semana 1'!C20 -> 50 | F20: =IF(D20*E20=0,"",D20*E20)
A21: ='Semana 1'!A21 -> Elevación de rodillas en suspensión (SS3) | B21: ='Semana 1'!B21 -> * | C21: ='Semana 1'!C21 -> 50 | F21: =IF(D21*E21=0,"",D21*E21)
A22: ='Semana 1'!A22 -> Twists (SS3) | B22: ='Semana 1'!B22 -> * | C22: ='Semana 1'!C22 -> 50
A23: ='Semana 1'!A23 -> 0 | B23: ='Semana 1'!B23 -> 0 | C23: ='Semana 1'!C23 -> 0
A24: ='Semana 1'!A24 -> Dia 2: Piernas, gemelos y abdominales | B24: ='Semana 1'!B24 -> 0 | C24: ='Semana 1'!C24 -> 0
A25: ='Semana 1'!A25 -> 0 | B25: ='Semana 1'!B25 -> 0 | C25: ='Semana 1'!C25 -> 0 | F25: =IF(D25*E25=0,"",D25*E25)
A26: ='Semana 1'!A26 -> Ejercicioss | B26: ='Semana 1'!B26 -> Sets | C26: ='Semana 1'!C26 -> Reps | F26: =IF(D26*E26=0,"",D26*E26)
A27: ='Semana 1'!A27 -> Extensiones de pierna (Como calentamiento) | B27: ='Semana 1'!B27 -> 0 | C27: ='Semana 1'!C27 -> 0 | F27: =IF(D27*E27=0,"",D27*E27)
A28: ='Semana 1'!A28 -> Sentadillas | B28: ='Semana 1'!B28 -> 1 | C28: ='Semana 1'!C28 -> 15 | F28: =IF(D28*E28=0,"",D28*E28)
A29: ='Semana 1'!A29 -> Sentadillas (set 2) | B29: ='Semana 1'!B29 -> 1 | C29: ='Semana 1'!C29 -> 12 | F29: =IF(D29*E29=0,"",D29*E29)
A30: ='Semana 1'!A30 -> Sentadillas (set 3) | B30: ='Semana 1'!B30 -> 1 | C30: ='Semana 1'!C30 -> 11 | F30: =IF(D30*E30=0,"",D30*E30)
A31: ='Semana 1'!A31 -> Sentadillas (set 4) | B31: ='Semana 1'!B31 -> 1 | C31: ='Semana 1'!C31 -> 10
A32: ='Semana 1'!A32 -> Sentadillas (set 5) | B32: ='Semana 1'!B32 -> 1 | C32: ='Semana 1'!C32 -> 9
A33: ='Semana 1'!A33 -> Sentadillas (set 6) | B33: ='Semana 1'!B33 -> 1 | C33: ='Semana 1'!C33 -> 8 | F33: =IF(D33*E33=0,"",D33*E33)
A34: ='Semana 1'!A34 -> Prensa | B34: ='Semana 1'!B34 -> 1 | C34: ='Semana 1'!C34 -> 15 | F34: =IF(D34*E34=0,"",D34*E34)
A35: ='Semana 1'!A35 -> Prensa (set 2) | B35: ='Semana 1'!B35 -> 1 | C35: ='Semana 1'!C35 -> 12 | F35: =IF(D35*E35=0,"",D35*E35)
A36: ='Semana 1'!A36 -> Prensa (set 3) | B36: ='Semana 1'!B36 -> 1 | C36: ='Semana 1'!C36 -> 10 | F36: =IF(D36*E36=0,"",D36*E36)
A37: ='Semana 1'!A37 -> Curl de pierna | B37: ='Semana 1'!B37 -> 3 | C37: ='Semana 1'!C37 -> 44116 | F37: =IF(D37*E37=0,"",D37*E37)
A38: ='Semana 1'!A38 -> Extensiones de pierna | B38: ='Semana 1'!B38 -> 1 | C38: ='Semana 1'!C38 -> 12 | F38: =IF(D38*E38=0,"",D38*E38)
A39: ='Semana 1'!A39 -> Extensiones de pierna (set 2) | B39: ='Semana 1'!B39 -> 1 | C39: ='Semana 1'!C39 -> 10 | F39: =IF(D39*E39=0,"",D39*E39)
A40: ='Semana 1'!A40 -> Extensiones de pierna (set 3) | B40: ='Semana 1'!B40 -> 1 | C40: ='Semana 1'!C40 -> 8 | F40: =IF(D40*E40=0,"",D40*E40)
A41: ='Semana 1'!A41 -> Elevación de gemelos | B41: ='Semana 1'!B41 -> 3 | C41: ='Semana 1'!C41 -> 15-20 | F41: =IF(D41*E41=0,"",D41*E41)
A42: ='Semana 1'!A42 -> Elevación de gemelos tipo burro | B42: ='Semana 1'!B42 -> 4 | C42: ='Semana 1'!C42 -> 20-25 | F42: =IF(D42*E42=0,"",D42*E42)
A43: ='Semana 1'!A43 -> Elevación de gemelos sentado (4x drop set, all 5 reps) | B43: ='Semana 1'!B43 -> 1 | C43: ='Semana 1'!C43 -> 5 | F43: =IF(D43*E43=0,"",D43*E43)
A44: ='Semana 1'!A44 -> Trabajo abdominal ligero | B44: ='Semana 1'!B44 -> 0 | C44: ='Semana 1'!C44 -> 0 | F44: =IF(D44*E44=0,"",D44*E44)
... A51: ='Semana 1'!A51 -> Press de banca (set 3) | B51: ='Semana 1'!B51 -> 1 | C51: ='Semana 1'!C51 -> 8 | F51: =IF(D51*E51=0,"",D51*E51)
A52: ='Semana 1'!A52 -> Press de banca (set 4) | B52: ='Semana 1'!B52 -> 1 | C52: ='Semana 1'!C52 -> 6
A53: ='Semana 1'!A53 -> Press de banca (set 5) | B53: ='Semana 1'!B53 -> 1 | C53: ='Semana 1'!C53 -> 4 | F53: =IF(D53*E53=0,"",D53*E53)
A54: ='Semana 1'!A54 -> Press de banca (set 6) | B54: ='Semana 1'!B54 -> 1 | C54: ='Semana 1'!C54 -> 2 | F54: =IF(D54*E54=0,"",D54*E54)
A55: ='Semana 1'!A55 -> Press inclinado con mancuernas | B55: ='Semana 1'!B55 -> 1 | C55: ='Semana 1'!C55 -> 10 | F55: =IF(D55*E55=0,"",D55*E55)
A56: ='Semana 1'!A56 -> Press inclinado con mancuernas (set 2) | B56: ='Semana 1'!B56 -> 1 | C56: ='Semana 1'!C56 -> 8 | F56: =IF(D56*E56=0,"",D56*E56)
A57: ='Semana 1'!A57 -> Press inclinado con mancuernas (set 3) | B57: ='Semana 1'!B57 -> 1 | C57: ='Semana 1'!C57 -> 6
A58: ='Semana 1'!A58 -> Press inclinado con mancuernas (set 4) | B58: ='Semana 1'!B58 -> 1 | C58: ='Semana 1'!C58 -> 43927
A59: ='Semana 1'!A59 -> Flyes declinadas con mancuernas | B59: ='Semana 1'!B59 -> 1 | C59: ='Semana 1'!C59 -> 12
A60: ='Semana 1'!A60 -> Flyes declinadas con mancuernas (set 2) | B60: ='Semana 1'!B60 -> 1 | C60: ='Semana 1'!C60 -> 10
A61: ='Semana 1'!A61 -> Flyes declinadas con mancuernas (set 3) | B61: ='Semana 1'!B61 -> 1 | C61: ='Semana 1'!C61 -> 8
A62: ='Semana 1'!A62 -> Pullover con mancuerna | B62: ='Semana 1'!B62 -> 1 | C62: ='Semana 1'!C62 -> 12
A63: ='Semana 1'!A63 -> Pullover con mancuerna (set 2) | B63: ='Semana 1'!B63 -> 1 | C63: ='Semana 1'!C63 -> 10
A64: ='Semana 1'!A64 -> Pullover con mancuerna (set 3) | B64: ='Semana 1'!B64 -> 1 | C64: ='Semana 1'!C64 -> 8
A65: ='Semana 1'!A65 -> Press de banca agarre estrecho | B65: ='Semana 1'!B65 -> 1 | C65: ='Semana 1'!C65 -> 12
A66: ='Semana 1'!A66 -> Press de banca agarre estrecho (set 2) | B66: ='Semana 1'!B66 -> 1 | C66: ='Semana 1'!C66 -> 10
A67: ='Semana 1'!A67 -> Press de banca agarre estrecho (set 3) | B67: ='Semana 1'!B67 -> 1 | C67: ='Semana 1'!C67 -> 8
A68: ='Semana 1'!A68 -> Extensión de tríceps sobre cabeza con mancuerna a una mano | B68: ='Semana 1'!B68 -> 1 | C68: ='Semana 1'!C68 -> 12
... A103: ='Semana 1'!A103 -> 0 | B103: ='Semana 1'!B103 -> 0 | C103: ='Semana 1'!C103 -> 0

Sheet Semana 10
A2: ='Semana 1'!A2 -> Dia 1: Espalda, biceps, antebrazo y abdominales | B2: ='Semana 1'!B2 -> 0 | C2: ='Semana 1'!C2 -> 0
A3: ='Semana 1'!A3 -> 0 | B3: ='Semana 1'!B3 -> 0 | C3: ='Semana 1'!C3 -> 0
A4: ='Semana 1'!A4 -> Ejercicios | B4: ='Semana 1'!B4 -> Sets | C4: ='Semana 1'!C4 -> Reps | D4: Peso | E4: Total Reps | F4: Volumen
A5: ='Semana 1'!A5 -> Peso muerto con agarre ancho | B5: ='Semana 1'!B5 -> 1 | C5: ='Semana 1'!C5 -> 15 | F5: =D5*E5 -> 0
A6: ='Semana 1'!A6 -> Peso muerto con agarre ancho (set 2) | B6: ='Semana 1'!B6 -> 1 | C6: ='Semana 1'!C6 -> 12 | F6: =IF(D6*E6=0,"",D6*E6)
A7: ='Semana 1'!A7 -> Peso muerto con agarre ancho (set 3) | B7: ='Semana 1'!B7 -> 1 | C7: ='Semana 1'!C7 -> 10 | F7: =IF(D7*E7=0,"",D7*E7)
A8: ='Semana 1'!A8 -> Peso muerto parcial con agarre ancho desde bloques o rack (set 4,5) | B8: ='Semana 1'!B8 -> 2 | C8: ='Semana 1'!C8 -> 10 | F8: =IF(D8*E8=0,"",D8*E8)
A9: ='Semana 1'!A9 -> Peso muerto parcial con agarre ancho desde bloques o rack (set 6) | B9: ='Semana 1'!B9 -> 1 | C9: ='Semana 1'!C9 -> 8 | F9: =IF(D9*E9=0,"",D9*E9)
A10: ='Semana 1'!A10 -> Remo en barra T | B10: ='Semana 1'!B10 -> 1 | C10: ='Semana 1'!C10 -> 12 | F10: =IF(D10*E10=0,"",D10*E10)
A11: ='Semana 1'!A11 -> Remo en barra T (set 2) | B11: ='Semana 1'!B11 -> 1 | C11: ='Semana 1'!C11 -> 10 | F11: =IF(D11*E11=0,"",D11*E11)
A12: ='Semana 1'!A12 -> Remo en barra T (set 3) | B12: ='Semana 1'!B12 -> 1 | C12: ='Semana 1'!C12 -> 8
A13: ='Semana 1'!A13 -> Jalón al pecho | B13: ='Semana 1'!B13 -> 3 | C13: ='Semana 1'!C13 -> 44053
A14: ='Semana 1'!A14 -> Remo con mancuernas | B14: ='Semana 1'!B14 -> 3 | C14: ='Semana 1'!C14 -> 44053
A15: ='Semana 1'!A15 -> Curl de bíceps concentrado | B15: ='Semana 1'!B15 -> 3 | C15: ='Semana 1'!C15 -> 44053 | F15: =IF(D15*E15=0,"",D15*E15)
A16: ='Semana 1'!A16 -> Curl de bíceps con mancuerna alterno | B16: ='Semana 1'!B16 -> 3 | C16: ='Semana 1'!C16 -> 44053 | F16: =IF(D16*E16=0,"",D16*E16)
A17: ='Semana 1'!A17 -> Curl invertido con barra (SS1) | B17: ='Semana 1'!B17 -> 2 | C17: ='Semana 1'!C17 -> 12 | F17: =IF(D17*E17=0,"",D17*E17)
A18: ='Semana 1'!A18 -> Curl de muñeca con barra (SS1) | B18: ='Semana 1'!B18 -> 2 | C18: ='Semana 1'!C18 -> 20 | F18: =IF(D18*E18=0,"",D18*E18)
A19: ='Semana 1'!A19 -> Abdominales (SS2) | B19: ='Semana 1'!B19 -> * | C19: ='Semana 1'!C19 -> 50 | F19: =IF(D19*E19=0,"",D19*E19)
A20: ='Semana 1'!A20 -> Elevacion de piernas SS2) | B20: ='Semana 1'!B20 -> * | C20: ='Semana 1'!C20 -> 50 | F20: =IF(D20*E20=0,"",D20*E20)
A21: ='Semana 1'!A21 -> Elevación de rodillas en suspensión (SS3) | B21: ='Semana 1'!B21 -> * | C21: ='Semana 1'!C21 -> 50 | F21: =IF(D21*E21=0,"",D21*E21)
A22: ='Semana 1'!A22 -> Twists (SS3) | B22: ='Semana 1'!B22 -> * | C22: ='Semana 1'!C22 -> 50
A23: ='Semana 1'!A23 -> 0 | B23: ='Semana 1'!B23 -> 0 | C23: ='Semana 1'!C23 -> 0
A24: ='Semana 1'!A24 -> Dia 2: Piernas, gemelos y abdominales | B24: ='Semana 1'!B24 -> 0 | C24: ='Semana 1'!C24 -> 0
A25: ='Semana 1'!A25 -> 0 | B25: ='Semana 1'!B25 -> 0 | C25: ='Semana 1'!C25 -> 0 | F25: =IF(D25*E25=0,"",D25*E25)
A26: ='Semana 1'!A26 -> Ejercicioss | B26: ='Semana 1'!B26 -> Sets | C26: ='Semana 1'!C26 -> Reps | F26: =IF(D26*E26=0,"",D26*E26)
A27: ='Semana 1'!A27 -> Extensiones de pierna (Como calentamiento) | B27: ='Semana 1'!B27 -> 0 | C27: ='Semana 1'!C27 -> 0 | F27: =IF(D27*E27=0,"",D27*E27)
A28: ='Semana 1'!A28 -> Sentadillas | B28: ='Semana 1'!B28 -> 1 | C28: ='Semana 1'!C28 -> 15 | F28: =IF(D28*E28=0,"",D28*E28)
A29: ='Semana 1'!A29 -> Sentadillas (set 2) | B29: ='Semana 1'!B29 -> 1 | C29: ='Semana 1'!C29 -> 12 | F29: =IF(D29*E29=0,"",D29*E29)
A30: ='Semana 1'!A30 -> Sentadillas (set 3) | B30: ='Semana 1'!B30 -> 1 | C30: ='Semana 1'!C30 -> 11 | F30: =IF(D30*E30=0,"",D30*E30)
A31: ='Semana 1'!A31 -> Sentadillas (set 4) | B31: ='Semana 1'!B31 -> 1 | C31: ='Semana 1'!C31 -> 10
A32: ='Semana 1'!A32 -> Sentadillas (set 5) | B32: ='Semana 1'!B32 -> 1 | C32: ='Semana 1'!C32 -> 9
A33: ='Semana 1'!A33 -> Sentadillas (set 6) | B33: ='Semana 1'!B33 -> 1 | C33: ='Semana 1'!C33 -> 8 | F33: =IF(D33*E33=0,"",D33*E33)
A34: ='Semana 1'!A34 -> Prensa | B34: ='Semana 1'!B34 -> 1 | C34: ='Semana 1'!C34 -> 15 | F34: =IF(D34*E34=0,"",D34*E34)
A35: ='Semana 1'!A35 -> Prensa (set 2) | B35: ='Semana 1'!B35 -> 1 | C35: ='Semana 1'!C35 -> 12 | F35: =IF(D35*E35=0,"",D35*E35)
A36: ='Semana 1'!A36 -> Prensa (set 3) | B36: ='Semana 1'!B36 -> 1 | C36: ='Semana 1'!C36 -> 10 | F36: =IF(D36*E36=0,"",D36*E36)
A37: ='Semana 1'!A37 -> Curl de pierna | B37: ='Semana 1'!B37 -> 3 | C37: ='Semana 1'!C37 -> 44116 | F37: =IF(D37*E37=0,"",D37*E37)
A38: ='Semana 1'!A38 -> Extensiones de pierna | B38: ='Semana 1'!B38 -> 1 | C38: ='Semana 1'!C38 -> 12 | F38: =IF(D38*E38=0,"",D38*E38)
A39: ='Semana 1'!A39 -> Extensiones de pierna (set 2) | B39: ='Semana 1'!B39 -> 1 | C39: ='Semana 1'!C39 -> 10 | F39: =IF(D39*E39=0,"",D39*E39)
A40: ='Semana 1'!A40 -> Extensiones de pierna (set 3) | B40: ='Semana 1'!B40 -> 1 | C40: ='Semana 1'!C40 -> 8 | F40: =IF(D40*E40=0,"",D40*E40)
A41: ='Semana 1'!A41 -> Elevación de gemelos | B41: ='Semana 1'!B41 -> 3 | C41: ='Semana 1'!C41 -> 15-20 | F41: =IF(D41*E41=0,"",D41*E41)
A42: ='Semana 1'!A42 -> Elevación de gemelos tipo burro | B42: ='Semana 1'!B42 -> 4 | C42: ='Semana 1'!C42 -> 20-25 | F42: =IF(D42*E42=0,"",D42*E42)
A43: ='Semana 1'!A43 -> Elevación de gemelos sentado (4x drop set, all 5 reps) | B43: ='Semana 1'!B43 -> 1 | C43: ='Semana 1'!C43 -> 5 | F43: =IF(D43*E43=0,"",D43*E43)
A44: ='Semana 1'!A44 -> Trabajo abdominal ligero | B44: ='Semana 1'!B44 -> 0 | C44: ='Semana 1'!C44 -> 0 | F44: =IF(D44*E44=0,"",D44*E44)
... A51: ='Semana 1'!A51 -> Press de banca (set 3) | B51: ='Semana 1'!B51 -> 1 | C51: ='Semana 1'!C51 -> 8 | F51: =IF(D51*E51=0,"",D51*E51)
A52: ='Semana 1'!A52 -> Press de banca (set 4) | B52: ='Semana 1'!B52 -> 1 | C52: ='Semana 1'!C52 -> 6
A53: ='Semana 1'!A53 -> Press de banca (set 5) | B53: ='Semana 1'!B53 -> 1 | C53: ='Semana 1'!C53 -> 4 | F53: =IF(D53*E53=0,"",D53*E53)
A54: ='Semana 1'!A54 -> Press de banca (set 6) | B54: ='Semana 1'!B54 -> 1 | C54: ='Semana 1'!C54 -> 2 | F54: =IF(D54*E54=0,"",D54*E54)
A55: ='Semana 1'!A55 -> Press inclinado con mancuernas | B55: ='Semana 1'!B55 -> 1 | C55: ='Semana 1'!C55 -> 10 | F55: =IF(D55*E55=0,"",D55*E55)
A56: ='Semana 1'!A56 -> Press inclinado con mancuernas (set 2) | B56: ='Semana 1'!B56 -> 1 | C56: ='Semana 1'!C56 -> 8 | F56: =IF(D56*E56=0,"",D56*E56)
A57: ='Semana 1'!A57 -> Press inclinado con mancuernas (set 3) | B57: ='Semana 1'!B57 -> 1 | C57: ='Semana 1'!C57 -> 6
A58: ='Semana 1'!A58 -> Press inclinado con mancuernas (set 4) | B58: ='Semana 1'!B58 -> 1 | C58: ='Semana 1'!C58 -> 43927
A59: ='Semana 1'!A59 -> Flyes declinadas con mancuernas | B59: ='Semana 1'!B59 -> 1 | C59: ='Semana 1'!C59 -> 12
A60: ='Semana 1'!A60 -> Flyes declinadas con mancuernas (set 2) | B60: ='Semana 1'!B60 -> 1 | C60: ='Semana 1'!C60 -> 10
A61: ='Semana 1'!A61 -> Flyes declinadas con mancuernas (set 3) | B61: ='Semana 1'!B61 -> 1 | C61: ='Semana 1'!C61 -> 8
A62: ='Semana 1'!A62 -> Pullover con mancuerna | B62: ='Semana 1'!B62 -> 1 | C62: ='Semana 1'!C62 -> 12
A63: ='Semana 1'!A63 -> Pullover con mancuerna (set 2) | B63: ='Semana 1'!B63 -> 1 | C63: ='Semana 1'!C63 -> 10
A64: ='Semana 1'!A64 -> Pullover con mancuerna (set 3) | B64: ='Semana 1'!B64 -> 1 | C64: ='Semana 1'!C64 -> 8
A65: ='Semana 1'!A65 -> Press de banca agarre estrecho | B65: ='Semana 1'!B65 -> 1 | C65: ='Semana 1'!C65 -> 12
A66: ='Semana 1'!A66 -> Press de banca agarre estrecho (set 2) | B66: ='Semana 1'!B66 -> 1 | C66: ='Semana 1'!C66 -> 10
A67: ='Semana 1'!A67 -> Press de banca agarre estrecho (set 3) | B67: ='Semana 1'!B67 -> 1 | C67: ='Semana 1'!C67 -> 8
A68: ='Semana 1'!A68 -> Extensión de tríceps sobre cabeza con mancuerna a una mano | B68: ='Semana 1'!B68 -> 1 | C68: ='Semana 1'!C68 -> 12
... A103: ='Semana 1'!A103 -> 0 | B103: ='Semana 1'!B103 -> 0 | C103: ='Semana 1'!C103 -> 0

Sheet Semana 11
A2: ='Semana 1'!A2 -> Dia 1: Espalda, biceps, antebrazo y abdominales | B2: ='Semana 1'!B2 -> 0 | C2: ='Semana 1'!C2 -> 0
A3: ='Semana 1'!A3 -> 0 | B3: ='Semana 1'!B3 -> 0 | C3: ='Semana 1'!C3 -> 0
A4: ='Semana 1'!A4 -> Ejercicios | B4: ='Semana 1'!B4 -> Sets | C4: ='Semana 1'!C4 -> Reps | D4: Peso | E4: Total Reps | F4: Volumen
A5: ='Semana 1'!A5 -> Peso muerto con agarre ancho | B5: ='Semana 1'!B5 -> 1 | C5: ='Semana 1'!C5 -> 15 | F5: =D5*E5 -> 0
A6: ='Semana 1'!A6 -> Peso muerto con agarre ancho (set 2) | B6: ='Semana 1'!B6 -> 1 | C6: ='Semana 1'!C6 -> 12 | F6: =IF(D6*E6=0,"",D6*E6)
A7: ='Semana 1'!A7 -> Peso muerto con agarre ancho (set 3) | B7: ='Semana 1'!B7 -> 1 | C7: ='Semana 1'!C7 -> 10 | F7: =IF(D7*E7=0,"",D7*E7)
A8: ='Semana 1'!A8 -> Peso muerto parcial con agarre ancho desde bloques o rack (set 4,5) | B8: ='Semana 1'!B8 -> 2 | C8: ='Semana 1'!C8 -> 10 | F8: =IF(D8*E8=0,"",D8*E8)
A9: ='Semana 1'!A9 -> Peso muerto parcial con agarre ancho desde bloques o rack (set 6) | B9: ='Semana 1'!B9 -> 1 | C9: ='Semana 1'!C9 -> 8 | F9: =IF(D9*E9=0,"",D9*E9)
A10: ='Semana 1'!A10 -> Remo en barra T | B10: ='Semana 1'!B10 -> 1 | C10: ='Semana 1'!C10 -> 12 | F10: =IF(D10*E10=0,"",D10*E10)
A11: ='Semana 1'!A11 -> Remo en barra T (set 2) | B11: ='Semana 1'!B11 -> 1 | C11: ='Semana 1'!C11 -> 10 | F11: =IF(D11*E11=0,"",D11*E11)
A12: ='Semana 1'!A12 -> Remo en barra T (set 3) | B12: ='Semana 1'!B12 -> 1 | C12: ='Semana 1'!C12 -> 8
A13: ='Semana 1'!A13 -> Jalón al pecho | B13: ='Semana 1'!B13 -> 3 | C13: ='Semana 1'!C13 -> 44053
A14: ='Semana 1'!A14 -> Remo con mancuernas | B14: ='Semana 1'!B14 -> 3 | C14: ='Semana 1'!C14 -> 44053
A15: ='Semana 1'!A15 -> Curl de bíceps concentrado | B15: ='Semana 1'!B15 -> 3 | C15: ='Semana 1'!C15 -> 44053 | F15: =IF(D15*E15=0,"",D15*E15)
A16: ='Semana 1'!A16 -> Curl de bíceps con mancuerna alterno | B16: ='Semana 1'!B16 -> 3 | C16: ='Semana 1'!C16 -> 44053 | F16: =IF(D16*E16=0,"",D16*E16)
A17: ='Semana 1'!A17 -> Curl invertido con barra (SS1) | B17: ='Semana 1'!B17 -> 2 | C17: ='Semana 1'!C17 -> 12 | F17: =IF(D17*E17=0,"",D17*E17)
A18: ='Semana 1'!A18 -> Curl de muñeca con barra (SS1) | B18: ='Semana 1'!B18 -> 2 | C18: ='Semana 1'!C18 -> 20 | F18: =IF(D18*E18=0,"",D18*E18)
A19: ='Semana 1'!A19 -> Abdominales (SS2) | B19: ='Semana 1'!B19 -> * | C19: ='Semana 1'!C19 -> 50 | F19: =IF(D19*E19=0,"",D19*E19)
A20: ='Semana 1'!A20 -> Elevacion de piernas SS2) | B20: ='Semana 1'!B20 -> * | C20: ='Semana 1'!C20 -> 50 | F20: =IF(D20*E20=0,"",D20*E20)
A21: ='Semana 1'!A21 -> Elevación de rodillas en suspensión (SS3) | B21: ='Semana 1'!B21 -> * | C21: ='Semana 1'!C21 -> 50 | F21: =IF(D21*E21=0,"",D21*E21)
A22: ='Semana 1'!A22 -> Twists (SS3) | B22: ='Semana 1'!B22 -> * | C22: ='Semana 1'!C22 -> 50
A23: ='Semana 1'!A23 -> 0 | B23: ='Semana 1'!B23 -> 0 | C23: ='Semana 1'!C23 -> 0
A24: ='Semana 1'!A24 -> Dia 2: Piernas, gemelos y abdominales | B24: ='Semana 1'!B24 -> 0 | C24: ='Semana 1'!C24 -> 0
A25: ='Semana 1'!A25 -> 0 | B25: ='Semana 1'!B25 -> 0 | C25: ='Semana 1'!C25 -> 0 | F25: =IF(D25*E25=0,"",D25*E25)
A26: ='Semana 1'!A26 -> Ejercicioss | B26: ='Semana 1'!B26 -> Sets | C26: ='Semana 1'!C26 -> Reps | F26: =IF(D26*E26=0,"",D26*E26)
A27: ='Semana 1'!A27 -> Extensiones de pierna (Como calentamiento) | B27: ='Semana 1'!B27 -> 0 | C27: ='Semana 1'!C27 -> 0 | F27: =IF(D27*E27=0,"",D27*E27)
A28: ='Semana 1'!A28 -> Sentadillas | B28: ='Semana 1'!B28 -> 1 | C28: ='Semana 1'!C28 -> 15 | F28: =IF(D28*E28=0,"",D28*E28)
A29: ='Semana 1'!A29 -> Sentadillas (set 2) | B29: ='Semana 1'!B29 -> 1 | C29: ='Semana 1'!C29 -> 12 | F29: =IF(D29*E29=0,"",D29*E29)
A30: ='Semana 1'!A30 -> Sentadillas (set 3) | B30: ='Semana 1'!B30 -> 1 | C30: ='Semana 1'!C30 -> 11 | F30: =IF(D30*E30=0,"",D30*E30)
A31: ='Semana 1'!A31 -> Sentadillas (set 4) | B31: ='Semana 1'!B31 -> 1 | C31: ='Semana 1'!C31 -> 10
A32: ='Semana 1'!A32 -> Sentadillas (set 5) | B32: ='Semana 1'!B32 -> 1 | C32: ='Semana 1'!C32 -> 9
A33: ='Semana 1'!A33 -> Sentadillas (set 6) | B33: ='Semana 1'!B33 -> 1 | C33: ='Semana 1'!C33 -> 8 | F33: =IF(D33*E33=0,"",D33*E33)
A34: ='Semana 1'!A34 -> Prensa | B34: ='Semana 1'!B34 -> 1 | C34: ='Semana 1'!C34 -> 15 | F34: =IF(D34*E34=0,"",D34*E34)
A35: ='Semana 1'!A35 -> Prensa (set 2) | B35: ='Semana 1'!B35 -> 1 | C35: ='Semana 1'!C35 -> 12 | F35: =IF(D35*E35=0,"",D35*E35)
A36: ='Semana 1'!A36 -> Prensa (set 3) | B36: ='Semana 1'!B36 -> 1 | C36: ='Semana 1'!C36 -> 10 | F36: =IF(D36*E36=0,"",D36*E36)
A37: ='Semana 1'!A37 -> Curl de pierna | B37: ='Semana 1'!B37 -> 3 | C37: ='Semana 1'!C37 -> 44116 | F37: =IF(D37*E37=0,"",D37*E37)
A38: ='Semana 1'!A38 -> Extensiones de pierna | B38: ='Semana 1'!B38 -> 1 | C38: ='Semana 1'!C38 -> 12 | F38: =IF(D38*E38=0,"",D38*E38)
A39: ='Semana 1'!A39 -> Extensiones de pierna (set 2) | B39: ='Semana 1'!B39 -> 1 | C39: ='Semana 1'!C39 -> 10 | F39: =IF(D39*E39=0,"",D39*E39)
A40: ='Semana 1'!A40 -> Extensiones de pierna (set 3) | B40: ='Semana 1'!B40 -> 1 | C40: ='Semana 1'!C40 -> 8 | F40: =IF(D40*E40=0,"",D40*E40)
A41: ='Semana 1'!A41 -> Elevación de gemelos | B41: ='Semana 1'!B41 -> 3 | C41: ='Semana 1'!C41 -> 15-20 | F41: =IF(D41*E41=0,"",D41*E41)
A42: ='Semana 1'!A42 -> Elevación de gemelos tipo burro | B42: ='Semana 1'!B42 -> 4 | C42: ='Semana 1'!C42 -> 20-25 | F42: =IF(D42*E42=0,"",D42*E42)
A43: ='Semana 1'!A43 -> Elevación de gemelos sentado (4x drop set, all 5 reps) | B43: ='Semana 1'!B43 -> 1 | C43: ='Semana 1'!C43 -> 5 | F43: =IF(D43*E43=0,"",D43*E43)
A44: ='Semana 1'!A44 -> Trabajo abdominal ligero | B44: ='Semana 1'!B44 -> 0 | C44: ='Semana 1'!C44 -> 0 | F44: =IF(D44*E44=0,"",D44*E44)
... A51: ='Semana 1'!A51 -> Press de banca (set 3) | B51: ='Semana 1'!B51 -> 1 | C51: ='Semana 1'!C51 -> 8 | F51: =IF(D51*E51=0,"",D51*E51)
A52: ='Semana 1'!A52 -> Press de banca (set 4) | B52: ='Semana 1'!B52 -> 1 | C52: ='Semana 1'!C52 -> 6
A53: ='Semana 1'!A53 -> Press de banca (set 5) | B53: ='Semana 1'!B53 -> 1 | C53: ='Semana 1'!C53 -> 4 | F53: =IF(D53*E53=0,"",D53*E53)
A54: ='Semana 1'!A54 -> Press de banca (set 6) | B54: ='Semana 1'!B54 -> 1 | C54: ='Semana 1'!C54 -> 2 | F54: =IF(D54*E54=0,"",D54*E54)
A55: ='Semana 1'!A55 -> Press inclinado con mancuernas | B55: ='Semana 1'!B55 -> 1 | C55: ='Semana 1'!C55 -> 10 | F55: =IF(D55*E55=0,"",D55*E55)
A56: ='Semana 1'!A56 -> Press inclinado con mancuernas (set 2) | B56: ='Semana 1'!B56 -> 1 | C56: ='Semana 1'!C56 -> 8 | F56: =IF(D56*E56=0,"",D56*E56)
A57: ='Semana 1'!A57 -> Press inclinado con mancuernas (set 3) | B57: ='Semana 1'!B57 -> 1 | C57: ='Semana 1'!C57 -> 6
A58: ='Semana 1'!A58 -> Press inclinado con mancuernas (set 4) | B58: ='Semana 1'!B58 -> 1 | C58: ='Semana 1'!C58 -> 43927
A59: ='Semana 1'!A59 -> Flyes declinadas con mancuernas | B59: ='Semana 1'!B59 -> 1 | C59: ='Semana 1'!C59 -> 12
A60: ='Semana 1'!A60 -> Flyes declinadas con mancuernas (set 2) | B60: ='Semana 1'!B60 -> 1 | C60: ='Semana 1'!C60 -> 10
A61: ='Semana 1'!A61 -> Flyes declinadas con mancuernas (set 3) | B61: ='Semana 1'!B61 -> 1 | C61: ='Semana 1'!C61 -> 8
A62: ='Semana 1'!A62 -> Pullover con mancuerna | B62: ='Semana 1'!B62 -> 1 | C62: ='Semana 1'!C62 -> 12
A63: ='Semana 1'!A63 -> Pullover con mancuerna (set 2) | B63: ='Semana 1'!B63 -> 1 | C63: ='Semana 1'!C63 -> 10
A64: ='Semana 1'!A64 -> Pullover con mancuerna (set 3) | B64: ='Semana 1'!B64 -> 1 | C64: ='Semana 1'!C64 -> 8
A65: ='Semana 1'!A65 -> Press de banca agarre estrecho | B65: ='Semana 1'!B65 -> 1 | C65: ='Semana 1'!C65 -> 12
A66: ='Semana 1'!A66 -> Press de banca agarre estrecho (set 2) | B66: ='Semana 1'!B66 -> 1 | C66: ='Semana 1'!C66 -> 10
A67: ='Semana 1'!A67 -> Press de banca agarre estrecho (set 3) | B67: ='Semana 1'!B67 -> 1 | C67: ='Semana 1'!C67 -> 8
A68: ='Semana 1'!A68 -> Extensión de tríceps sobre cabeza con mancuerna a una mano | B68: ='Semana 1'!B68 -> 1 | C68: ='Semana 1'!C68 -> 12
... A103: ='Semana 1'!A103 -> 0 | B103: ='Semana 1'!B103 -> 0 | C103: ='Semana 1'!C103 -> 0

Sheet Semana 12
A2: ='Semana 1'!A2 -> Dia 1: Espalda, biceps, antebrazo y abdominales | B2: ='Semana 1'!B2 -> 0 | C2: ='Semana 1'!C2 -> 0
A3: ='Semana 1'!A3 -> 0 | B3: ='Semana 1'!B3 -> 0 | C3: ='Semana 1'!C3 -> 0
A4: ='Semana 1'!A4 -> Ejercicios | B4: ='Semana 1'!B4 -> Sets | C4: ='Semana 1'!C4 -> Reps | D4: Peso | E4: Total Reps | F4: Volumen
A5: ='Semana 1'!A5 -> Peso muerto con agarre ancho | B5: ='Semana 1'!B5 -> 1 | C5: ='Semana 1'!C5 -> 15 | F5: =D5*E5 -> 0
A6: ='Semana 1'!A6 -> Peso muerto con agarre ancho (set 2) | B6: ='Semana 1'!B6 -> 1 | C6: ='Semana 1'!C6 -> 12 | F6: =IF(D6*E6=0,"",D6*E6)
A7: ='Semana 1'!A7 -> Peso muerto con agarre ancho (set 3) | B7: ='Semana 1'!B7 -> 1 | C7: ='Semana 1'!C7 -> 10 | F7: =IF(D7*E7=0,"",D7*E7)
A8: ='Semana 1'!A8 -> Peso muerto parcial con agarre ancho desde bloques o rack (set 4,5) | B8: ='Semana 1'!B8 -> 2 | C8: ='Semana 1'!C8 -> 10 | F8: =IF(D8*E8=0,"",D8*E8)
A9: ='Semana 1'!A9 -> Peso muerto parcial con agarre ancho desde bloques o rack (set 6) | B9: ='Semana 1'!B9 -> 1 | C9: ='Semana 1'!C9 -> 8 | F9: =IF(D9*E9=0,"",D9*E9)
A10: ='Semana 1'!A10 -> Remo en barra T | B10: ='Semana 1'!B10 -> 1 | C10: ='Semana 1'!C10 -> 12 | F10: =IF(D10*E10=0,"",D10*E10)
A11: ='Semana 1'!A11 -> Remo en barra T (set 2) | B11: ='Semana 1'!B11 -> 1 | C11: ='Semana 1'!C11 -> 10 | F11: =IF(D11*E11=0,"",D11*E11)
A12: ='Semana 1'!A12 -> Remo en barra T (set 3) | B12: ='Semana 1'!B12 -> 1 | C12: ='Semana 1'!C12 -> 8
A13: ='Semana 1'!A13 -> Jalón al pecho | B13: ='Semana 1'!B13 -> 3 | C13: ='Semana 1'!C13 -> 44053
A14: ='Semana 1'!A14 -> Remo con mancuernas | B14: ='Semana 1'!B14 -> 3 | C14: ='Semana 1'!C14 -> 44053
A15: ='Semana 1'!A15 -> Curl de bíceps concentrado | B15: ='Semana 1'!B15 -> 3 | C15: ='Semana 1'!C15 -> 44053 | F15: =IF(D15*E15=0,"",D15*E15)
A16: ='Semana 1'!A16 -> Curl de bíceps con mancuerna alterno | B16: ='Semana 1'!B16 -> 3 | C16: ='Semana 1'!C16 -> 44053 | F16: =IF(D16*E16=0,"",D16*E16)
A17: ='Semana 1'!A17 -> Curl invertido con barra (SS1) | B17: ='Semana 1'!B17 -> 2 | C17: ='Semana 1'!C17 -> 12 | F17: =IF(D17*E17=0,"",D17*E17)
A18: ='Semana 1'!A18 -> Curl de muñeca con barra (SS1) | B18: ='Semana 1'!B18 -> 2 | C18: ='Semana 1'!C18 -> 20 | F18: =IF(D18*E18=0,"",D18*E18)
A19: ='Semana 1'!A19 -> Abdominales (SS2) | B19: ='Semana 1'!B19 -> * | C19: ='Semana 1'!C19 -> 50 | F19: =IF(D19*E19=0,"",D19*E19)
A20: ='Semana 1'!A20 -> Elevacion de piernas SS2) | B20: ='Semana 1'!B20 -> * | C20: ='Semana 1'!C20 -> 50 | F20: =IF(D20*E20=0,"",D20*E20)
A21: ='Semana 1'!A21 -> Elevación de rodillas en suspensión (SS3) | B21: ='Semana 1'!B21 -> * | C21: ='Semana 1'!C21 -> 50 | F21: =IF(D21*E21=0,"",D21*E21)
A22: ='Semana 1'!A22 -> Twists (SS3) | B22: ='Semana 1'!B22 -> * | C22: ='Semana 1'!C22 -> 50
A23: ='Semana 1'!A23 -> 0 | B23: ='Semana 1'!B23 -> 0 | C23: ='Semana 1'!C23 -> 0
A24: ='Semana 1'!A24 -> Dia 2: Piernas, gemelos y abdominales | B24: ='Semana 1'!B24 -> 0 | C24: ='Semana 1'!C24 -> 0
A25: ='Semana 1'!A25 -> 0 | B25: ='Semana 1'!B25 -> 0 | C25: ='Semana 1'!C25 -> 0 | F25: =IF(D25*E25=0,"",D25*E25)
A26: ='Semana 1'!A26 -> Ejercicioss | B26: ='Semana 1'!B26 -> Sets | C26: ='Semana 1'!C26 -> Reps | F26: =IF(D26*E26=0,"",D26*E26)
A27: ='Semana 1'!A27 -> Extensiones de pierna (Como calentamiento) | B27: ='Semana 1'!B27 -> 0 | C27: ='Semana 1'!C27 -> 0 | F27: =IF(D27*E27=0,"",D27*E27)
A28: ='Semana 1'!A28 -> Sentadillas | B28: ='Semana 1'!B28 -> 1 | C28: ='Semana 1'!C28 -> 15 | F28: =IF(D28*E28=0,"",D28*E28)
A29: ='Semana 1'!A29 -> Sentadillas (set 2) | B29: ='Semana 1'!B29 -> 1 | C29: ='Semana 1'!C29 -> 12 | F29: =IF(D29*E29=0,"",D29*E29)
A30: ='Semana 1'!A30 -> Sentadillas (set 3) | B30: ='Semana 1'!B30 -> 1 | C30: ='Semana 1'!C30 -> 11 | F30: =IF(D30*E30=0,"",D30*E30)
A31: ='Semana 1'!A31 -> Sentadillas (set 4) | B31: ='Semana 1'!B31 -> 1 | C31: ='Semana 1'!C31 -> 10
A32: ='Semana 1'!A32 -> Sentadillas (set 5) | B32: ='Semana 1'!B32 -> 1 | C32: ='Semana 1'!C32 -> 9
A33: ='Semana 1'!A33 -> Sentadillas (set 6) | B33: ='Semana 1'!B33 -> 1 | C33: ='Semana 1'!C33 -> 8 | F33: =IF(D33*E33=0,"",D33*E33)
A34: ='Semana 1'!A34 -> Prensa | B34: ='Semana 1'!B34 -> 1 | C34: ='Semana 1'!C34 -> 15 | F34: =IF(D34*E34=0,"",D34*E34)
A35: ='Semana 1'!A35 -> Prensa (set 2) | B35: ='Semana 1'!B35 -> 1 | C35: ='Semana 1'!C35 -> 12 | F35: =IF(D35*E35=0,"",D35*E35)
A36: ='Semana 1'!A36 -> Prensa (set 3) | B36: ='Semana 1'!B36 -> 1 | C36: ='Semana 1'!C36 -> 10 | F36: =IF(D36*E36=0,"",D36*E36)
A37: ='Semana 1'!A37 -> Curl de pierna | B37: ='Semana 1'!B37 -> 3 | C37: ='Semana 1'!C37 -> 44116 | F37: =IF(D37*E37=0,"",D37*E37)
A38: ='Semana 1'!A38 -> Extensiones de pierna | B38: ='Semana 1'!B38 -> 1 | C38: ='Semana 1'!C38 -> 12 | F38: =IF(D38*E38=0,"",D38*E38)
A39: ='Semana 1'!A39 -> Extensiones de pierna (set 2) | B39: ='Semana 1'!B39 -> 1 | C39: ='Semana 1'!C39 -> 10 | F39: =IF(D39*E39=0,"",D39*E39)
A40: ='Semana 1'!A40 -> Extensiones de pierna (set 3) | B40: ='Semana 1'!B40 -> 1 | C40: ='Semana 1'!C40 -> 8 | F40: =IF(D40*E40=0,"",D40*E40)
A41: ='Semana 1'!A41 -> Elevación de gemelos | B41: ='Semana 1'!B41 -> 3 | C41: ='Semana 1'!C41 -> 15-20 | F41: =IF(D41*E41=0,"",D41*E41)
A42: ='Semana 1'!A42 -> Elevación de gemelos tipo burro | B42: ='Semana 1'!B42 -> 4 | C42: ='Semana 1'!C42 -> 20-25 | F42: =IF(D42*E42=0,"",D42*E42)
A43: ='Semana 1'!A43 -> Elevación de gemelos sentado (4x drop set, all 5 reps) | B43: ='Semana 1'!B43 -> 1 | C43: ='Semana 1'!C43 -> 5 | F43: =IF(D43*E43=0,"",D43*E43)
A44: ='Semana 1'!A44 -> Trabajo abdominal ligero | B44: ='Semana 1'!B44 -> 0 | C44: ='Semana 1'!C44 -> 0 | F44: =IF(D44*E44=0,"",D44*E44)
... A51: ='Semana 1'!A51 -> Press de banca (set 3) | B51: ='Semana 1'!B51 -> 1 | C51: ='Semana 1'!C51 -> 8 | F51: =IF(D51*E51=0,"",D51*E51)
A52: ='Semana 1'!A52 -> Press de banca (set 4) | B52: ='Semana 1'!B52 -> 1 | C52: ='Semana 1'!C52 -> 6
A53: ='Semana 1'!A53 -> Press de banca (set 5) | B53: ='Semana 1'!B53 -> 1 | C53: ='Semana 1'!C53 -> 4 | F53: =IF(D53*E53=0,"",D53*E53)
A54: ='Semana 1'!A54 -> Press de banca (set 6) | B54: ='Semana 1'!B54 -> 1 | C54: ='Semana 1'!C54 -> 2 | F54: =IF(D54*E54=0,"",D54*E54)
A55: ='Semana 1'!A55 -> Press inclinado con mancuernas | B55: ='Semana 1'!B55 -> 1 | C55: ='Semana 1'!C55 -> 10 | F55: =IF(D55*E55=0,"",D55*E55)
A56: ='Semana 1'!A56 -> Press inclinado con mancuernas (set 2) | B56: ='Semana 1'!B56 -> 1 | C56: ='Semana 1'!C56 -> 8 | F56: =IF(D56*E56=0,"",D56*E56)
A57: ='Semana 1'!A57 -> Press inclinado con mancuernas (set 3) | B57: ='Semana 1'!B57 -> 1 | C57: ='Semana 1'!C57 -> 6
A58: ='Semana 1'!A58 -> Press inclinado con mancuernas (set 4) | B58: ='Semana 1'!B58 -> 1 | C58: ='Semana 1'!C58 -> 43927
A59: ='Semana 1'!A59 -> Flyes declinadas con mancuernas | B59: ='Semana 1'!B59 -> 1 | C59: ='Semana 1'!C59 -> 12
A60: ='Semana 1'!A60 -> Flyes declinadas con mancuernas (set 2) | B60: ='Semana 1'!B60 -> 1 | C60: ='Semana 1'!C60 -> 10
A61: ='Semana 1'!A61 -> Flyes declinadas con mancuernas (set 3) | B61: ='Semana 1'!B61 -> 1 | C61: ='Semana 1'!C61 -> 8
A62: ='Semana 1'!A62 -> Pullover con mancuerna | B62: ='Semana 1'!B62 -> 1 | C62: ='Semana 1'!C62 -> 12
A63: ='Semana 1'!A63 -> Pullover con mancuerna (set 2) | B63: ='Semana 1'!B63 -> 1 | C63: ='Semana 1'!C63 -> 10
A64: ='Semana 1'!A64 -> Pullover con mancuerna (set 3) | B64: ='Semana 1'!B64 -> 1 | C64: ='Semana 1'!C64 -> 8
A65: ='Semana 1'!A65 -> Press de banca agarre estrecho | B65: ='Semana 1'!B65 -> 1 | C65: ='Semana 1'!C65 -> 12
A66: ='Semana 1'!A66 -> Press de banca agarre estrecho (set 2) | B66: ='Semana 1'!B66 -> 1 | C66: ='Semana 1'!C66 -> 10
A67: ='Semana 1'!A67 -> Press de banca agarre estrecho (set 3) | B67: ='Semana 1'!B67 -> 1 | C67: ='Semana 1'!C67 -> 8
A68: ='Semana 1'!A68 -> Extensión de tríceps sobre cabeza con mancuerna a una mano | B68: ='Semana 1'!B68 -> 1 | C68: ='Semana 1'!C68 -> 12
... A103: ='Semana 1'!A103 -> 0 | B103: ='Semana 1'!B103 -> 0 | C103: ='Semana 1'!C103 -> 0

Sheet Seguimiento de Volumen
B1: Week 1 | C1: Week 2 | D1: Week 3 | E1: Week 4 | F1: Week 5 | G1: Week 6 | H1: Week 7 | I1: Week 8 | J1: Week 9 | K1: Week 10 | L1: Week 11 | M1: Week 12
A2: ='Semana 1'!A2 -> Dia 1: Espalda, biceps, antebrazo y abdominales
A4: ='Semana 1'!A4 -> Ejercicios
A5: ='Semana 1'!A5 -> Peso muerto con agarre ancho | B5: ='Semana 1'!F5 -> 0 | C5: ='Semana 2'!F5 -> 0 | D5: ='Semana 3'!F5 -> 0 | E5: ='Semana 4'!F5 -> 0 | F5: ='Semana 5'!F5 -> 0 | G5: ='Semana 6'!F5 -> 0 | H5: ='Semana 7'!F5 -> 0 | I5: ='Semana 8'!F5 -> 0 | J5: ='Semana 9'!F5 -> 0 | K5: ='Semana 10'!F5 -> 0 | L5: ='Semana 11'!F5 -> 0 | M5: ='Semana 12'!F5 -> 0
A6: ='Semana 1'!A6 -> Peso muerto con agarre ancho (set 2) | B6: ='Semana 1'!F6 | C6: ='Semana 2'!F6 | D6: ='Semana 3'!F6 | E6: ='Semana 4'!F6 | F6: ='Semana 5'!F6 | G6: ='Semana 6'!F6 | H6: ='Semana 7'!F6 | I6: ='Semana 8'!F6 | J6: ='Semana 9'!F6 | K6: ='Semana 10'!F6 | L6: ='Semana 11'!F6 | M6: ='Semana 12'!F6
A7: ='Semana 1'!A7 -> Peso muerto con agarre ancho (set 3) | B7: ='Semana 1'!F7 | C7: ='Semana 2'!F7 | D7: ='Semana 3'!F7 | E7: ='Semana 4'!F7 | F7: ='Semana 5'!F7 | G7: ='Semana 6'!F7 | H7: ='Semana 7'!F7 | I7: ='Semana 8'!F7 | J7: ='Semana 9'!F7 | K7: ='Semana 10'!F7 | L7: ='Semana 11'!F7 | M7: ='Semana 12'!F7
A8: ='Semana 1'!A8 -> Peso muerto parcial con agarre ancho desde bloques o rack (set 4,5) | B8: ='Semana 1'!F8 | C8: ='Semana 2'!F8 | D8: ='Semana 3'!F8 | E8: ='Semana 4'!F8 | F8: ='Semana 5'!F8 | G8: ='Semana 6'!F8 | H8: ='Semana 7'!F8 | I8: ='Semana 8'!F8 | J8: ='Semana 9'!F8 | K8: ='Semana 10'!F8 | L8: ='Semana 11'!F8 | M8: ='Semana 12'!F8
A9: ='Semana 1'!A9 -> Peso muerto parcial con agarre ancho desde bloques o rack (set 6) | B9: ='Semana 1'!F9 | C9: ='Semana 2'!F9 | D9: ='Semana 3'!F9 | E9: ='Semana 4'!F9 | F9: ='Semana 5'!F9 | G9: ='Semana 6'!F9 | H9: ='Semana 7'!F9 | I9: ='Semana 8'!F9 | J9: ='Semana 9'!F9 | K9: ='Semana 10'!F9 | L9: ='Semana 11'!F9 | M9: ='Semana 12'!F9
A10: ='Semana 1'!A10 -> Remo en barra T | B10: ='Semana 1'!F10 | C10: ='Semana 2'!F10 | D10: ='Semana 3'!F10 | E10: ='Semana 4'!F10 | F10: ='Semana 5'!F10 | G10: ='Semana 6'!F10 | H10: ='Semana 7'!F10 | I10: ='Semana 8'!F10 | J10: ='Semana 9'!F10 | K10: ='Semana 10'!F10 | L10: ='Semana 11'!F10 | M10: ='Semana 12'!F10
A11: ='Semana 1'!A11 -> Remo en barra T (set 2) | B11: ='Semana 1'!F11 | C11: ='Semana 2'!F11 | D11: ='Semana 3'!F11 | E11: ='Semana 4'!F11 | F11: ='Semana 5'!F11 | G11: ='Semana 6'!F11 | H11: ='Semana 7'!F11 | I11: ='Semana 8'!F11 | J11: ='Semana 9'!F11 | K11: ='Semana 10'!F11 | L11: ='Semana 11'!F11 | M11: ='Semana 12'!F11
A12: ='Semana 1'!A12 -> Remo en barra T (set 3) | B12: ='Semana 1'!F12 | C12: ='Semana 2'!F12 -> 0 | D12: ='Semana 3'!F12 -> 0 | E12: ='Semana 4'!F12 -> 0 | F12: ='Semana 5'!F12 -> 0 | G12: ='Semana 6'!F12 -> 0 | H12: ='Semana 7'!F12 -> 0 | I12: ='Semana 8'!F12 -> 0 | J12: ='Semana 9'!F12 -> 0 | K12: ='Semana 10'!F12 -> 0 | L12: ='Semana 11'!F12 -> 0 | M12: ='Semana 12'!F12 -> 0
A13: ='Semana 1'!A13 -> Jalón al pecho | B13: ='Semana 1'!F13 | C13: ='Semana 2'!F13 -> 0 | D13: ='Semana 3'!F13 -> 0 | E13: ='Semana 4'!F13 -> 0 | F13: ='Semana 5'!F13 -> 0 | G13: ='Semana 6'!F13 -> 0 | H13: ='Semana 7'!F13 -> 0 | I13: ='Semana 8'!F13 -> 0 | J13: ='Semana 9'!F13 -> 0 | K13: ='Semana 10'!F13 -> 0 | L13: ='Semana 11'!F13 -> 0 | M13: ='Semana 12'!F13 -> 0
A14: ='Semana 1'!A14 -> Remo con mancuernas | B14: ='Semana 1'!F14 | C14: ='Semana 2'!F14 -> 0 | D14: ='Semana 3'!F14 -> 0 | E14: ='Semana 4'!F14 -> 0 | F14: ='Semana 5'!F14 -> 0 | G14: ='Semana 6'!F14 -> 0 | H14: ='Semana 7'!F14 -> 0 | I14: ='Semana 8'!F14 -> 0 | J14: ='Semana 9'!F14 -> 0 | K14: ='Semana 10'!F14 -> 0 | L14: ='Semana 11'!F14 -> 0 | M14: ='Semana 12'!F14 -> 0
A15: ='Semana 1'!A15 -> Curl de bíceps concentrado | B15: ='Semana 1'!F15 | C15: ='Semana 2'!F15 | D15: ='Semana 3'!F15 | E15: ='Semana 4'!F15 | F15: ='Semana 5'!F15 | G15: ='Semana 6'!F15 | H15: ='Semana 7'!F15 | I15: ='Semana 8'!F15 | J15: ='Semana 9'!F15 | K15: ='Semana 10'!F15 | L15: ='Semana 11'!F15 | M15: ='Semana 12'!F15
A16: ='Semana 1'!A16 -> Curl de bíceps con mancuerna alterno | B16: ='Semana 1'!F16 | C16: ='Semana 2'!F16 | D16: ='Semana 3'!F16 | E16: ='Semana 4'!F16 | F16: ='Semana 5'!F16 | G16: ='Semana 6'!F16 | H16: ='Semana 7'!F16 | I16: ='Semana 8'!F16 | J16: ='Semana 9'!F16 | K16: ='Semana 10'!F16 | L16: ='Semana 11'!F16 | M16: ='Semana 12'!F16
... A22: ='Semana 1'!A22 -> Twists (SS3) | B22: ='Semana 1'!F22 | C22: ='Semana 2'!F22 -> 0 | D22: ='Semana 3'!F22 -> 0 | E22: ='Semana 4'!F22 -> 0 | F22: ='Semana 5'!F22 -> 0 | G22: ='Semana 6'!F22 -> 0 | H22: ='Semana 7'!F22 -> 0 | I22: ='Semana 8'!F22 -> 0 | J22: ='Semana 9'!F22 -> 0 | K22: ='Semana 10'!F22 -> 0 | L22: ='Semana 11'!F22 -> 0 | M22: ='Semana 12'!F22 -> 0
A24: ='Semana 1'!A24 -> Dia 2: Piernas, gemelos y abdominales
A26: ='Semana 1'!A26 -> Ejercicioss
A27: ='Semana 1'!A27 -> Extensiones de pierna (Como calentamiento) | B27: ='Semana 1'!F27 | C27: ='Semana 2'!F27 | D27: ='Semana 3'!F27 | E27: ='Semana 4'!F27 | F27: ='Semana 5'!F27 | G27: ='Semana 6'!F27 | H27: ='Semana 7'!F27 | I27: ='Semana 8'!F27 | J27: ='Semana 9'!F27 | K27: ='Semana 10'!F27 | L27: ='Semana 11'!F27 | M27: ='Semana 12'!F27
A28: ='Semana 1'!A28 -> Sentadillas | B28: ='Semana 1'!F28 | C28: ='Semana 2'!F28 | D28: ='Semana 3'!F28 | E28: ='Semana 4'!F28 | F28: ='Semana 5'!F28 | G28: ='Semana 6'!F28 | H28: ='Semana 7'!F28 | I28: ='Semana 8'!F28 | J28: ='Semana 9'!F28 | K28: ='Semana 10'!F28 | L28: ='Semana 11'!F28 | M28: ='Semana 12'!F28
A29: ='Semana 1'!A29 -> Sentadillas (set 2) | B29: ='Semana 1'!F29 | C29: ='Semana 2'!F29 | D29: ='Semana 3'!F29 | E29: ='Semana 4'!F29 | F29: ='Semana 5'!F29 | G29: ='Semana 6'!F29 | H29: ='Semana 7'!F29 | I29: ='Semana 8'!F29 | J29: ='Semana 9'!F29 | K29: ='Semana 10'!F29 | L29: ='Semana 11'!F29 | M29: ='Semana 12'!F29
A30: ='Semana 1'!A30 -> Sentadillas (set 3) | B30: ='Semana 1'!F30 | C30: ='Semana 2'!F30 | D30: ='Semana 3'!F30 | E30: ='Semana 4'!F30 | F30: ='Semana 5'!F30 | G30: ='Semana 6'!F30 | H30: ='Semana 7'!F30 | I30: ='Semana 8'!F30 | J30: ='Semana 9'!F30 | K30: ='Semana 10'!F30 | L30: ='Semana 11'!F30 | M30: ='Semana 12'!F30
A31: ='Semana 1'!A31 -> Sentadillas (set 4) | B31: ='Semana 1'!F31 | C31: ='Semana 2'!F31 -> 0 | D31: ='Semana 3'!F31 -> 0 | E31: ='Semana 4'!F31 -> 0 | F31: ='Semana 5'!F31 -> 0 | G31: ='Semana 6'!F31 -> 0 | H31: ='Semana 7'!F31 -> 0 | I31: ='Semana 8'!F31 -> 0 | J31: ='Semana 9'!F31 -> 0 | K31: ='Semana 10'!F31 -> 0 | L31: ='Semana 11'!F31 -> 0 | M31: ='Semana 12'!F31 -> 0
A32: ='Semana 1'!A32 -> Sentadillas (set 5) | B32: ='Semana 1'!F32 -> 0 | C32: ='Semana 2'!F32 -> 0 | D32: ='Semana 3'!F32 -> 0 | E32: ='Semana 4'!F32 -> 0 | F32: ='Semana 5'!F32 -> 0 | G32: ='Semana 6'!F32 -> 0 | H32: ='Semana 7'!F32 -> 0 | I32: ='Semana 8'!F32 -> 0 | J32: ='Semana 9'!F32 -> 0 | K32: ='Semana 10'!F32 -> 0 | L32: ='Semana 11'!F32 -> 0 | M32: ='Semana 12'!F32 -> 0
A33: ='Semana 1'!A33 -> Sentadillas (set 6) | B33: ='Semana 1'!F33 -> 0 | C33: ='Semana 2'!F33 | D33: ='Semana 3'!F33 | E33: ='Semana 4'!F33 | F33: ='Semana 5'!F33 | G33: ='Semana 6'!F33 | H33: ='Semana 7'!F33 | I33: ='Semana 8'!F33 | J33: ='Semana 9'!F33 | K33: ='Semana 10'!F33 | L33: ='Semana 11'!F33 | M33: ='Semana 12'!F33
A34: ='Semana 1'!A34 -> Prensa | B34: ='Semana 1'!F34 | C34: ='Semana 2'!F34 | D34: ='Semana 3'!F34 | E34: ='Semana 4'!F34 | F34: ='Semana 5'!F34 | G34: ='Semana 6'!F34 | H34: ='Semana 7'!F34 | I34: ='Semana 8'!F34 | J34: ='Semana 9'!F34 | K34: ='Semana 10'!F34 | L34: ='Semana 11'!F34 | M34: ='Semana 12'!F34
A35: ='Semana 1'!A35 -> Prensa (set 2) | B35: ='Semana 1'!F35 | C35: ='Semana 2'!F35 | D35: ='Semana 3'!F35 | E35: ='Semana 4'!F35 | F35: ='Semana 5'!F35 | G35: ='Semana 6'!F35 | H35: ='Semana 7'!F35 | I35: ='Semana 8'!F35 | J35: ='Semana 9'!F35 | K35: ='Semana 10'!F35 | L35: ='Semana 11'!F35 | M35: ='Semana 12'!F35
A36: ='Semana 1'!A36 -> Prensa (set 3) | B36: ='Semana 1'!F36 | C36: ='Semana 2'!F36 | D36: ='Semana 3'!F36 | E36: ='Semana 4'!F36 | F36: ='Semana 5'!F36 | G36: ='Semana 6'!F36 | H36: ='Semana 7'!F36 | I36: ='Semana 8'!F36 | J36: ='Semana 9'!F36 | K36: ='Semana 10'!F36 | L36: ='Semana 11'!F36 | M36: ='Semana 12'!F36
A37: ='Semana 1'!A37 -> Curl de pierna | B37: ='Semana 1'!F37 | C37: ='Semana 2'!F37 | D37: ='Semana 3'!F37 | E37: ='Semana 4'!F37 | F37: ='Semana 5'!F37 | G37: ='Semana 6'!F37 | H37: ='Semana 7'!F37 | I37: ='Semana 8'!F37 | J37: ='Semana 9'!F37 | K37: ='Semana 10'!F37 | L37: ='Semana 11'!F37 | M37: ='Semana 12'!F37
A38: ='Semana 1'!A38 -> Extensiones de pierna | B38: ='Semana 1'!F38 | C38: ='Semana 2'!F38 | D38: ='Semana 3'!F38 | E38: ='Semana 4'!F38 | F38: ='Semana 5'!F38 | G38: ='Semana 6'!F38 | H38: ='Semana 7'!F38 | I38: ='Semana 8'!F38 | J38: ='Semana 9'!F38 | K38: ='Semana 10'!F38 | L38: ='Semana 11'!F38 | M38: ='Semana 12'!F38
... A44: ='Semana 1'!A44 -> Trabajo abdominal ligero | B44: ='Semana 1'!F44 | C44: ='Semana 2'!F44 | D44: ='Semana 3'!F44 | E44: ='Semana 4'!F44 | F44: ='Semana 5'!F44 | G44: ='Semana 6'!F44 | H44: ='Semana 7'!F44 | I44: ='Semana 8'!F44 | J44: ='Semana 9'!F44 | K44: ='Semana 10'!F44 | L44: ='Semana 11'!F44 | M44: ='Semana 12'!F44
A45: ='Semana 1'!A45 -> 0 | M45: ='Semana 12'!F45
A46: ='Semana 1'!A46 -> Dia 3: Pecho, hombros, triceps y abdominales
A47: ='Semana 1'!A47 -> 0
A48: ='Semana 1'!A48 -> Ejercicioss
A49: ='Semana 1'!A49 -> Press de banca | B49: ='Semana 1'!F49 | C49: ='Semana 2'!F49 | D49: ='Semana 3'!F49 | E49: ='Semana 4'!F49 | F49: ='Semana 5'!F49 | G49: ='Semana 6'!F49 | H49: ='Semana 7'!F49 | I49: ='Semana 8'!F49 | J49: ='Semana 9'!F49 | K49: ='Semana 10'!F49 | L49: ='Semana 11'!F49 | M49: ='Semana 12'!F49
A50: ='Semana 1'!A50 -> Press de banca (set 2) | B50: ='Semana 1'!F50 | C50: ='Semana 2'!F50 | D50: ='Semana 3'!F50 | E50: ='Semana 4'!F50 | F50: ='Semana 5'!F50 | G50: ='Semana 6'!F50 | H50: ='Semana 7'!F50 | I50: ='Semana 8'!F50 | J50: ='Semana 9'!F50 | K50: ='Semana 10'!F50 | L50: ='Semana 11'!F50 | M50: ='Semana 12'!F50
A51: ='Semana 1'!A51 -> Press de banca (set 3) | B51: ='Semana 1'!F51 | C51: ='Semana 2'!F51 | D51: ='Semana 3'!F51 | E51: ='Semana 4'!F51 | F51: ='Semana 5'!F51 | G51: ='Semana 6'!F51 | H51: ='Semana 7'!F51 | I51: ='Semana 8'!F51 | J51: ='Semana 9'!F51 | K51: ='Semana 10'!F51 | L51: ='Semana 11'!F51 | M51: ='Semana 12'!F51
A52: ='Semana 1'!A52 -> Press de banca (set 4) | B52: ='Semana 1'!F52 | C52: ='Semana 2'!F52 -> 0 | D52: ='Semana 3'!F52 -> 0 | E52: ='Semana 4'!F52 -> 0 | F52: ='Semana 5'!F52 -> 0 | G52: ='Semana 6'!F52 -> 0 | H52: ='Semana 7'!F52 -> 0 | I52: ='Semana 8'!F52 -> 0 | J52: ='Semana 9'!F52 -> 0 | K52: ='Semana 10'!F52 -> 0 | L52: ='Semana 11'!F52 -> 0 | M52: ='Semana 12'!F52 -> 0
A53: ='Semana 1'!A53 -> Press de banca (set 5) | B53: ='Semana 1'!F53 | C53: ='Semana 2'!F53 | D53: ='Semana 3'!F53 | E53: ='Semana 4'!F53 | F53: ='Semana 5'!F53 | G53: ='Semana 6'!F53 | H53: ='Semana 7'!F53 | I53: ='Semana 8'!F53 | J53: ='Semana 9'!F53 | K53: ='Semana 10'!F53 | L53: ='Semana 11'!F53 | M53: ='Semana 12'!F53
A54: ='Semana 1'!A54 -> Press de banca (set 6) | B54: ='Semana 1'!F54 | C54: ='Semana 2'!F54 | D54: ='Semana 3'!F54 | E54: ='Semana 4'!F54 | F54: ='Semana 5'!F54 | G54: ='Semana 6'!F54 | H54: ='Semana 7'!F54 | I54: ='Semana 8'!F54 | J54: ='Semana 9'!F54 | K54: ='Semana 10'!F54 | L54: ='Semana 11'!F54 | M54: ='Semana 12'!F54
A55: ='Semana 1'!A55 -> Press inclinado con mancuernas | B55: ='Semana 1'!F55 | C55: ='Semana 2'!F55 | D55: ='Semana 3'!F55 | E55: ='Semana 4'!F55 | F55: ='Semana 5'!F55 | G55: ='Semana 6'!F55 | H55: ='Semana 7'!F55 | I55: ='Semana 8'!F55 | J55: ='Semana 9'!F55 | K55: ='Semana 10'!F55 | L55: ='Semana 11'!F55 | M55: ='Semana 12'!F55
A56: ='Semana 1'!A56 -> Press inclinado con mancuernas (set 2) | B56: ='Semana 1'!F56 | C56: ='Semana 2'!F56 | D56: ='Semana 3'!F56 | E56: ='Semana 4'!F56 | F56: ='Semana 5'!F56 | G56: ='Semana 6'!F56 | H56: ='Semana 7'!F56 | I56: ='Semana 8'!F56 | J56: ='Semana 9'!F56 | K56: ='Semana 10'!F56 | L56: ='Semana 11'!F56 | M56: ='Semana 12'!F56
A57: ='Semana 1'!A57 -> Press inclinado con mancuernas (set 3) | B57: ='Semana 1'!F57 | C57: ='Semana 2'!F57 -> 0 | D57: ='Semana 3'!F57 -> 0 | E57: ='Semana 4'!F57 -> 0 | F57: ='Semana 5'!F57 -> 0 | G57: ='Semana 6'!F57 -> 0 | H57: ='Semana 7'!F57 -> 0 | I57: ='Semana 8'!F57 -> 0 | J57: ='Semana 9'!F57 -> 0 | K57: ='Semana 10'!F57 -> 0 | L57: ='Semana 11'!F57 -> 0 | M57: ='Semana 12'!F57 -> 0
A58: ='Semana 1'!A58 -> Press inclinado con mancuernas (set 4) | B58: ='Semana 1'!F58 | C58: ='Semana 2'!F58 -> 0 | D58: ='Semana 3'!F58 -> 0 | E58: ='Semana 4'!F58 -> 0 | F58: ='Semana 5'!F58 -> 0 | G58: ='Semana 6'!F58 -> 0 | H58: ='Semana 7'!F58 -> 0 | I58: ='Semana 8'!F58 -> 0 | J58: ='Semana 9'!F58 -> 0 | K58: ='Semana 10'!F58 -> 0 | L58: ='Semana 11'!F58 -> 0 | M58: ='Semana 12'!F58 -> 0
A59: ='Semana 1'!A59 -> Flyes declinadas con mancuernas | B59: ='Semana 1'!F59 | C59: ='Semana 2'!F59 -> 0 | D59: ='Semana 3'!F59 -> 0 | E59: ='Semana 4'!F59 -> 0 | F59: ='Semana 5'!F59 -> 0 | G59: ='Semana 6'!F59 -> 0 | H59: ='Semana 7'!F59 -> 0 | I59: ='Semana 8'!F59 -> 0 | J59: ='Semana 9'!F59 -> 0 | K59: ='Semana 10'!F59 -> 0 | L59: ='Semana 11'!F59 -> 0 | M59: ='Semana 12'!F59 -> 0
A60: ='Semana 1'!A60 -> Flyes declinadas con mancuernas (set 2) | B60: ='Semana 1'!F60 | C60: ='Semana 2'!F60 -> 0 | D60: ='Semana 3'!F60 -> 0 | E60: ='Semana 4'!F60 -> 0 | F60: ='Semana 5'!F60 -> 0 | G60: ='Semana 6'!F60 -> 0 | H60: ='Semana 7'!F60 -> 0 | I60: ='Semana 8'!F60 -> 0 | J60: ='Semana 9'!F60 -> 0 | K60: ='Semana 10'!F60 -> 0 | L60: ='Semana 11'!F60 -> 0 | M60: ='Semana 12'!F60 -> 0
... A78: ='Semana 1'!A78 -> Elevación lateral con cable (set 2) | B78: ='Semana 1'!F78 | C78: ='Semana 2'!F78 -> 0 | D78: ='Semana 3'!F78 -> 0 | E78: ='Semana 4'!F78 -> 0 | F78: ='Semana 5'!F78 -> 0 | G78: ='Semana 6'!F78 -> 0 | H78: ='Semana 7'!F78 -> 0 | I78: ='Semana 8'!F78 -> 0 | J78: ='Semana 9'!F78 -> 0 | K78: ='Semana 10'!F78 -> 0 | L78: ='Semana 11'!F78 -> 0 | M78: ='Semana 12'!F78 -> 0
