Workbook

Sheet Personalizacion
A1: WWW.BIBLIOTECADERUTINAS.COM
A3: Rellenar celdas verdes | B3: Paso nº1: Establecer 1RM | I3: STEP 2: Set Rounding
A4: Ejercicio | B4: 1RM
E5: Ejercicio | F5: Incrementos | G5: Progresion | I5: Rounding | J5: 2.5
A6: Peso muerto | B6: 100 | E6: Peso muerto | F6: =IFERROR(MROUND($J$5*G6,2.5),"-") -> 5 | G6: 2
A7: Remo en barra | B7: 90 | E7: Remo en cable | F7: =IFERROR(MROUND($J$5*G7,2.5),"-") -> 2.5 | G7: 1
A8: Jalon al pecho | B8: 80 | E8: Remo en barra | F8: =IFERROR(MROUND($J$5*G8,2.5),"-") -> 2.5 | G8: 1
A9: Remo en cable | B9: 70 | E9: Bench Press | F9: =IFERROR(MROUND($J$5*G9,2.5),"-") -> 2.5 | G9: 1
A10: Face Pull | B10: 60 | E10: Press militar | F10: =IFERROR(MROUND($J$5*G10,2.5),"-") -> 2.5 | G10: 1
A11: Curl martillo | B11: 50 | E11: Sentadillas | F11: =IFERROR(MROUND($J$5*G11,2.5),"-") -> 2.5 | G11: 1
A12: Curl de biceps barra Z | B12: 40 | E12: Peso muerto rumano | F12: =IFERROR(MROUND($J$5*G12,2.5),"-") -> 2.5 | G12: 1
E13: Prensa | F13: =IFERROR(MROUND($J$5*G13,2.5),"-") -> 2.5 | G13: 1
E14: Jalon al pecho | F14: =IFERROR(MROUND($J$5*G14,2.5),"-") -> 2.5 | G14: 0.5
A15: Press de banca | B15: 205 | E15: Curl de pierna | F15: =IFERROR(MROUND($J$5*G15,2.5),"-") -> 2.5 | G15: 1
A16: Press militar | B16: 105 | F16: =IFERROR(MROUND($J$5*G16,2.5),"-") -> - | G16: add rates here
A17: Press de banca inclinado con mancuernas | B17: 95 | F17: =IFERROR(MROUND($J$5*G17,2.5),"-") -> - | G17: add rates here
A18: Extension de triceps en polea alta | B18: 85 | F18: =IFERROR(MROUND($J$5*G18,2.5),"-") -> - | G18: add rates here
A19: Press frances | B19: 75 | F19: =IFERROR(MROUND($J$5*G19,2.5),"-") -> - | G19: add rates here
A20: Elevaciones laterales | B20: 65 | F20: =IFERROR(MROUND($J$5*G20,2.5),"-") -> - | G20: add rates here
F21: =IFERROR(MROUND($J$5*G21,2.5),"-") -> - | G21: add rates here
A22: Sentadillas | B22: 215 | F22: =IFERROR(MROUND($J$5*G22,2.5),"-") -> - | G22: add rates here
A23: Peso muerto rumano | B23: 210
A24: Prensa | B24: 345
A25: Elevacion gemelos | B25: 150
A26: Curl de pierna | B26: 100

Sheet Rutina
A1: WWW.BIBLIOTECADERUTINAS.COM
F3: Semana 1 | H3: Semana 2 | J3: Semana 3 | L3: Semana 4 | N3: Semana 5 | P3: Semana 6 | R3: Semana 7 | T3: Semana 8 | V3: Semana 9 | X3: Semana 10 | Z3: Semana 11 | AB3: Semana 12
A4: Lunes- Pull | B4: Anotaciones | C4: Series | D4: Min Reps | E4: Max Reps | F4: Peso | G4: Repeticiones última serie | H4: Peso | I4: Repeticiones última serie | J4: Peso | K4: Repeticiones última serie | L4: Peso | M4: Repeticiones última serie | N4: Peso | O4: Repeticiones última serie | P4: Peso | Q4: Repeticiones última serie | R4: Peso | S4: Repeticiones última serie | T4: Peso | U4: Repeticiones última serie | V4: Peso | W4: Repeticiones última serie | X4: Peso | Y4: Repeticiones última serie | Z4: Peso | AA4: Repeticiones última serie | AB4: Peso | AC4: Repeticiones última serie
A5: =Personalizacion!A6 -> Peso muerto | B5: Ultima serie AMRAP | C5: 1 | D5: 5 | E5: 5 | F5: =FLOOR(VLOOKUP(A5,Personalizacion!$A$6:$B$64,2,FALSE)*VLOOKUP(E5,Intensidad!$B$4:$D$16,3,FALSE),Personalizacion!$J$5) -> 67.5 | H5: =MROUND(F5+IF(G5>=$E5,IFERROR(VLOOKUP($A5,Personalizacion!$E$6:$F$52,2,FALSE),0),0),Personalizacion!$J$5) -> 67.5 | J5: =MROUND(H5+IF(I5>=$E5,IFERROR(VLOOKUP($A5,Personalizacion!$E$6:$F$52,2,FALSE),0),0),Personalizacion!$J$5) -> 67.5 | L5: =MROUND(J5+IF(K5>=$E5,IFERROR(VLOOKUP($A5,Personalizacion!$E$6:$F$52,2,FALSE),0),0),Personalizacion!$J$5) -> 67.5 | N5: =MROUND(L5+IF(M5>=$E5,IFERROR(VLOOKUP($A5,Personalizacion!$E$6:$F$52,2,FALSE),0),0),Personalizacion!$J$5) -> 67.5 | P5: =MROUND(N5+IF(O5>=$E5,IFERROR(VLOOKUP($A5,Personalizacion!$E$6:$F$52,2,FALSE),0),0),Personalizacion!$J$5) -> 67.5 | R5: =MROUND(P5+IF(Q5>=$E5,IFERROR(VLOOKUP($A5,Personalizacion!$E$6:$F$52,2,FALSE),0),0),Personalizacion!$J$5) -> 67.5 | T5: =MROUND(R5+IF(S5>=$E5,IFERROR(VLOOKUP($A5,Personalizacion!$E$6:$F$52,2,FALSE),0),0),Personalizacion!$J$5) -> 67.5 | V5: =MROUND(T5+IF(U5>=$E5,IFERROR(VLOOKUP($A5,Personalizacion!$E$6:$F$52,2,FALSE),0),0),Personalizacion!$J$5) -> 67.5 | X5: =MROUND(V5+IF(W5>=$E5,IFERROR(VLOOKUP($A5,Personalizacion!$E$6:$F$52,2,FALSE),0),0),Personalizacion!$J$5) -> 67.5 | Z5: =MROUND(X5+IF(Y5>=$E5,IFERROR(VLOOKUP($A5,Personalizacion!$E$6:$F$52,2,FALSE),0),0),Personalizacion!$J$5) -> 67.5 | AB5: =MROUND(Z5+IF(AA5>=$E5,IFERROR(VLOOKUP($A5,Personalizacion!$E$6:$F$52,2,FALSE),0),0),Personalizacion!$J$5) -> 67.5
A6: =Personalizacion!A8 -> Jalon al pecho | C6: 3 | D6: 8 | E6: 12 | F6: =FLOOR(VLOOKUP(A6,Personalizacion!$A$6:$B$64,2,FALSE)*VLOOKUP(E6,Intensidad!$B$4:$D$16,3,FALSE),Personalizacion!$J$5) -> 30 | H6: =MROUND(F6+IF(G6>=$E6,IFERROR(VLOOKUP($A6,Personalizacion!$E$6:$F$52,2,FALSE),0),0),Personalizacion!$J$5) -> 30 | J6: =MROUND(H6+IF(I6>=$E6,IFERROR(VLOOKUP($A6,Personalizacion!$E$6:$F$52,2,FALSE),0),0),Personalizacion!$J$5) -> 30 | L6: =MROUND(J6+IF(K6>=$E6,IFERROR(VLOOKUP($A6,Personalizacion!$E$6:$F$52,2,FALSE),0),0),Personalizacion!$J$5) -> 30 | N6: =MROUND(L6+IF(M6>=$E6,IFERROR(VLOOKUP($A6,Personalizacion!$E$6:$F$52,2,FALSE),0),0),Personalizacion!$J$5) -> 30 | P6: =MROUND(N6+IF(O6>=$E6,IFERROR(VLOOKUP($A6,Personalizacion!$E$6:$F$52,2,FALSE),0),0),Personalizacion!$J$5) -> 30 | R6: =MROUND(P6+IF(Q6>=$E6,IFERROR(VLOOKUP($A6,Personalizacion!$E$6:$F$52,2,FALSE),0),0),Personalizacion!$J$5) -> 30 | T6: =MROUND(R6+IF(S6>=$E6,IFERROR(VLOOKUP($A6,Personalizacion!$E$6:$F$52,2,FALSE),0),0),Personalizacion!$J$5) -> 30 | V6: =MROUND(T6+IF(U6>=$E6,IFERROR(VLOOKUP($A6,Personalizacion!$E$6:$F$52,2,FALSE),0),0),Personalizacion!$J$5) -> 30 | X6: =MROUND(V6+IF(W6>=$E6,IFERROR(VLOOKUP($A6,Personalizacion!$E$6:$F$52,2,FALSE),0),0),Personalizacion!$J$5) -> 30 | Z6: =MROUND(X6+IF(Y6>=$E6,IFERROR(VLOOKUP($A6,Personalizacion!$E$6:$F$52,2,FALSE),0),0),Personalizacion!$J$5) -> 30 | AB6: =MROUND(Z6+IF(AA6>=$E6,IFERROR(VLOOKUP($A6,Personalizacion!$E$6:$F$52,2,FALSE),0),0),Personalizacion!$J$5) -> 30
A7: =Personalizacion!A9 -> Remo en cable | C7: 3 | D7: 8 | E7: 12 | F7: =FLOOR(VLOOKUP(A7,Personalizacion!$A$6:$B$64,2,FALSE)*VLOOKUP(E7,Intensidad!$B$4:$D$16,3,FALSE),Personalizacion!$J$5) -> 27.5 | H7: =MROUND(F7+IF(G7>=$E7,IFERROR(VLOOKUP($A7,Personalizacion!$E$6:$F$52,2,FALSE),0),0),Personalizacion!$J$5) -> 27.5 | J7: =MROUND(H7+IF(I7>=$E7,IFERROR(VLOOKUP($A7,Personalizacion!$E$6:$F$52,2,FALSE),0),0),Personalizacion!$J$5) -> 27.5 | L7: =MROUND(J7+IF(K7>=$E7,IFERROR(VLOOKUP($A7,Personalizacion!$E$6:$F$52,2,FALSE),0),0),Personalizacion!$J$5) -> 27.5 | N7: =MROUND(L7+IF(M7>=$E7,IFERROR(VLOOKUP($A7,Personalizacion!$E$6:$F$52,2,FALSE),0),0),Personalizacion!$J$5) -> 27.5 | P7: =MROUND(N7+IF(O7>=$E7,IFERROR(VLOOKUP($A7,Personalizacion!$E$6:$F$52,2,FALSE),0),0),Personalizacion!$J$5) -> 27.5 | R7: =MROUND(P7+IF(Q7>=$E7,IFERROR(VLOOKUP($A7,Personalizacion!$E$6:$F$52,2,FALSE),0),0),Personalizacion!$J$5) -> 27.5 | T7: =MROUND(R7+IF(S7>=$E7,IFERROR(VLOOKUP($A7,Personalizacion!$E$6:$F$52,2,FALSE),0),0),Personalizacion!$J$5) -> 27.5 | V7: =MROUND(T7+IF(U7>=$E7,IFERROR(VLOOKUP($A7,Personalizacion!$E$6:$F$52,2,FALSE),0),0),Personalizacion!$J$5) -> 27.5 | X7: =MROUND(V7+IF(W7>=$E7,IFERROR(VLOOKUP($A7,Personalizacion!$E$6:$F$52,2,FALSE),0),0),Personalizacion!$J$5) -> 27.5 | Z7: =MROUND(X7+IF(Y7>=$E7,IFERROR(VLOOKUP($A7,Personalizacion!$E$6:$F$52,2,FALSE),0),0),Personalizacion!$J$5) -> 27.5 | AB7: =MROUND(Z7+IF(AA7>=$E7,IFERROR(VLOOKUP($A7,Personalizacion!$E$6:$F$52,2,FALSE),0),0),Personalizacion!$J$5) -> 27.5
A8: =Personalizacion!A10 -> Face Pull | C8: 5 | D8: 15 | E8: 20 | F8: =FLOOR(VLOOKUP(A8,Personalizacion!$A$6:$B$64,2,FALSE)*VLOOKUP(E8,Intensidad!$B$4:$D$16,3,FALSE),Personalizacion!$J$5) -> 17.5 | H8: =MROUND(F8+IF(G8>=$E8,IFERROR(VLOOKUP($A8,Personalizacion!$E$6:$F$52,2,FALSE),0),0),Personalizacion!$J$5) -> 17.5 | J8: =MROUND(H8+IF(I8>=$E8,IFERROR(VLOOKUP($A8,Personalizacion!$E$6:$F$52,2,FALSE),0),0),Personalizacion!$J$5) -> 17.5 | L8: =MROUND(J8+IF(K8>=$E8,IFERROR(VLOOKUP($A8,Personalizacion!$E$6:$F$52,2,FALSE),0),0),Personalizacion!$J$5) -> 17.5 | N8: =MROUND(L8+IF(M8>=$E8,IFERROR(VLOOKUP($A8,Personalizacion!$E$6:$F$52,2,FALSE),0),0),Personalizacion!$J$5) -> 17.5 | P8: =MROUND(N8+IF(O8>=$E8,IFERROR(VLOOKUP($A8,Personalizacion!$E$6:$F$52,2,FALSE),0),0),Personalizacion!$J$5) -> 17.5 | R8: =MROUND(P8+IF(Q8>=$E8,IFERROR(VLOOKUP($A8,Personalizacion!$E$6:$F$52,2,FALSE),0),0),Personalizacion!$J$5) -> 17.5 | T8: =MROUND(R8+IF(S8>=$E8,IFERROR(VLOOKUP($A8,Personalizacion!$E$6:$F$52,2,FALSE),0),0),Personalizacion!$J$5) -> 17.5 | V8: =MROUND(T8+IF(U8>=$E8,IFERROR(VLOOKUP($A8,Personalizacion!$E$6:$F$52,2,FALSE),0),0),Personalizacion!$J$5) -> 17.5 | X8: =MROUND(V8+IF(W8>=$E8,IFERROR(VLOOKUP($A8,Personalizacion!$E$6:$F$52,2,FALSE),0),0),Personalizacion!$J$5) -> 17.5 | Z8: =MROUND(X8+IF(Y8>=$E8,IFERROR(VLOOKUP($A8,Personalizacion!$E$6:$F$52,2,FALSE),0),0),Personalizacion!$J$5) -> 17.5 | AB8: =MROUND(Z8+IF(AA8>=$E8,IFERROR(VLOOKUP($A8,Personalizacion!$E$6:$F$52,2,FALSE),0),0),Personalizacion!$J$5) -> 17.5
A9: =Personalizacion!A11 -> Curl martillo | C9: 4 | D9: 8 | E9: 12 | F9: =FLOOR(VLOOKUP(A9,Personalizacion!$A$6:$B$64,2,FALSE)*VLOOKUP(E9,Intensidad!$B$4:$D$16,3,FALSE),Personalizacion!$J$5) -> 20 | H9: =MROUND(F9+IF(G9>=$E9,IFERROR(VLOOKUP($A9,Personalizacion!$E$6:$F$52,2,FALSE),0),0),Personalizacion!$J$5) -> 20 | J9: =MROUND(H9+IF(I9>=$E9,IFERROR(VLOOKUP($A9,Personalizacion!$E$6:$F$52,2,FALSE),0),0),Personalizacion!$J$5) -> 20 | L9: =MROUND(J9+IF(K9>=$E9,IFERROR(VLOOKUP($A9,Personalizacion!$E$6:$F$52,2,FALSE),0),0),Personalizacion!$J$5) -> 20 | N9: =MROUND(L9+IF(M9>=$E9,IFERROR(VLOOKUP($A9,Personalizacion!$E$6:$F$52,2,FALSE),0),0),Personalizacion!$J$5) -> 20 | P9: =MROUND(N9+IF(O9>=$E9,IFERROR(VLOOKUP($A9,Personalizacion!$E$6:$F$52,2,FALSE),0),0),Personalizacion!$J$5) -> 20 | R9: =MROUND(P9+IF(Q9>=$E9,IFERROR(VLOOKUP($A9,Personalizacion!$E$6:$F$52,2,FALSE),0),0),Personalizacion!$J$5) -> 20 | T9: =MROUND(R9+IF(S9>=$E9,IFERROR(VLOOKUP($A9,Personalizacion!$E$6:$F$52,2,FALSE),0),0),Personalizacion!$J$5) -> 20 | V9: =MROUND(T9+IF(U9>=$E9,IFERROR(VLOOKUP($A9,Personalizacion!$E$6:$F$52,2,FALSE),0),0),Personalizacion!$J$5) -> 20 | X9: =MROUND(V9+IF(W9>=$E9,IFERROR(VLOOKUP($A9,Personalizacion!$E$6:$F$52,2,FALSE),0),0),Personalizacion!$J$5) -> 20 | Z9: =MROUND(X9+IF(Y9>=$E9,IFERROR(VLOOKUP($A9,Personalizacion!$E$6:$F$52,2,FALSE),0),0),Personalizacion!$J$5) -> 20 | AB9: =MROUND(Z9+IF(AA9>=$E9,IFERROR(VLOOKUP($A9,Personalizacion!$E$6:$F$52,2,FALSE),0),0),Personalizacion!$J$5) -> 20
A10: =Personalizacion!A12 -> Curl de biceps barra Z | C10: 4 | D10: 8 | E10: 12 | F10: =FLOOR(VLOOKUP(A10,Personalizacion!$A$6:$B$64,2,FALSE)*VLOOKUP(E10,Intensidad!$B$4:$D$16,3,FALSE),Personalizacion!$J$5) -> 15 | H10: =MROUND(F10+IF(G10>=$E10,IFERROR(VLOOKUP($A10,Personalizacion!$E$6:$F$52,2,FALSE),0),0),Personalizacion!$J$5) -> 15 | J10: =MROUND(H10+IF(I10>=$E10,IFERROR(VLOOKUP($A10,Personalizacion!$E$6:$F$52,2,FALSE),0),0),Personalizacion!$J$5) -> 15 | L10: =MROUND(J10+IF(K10>=$E10,IFERROR(VLOOKUP($A10,Personalizacion!$E$6:$F$52,2,FALSE),0),0),Personalizacion!$J$5) -> 15 | N10: =MROUND(L10+IF(M10>=$E10,IFERROR(VLOOKUP($A10,Personalizacion!$E$6:$F$52,2,FALSE),0),0),Personalizacion!$J$5) -> 15 | P10: =MROUND(N10+IF(O10>=$E10,IFERROR(VLOOKUP($A10,Personalizacion!$E$6:$F$52,2,FALSE),0),0),Personalizacion!$J$5) -> 15 | R10: =MROUND(P10+IF(Q10>=$E10,IFERROR(VLOOKUP($A10,Personalizacion!$E$6:$F$52,2,FALSE),0),0),Personalizacion!$J$5) -> 15 | T10: =MROUND(R10+IF(S10>=$E10,IFERROR(VLOOKUP($A10,Personalizacion!$E$6:$F$52,2,FALSE),0),0),Personalizacion!$J$5) -> 15 | V10: =MROUND(T10+IF(U10>=$E10,IFERROR(VLOOKUP($A10,Personalizacion!$E$6:$F$52,2,FALSE),0),0),Personalizacion!$J$5) -> 15 | X10: =MROUND(V10+IF(W10>=$E10,IFERROR(VLOOKUP($A10,Personalizacion!$E$6:$F$52,2,FALSE),0),0),Personalizacion!$J$5) -> 15 | Z10: =MROUND(X10+IF(Y10>=$E10,IFERROR(VLOOKUP($A10,Personalizacion!$E$6:$F$52,2,FALSE),0),0),Personalizacion!$J$5) -> 15 | AB10: =MROUND(Z10+IF(AA10>=$E10,IFERROR(VLOOKUP($A10,Personalizacion!$E$6:$F$52,2,FALSE),0),0),Personalizacion!$J$5) -> 15
A11: Martes- Push | B11: Anotaciones | C11: Series | D11: Min Reps | E11: Reps
A12: =Personalizacion!A15 -> Press de banca | B12: Ultima serie AMRAP | C12: 5 | D12: 5 | E12: 5 | F12: =FLOOR(VLOOKUP(A12,Personalizacion!$A$6:$B$64,2,FALSE)*VLOOKUP(E12,Intensidad!$B$4:$D$16,3,FALSE),Personalizacion!$J$5) -> 142.5 | H12: =MROUND(F12+IF(G12>=$E12,IFERROR(VLOOKUP($A12,Personalizacion!$E$6:$F$52,2,FALSE),0),0),Personalizacion!$J$5) -> 142.5 | J12: =MROUND(H12+IF(I12>=$E12,IFERROR(VLOOKUP($A12,Personalizacion!$E$6:$F$52,2,FALSE),0),0),Personalizacion!$J$5) -> 142.5 | L12: =MROUND(J12+IF(K12>=$E12,IFERROR(VLOOKUP($A12,Personalizacion!$E$6:$F$52,2,FALSE),0),0),Personalizacion!$J$5) -> 142.5 | N12: =MROUND(L12+IF(M12>=$E12,IFERROR(VLOOKUP($A12,Personalizacion!$E$6:$F$52,2,FALSE),0),0),Personalizacion!$J$5) -> 142.5 | P12: =MROUND(N12+IF(O12>=$E12,IFERROR(VLOOKUP($A12,Personalizacion!$E$6:$F$52,2,FALSE),0),0),Personalizacion!$J$5) -> 142.5 | R12: =MROUND(P12+IF(Q12>=$E12,IFERROR(VLOOKUP($A12,Personalizacion!$E$6:$F$52,2,FALSE),0),0),Personalizacion!$J$5) -> 142.5 | T12: =MROUND(R12+IF(S12>=$E12,IFERROR(VLOOKUP($A12,Personalizacion!$E$6:$F$52,2,FALSE),0),0),Personalizacion!$J$5) -> 142.5 | V12: =MROUND(T12+IF(U12>=$E12,IFERROR(VLOOKUP($A12,Personalizacion!$E$6:$F$52,2,FALSE),0),0),Personalizacion!$J$5) -> 142.5 | X12: =MROUND(V12+IF(W12>=$E12,IFERROR(VLOOKUP($A12,Personalizacion!$E$6:$F$52,2,FALSE),0),0),Personalizacion!$J$5) -> 142.5 | Z12: =MROUND(X12+IF(Y12>=$E12,IFERROR(VLOOKUP($A12,Personalizacion!$E$6:$F$52,2,FALSE),0),0),Personalizacion!$J$5) -> 142.5 | AB12: =MROUND(Z12+IF(AA12>=$E12,IFERROR(VLOOKUP($A12,Personalizacion!$E$6:$F$52,2,FALSE),0),0),Personalizacion!$J$5) -> 142.5
A13: =Personalizacion!A16 -> Press militar | C13: 3 | D13: 8 | E13: 12 | F13: =FLOOR(VLOOKUP(A13,Personalizacion!$A$6:$B$64,2,FALSE)*VLOOKUP(E13,Intensidad!$B$4:$D$16,3,FALSE),Personalizacion!$J$5) -> 40 | H13: =MROUND(F13+IF(G13>=$E13,IFERROR(VLOOKUP($A13,Personalizacion!$E$6:$F$52,2,FALSE),0),0),Personalizacion!$J$5) -> 40 | J13: =MROUND(H13+IF(I13>=$E13,IFERROR(VLOOKUP($A13,Personalizacion!$E$6:$F$52,2,FALSE),0),0),Personalizacion!$J$5) -> 40 | L13: =MROUND(J13+IF(K13>=$E13,IFERROR(VLOOKUP($A13,Personalizacion!$E$6:$F$52,2,FALSE),0),0),Personalizacion!$J$5) -> 40 | N13: =MROUND(L13+IF(M13>=$E13,IFERROR(VLOOKUP($A13,Personalizacion!$E$6:$F$52,2,FALSE),0),0),Personalizacion!$J$5) -> 40 | P13: =MROUND(N13+IF(O13>=$E13,IFERROR(VLOOKUP($A13,Personalizacion!$E$6:$F$52,2,FALSE),0),0),Personalizacion!$J$5) -> 40 | R13: =MROUND(P13+IF(Q13>=$E13,IFERROR(VLOOKUP($A13,Personalizacion!$E$6:$F$52,2,FALSE),0),0),Personalizacion!$J$5) -> 40 | T13: =MROUND(R13+IF(S13>=$E13,IFERROR(VLOOKUP($A13,Personalizacion!$E$6:$F$52,2,FALSE),0),0),Personalizacion!$J$5) -> 40 | V13: =MROUND(T13+IF(U13>=$E13,IFERROR(VLOOKUP($A13,Personalizacion!$E$6:$F$52,2,FALSE),0),0),Personalizacion!$J$5) -> 40 | X13: =MROUND(V13+IF(W13>=$E13,IFERROR(VLOOKUP($A13,Personalizacion!$E$6:$F$52,2,FALSE),0),0),Personalizacion!$J$5) -> 40 | Z13: =MROUND(X13+IF(Y13>=$E13,IFERROR(VLOOKUP($A13,Personalizacion!$E$6:$F$52,2,FALSE),0),0),Personalizacion!$J$5) -> 40 | AB13: =MROUND(Z13+IF(AA13>=$E13,IFERROR(VLOOKUP($A13,Personalizacion!$E$6:$F$52,2,FALSE),0),0),Personalizacion!$J$5) -> 40
A14: =Personalizacion!A17 -> Press de banca inclinado con mancuernas | C14: 3 | D14: 8 | E14: 12 | F14: =FLOOR(VLOOKUP(A14,Personalizacion!$A$6:$B$64,2,FALSE)*VLOOKUP(E14,Intensidad!$B$4:$D$16,3,FALSE),Personalizacion!$J$5) -> 37.5 | H14: =MROUND(F14+IF(G14>=$E14,IFERROR(VLOOKUP($A14,Personalizacion!$E$6:$F$52,2,FALSE),0),0),Personalizacion!$J$5) -> 37.5 | J14: =MROUND(H14+IF(I14>=$E14,IFERROR(VLOOKUP($A14,Personalizacion!$E$6:$F$52,2,FALSE),0),0),Personalizacion!$J$5) -> 37.5 | L14: =MROUND(J14+IF(K14>=$E14,IFERROR(VLOOKUP($A14,Personalizacion!$E$6:$F$52,2,FALSE),0),0),Personalizacion!$J$5) -> 37.5 | N14: =MROUND(L14+IF(M14>=$E14,IFERROR(VLOOKUP($A14,Personalizacion!$E$6:$F$52,2,FALSE),0),0),Personalizacion!$J$5) -> 37.5 | P14: =MROUND(N14+IF(O14>=$E14,IFERROR(VLOOKUP($A14,Personalizacion!$E$6:$F$52,2,FALSE),0),0),Personalizacion!$J$5) -> 37.5 | R14: =MROUND(P14+IF(Q14>=$E14,IFERROR(VLOOKUP($A14,Personalizacion!$E$6:$F$52,2,FALSE),0),0),Personalizacion!$J$5) -> 37.5 | T14: =MROUND(R14+IF(S14>=$E14,IFERROR(VLOOKUP($A14,Personalizacion!$E$6:$F$52,2,FALSE),0),0),Personalizacion!$J$5) -> 37.5 | V14: =MROUND(T14+IF(U14>=$E14,IFERROR(VLOOKUP($A14,Personalizacion!$E$6:$F$52,2,FALSE),0),0),Personalizacion!$J$5) -> 37.5 | X14: =MROUND(V14+IF(W14>=$E14,IFERROR(VLOOKUP($A14,Personalizacion!$E$6:$F$52,2,FALSE),0),0),Personalizacion!$J$5) -> 37.5 | Z14: =MROUND(X14+IF(Y14>=$E14,IFERROR(VLOOKUP($A14,Personalizacion!$E$6:$F$52,2,FALSE),0),0),Personalizacion!$J$5) -> 37.5 | AB14: =MROUND(Z14+IF(AA14>=$E14,IFERROR(VLOOKUP($A14,Personalizacion!$E$6:$F$52,2,FALSE),0),0),Personalizacion!$J$5) -> 37.5
A15: =Personalizacion!A18 -> Extension de triceps en polea alta | C15: 3 | D15: 8 | E15: 12 | F15: =FLOOR(VLOOKUP(A15,Personalizacion!$A$6:$B$64,2,FALSE)*VLOOKUP(E15,Intensidad!$B$4:$D$16,3,FALSE),Personalizacion!$J$5) -> 32.5 | H15: =MROUND(F15+IF(G15>=$E15,IFERROR(VLOOKUP($A15,Personalizacion!$E$6:$F$52,2,FALSE),0),0),Personalizacion!$J$5) -> 32.5 | J15: =MROUND(H15+IF(I15>=$E15,IFERROR(VLOOKUP($A15,Personalizacion!$E$6:$F$52,2,FALSE),0),0),Personalizacion!$J$5) -> 32.5 | L15: =MROUND(J15+IF(K15>=$E15,IFERROR(VLOOKUP($A15,Personalizacion!$E$6:$F$52,2,FALSE),0),0),Personalizacion!$J$5) -> 32.5 | N15: =MROUND(L15+IF(M15>=$E15,IFERROR(VLOOKUP($A15,Personalizacion!$E$6:$F$52,2,FALSE),0),0),Personalizacion!$J$5) -> 32.5 | P15: =MROUND(N15+IF(O15>=$E15,IFERROR(VLOOKUP($A15,Personalizacion!$E$6:$F$52,2,FALSE),0),0),Personalizacion!$J$5) -> 32.5 | R15: =MROUND(P15+IF(Q15>=$E15,IFERROR(VLOOKUP($A15,Personalizacion!$E$6:$F$52,2,FALSE),0),0),Personalizacion!$J$5) -> 32.5 | T15: =MROUND(R15+IF(S15>=$E15,IFERROR(VLOOKUP($A15,Personalizacion!$E$6:$F$52,2,FALSE),0),0),Personalizacion!$J$5) -> 32.5 | V15: =MROUND(T15+IF(U15>=$E15,IFERROR(VLOOKUP($A15,Personalizacion!$E$6:$F$52,2,FALSE),0),0),Personalizacion!$J$5) -> 32.5 | X15: =MROUND(V15+IF(W15>=$E15,IFERROR(VLOOKUP($A15,Personalizacion!$E$6:$F$52,2,FALSE),0),0),Personalizacion!$J$5) -> 32.5 | Z15: =MROUND(X15+IF(Y15>=$E15,IFERROR(VLOOKUP($A15,Personalizacion!$E$6:$F$52,2,FALSE),0),0),Personalizacion!$J$5) -> 32.5 | AB15: =MROUND(Z15+IF(AA15>=$E15,IFERROR(VLOOKUP($A15,Personalizacion!$E$6:$F$52,2,FALSE),0),0),Personalizacion!$J$5) -> 32.5
A16: =Personalizacion!A19 -> Press frances | C16: 3 | D16: 8 | E16: 12 | F16: =FLOOR(VLOOKUP(A16,Personalizacion!$A$6:$B$64,2,FALSE)*VLOOKUP(E16,Intensidad!$B$4:$D$16,3,FALSE),Personalizacion!$J$5) -> 30 | H16: =MROUND(F16+IF(G16>=$E16,IFERROR(VLOOKUP($A16,Personalizacion!$E$6:$F$52,2,FALSE),0),0),Personalizacion!$J$5) -> 30 | J16: =MROUND(H16+IF(I16>=$E16,IFERROR(VLOOKUP($A16,Personalizacion!$E$6:$F$52,2,FALSE),0),0),Personalizacion!$J$5) -> 30 | L16: =MROUND(J16+IF(K16>=$E16,IFERROR(VLOOKUP($A16,Personalizacion!$E$6:$F$52,2,FALSE),0),0),Personalizacion!$J$5) -> 30 | N16: =MROUND(L16+IF(M16>=$E16,IFERROR(VLOOKUP($A16,Personalizacion!$E$6:$F$52,2,FALSE),0),0),Personalizacion!$J$5) -> 30 | P16: =MROUND(N16+IF(O16>=$E16,IFERROR(VLOOKUP($A16,Personalizacion!$E$6:$F$52,2,FALSE),0),0),Personalizacion!$J$5) -> 30 | R16: =MROUND(P16+IF(Q16>=$E16,IFERROR(VLOOKUP($A16,Personalizacion!$E$6:$F$52,2,FALSE),0),0),Personalizacion!$J$5) -> 30 | T16: =MROUND(R16+IF(S16>=$E16,IFERROR(VLOOKUP($A16,Personalizacion!$E$6:$F$52,2,FALSE),0),0),Personalizacion!$J$5) -> 30 | V16: =MROUND(T16+IF(U16>=$E16,IFERROR(VLOOKUP($A16,Personalizacion!$E$6:$F$52,2,FALSE),0),0),Personalizacion!$J$5) -> 30 | X16: =MROUND(V16+IF(W16>=$E16,IFERROR(VLOOKUP($A16,Personalizacion!$E$6:$F$52,2,FALSE),0),0),Personalizacion!$J$5) -> 30 | Z16: =MROUND(X16+IF(Y16>=$E16,IFERROR(VLOOKUP($A16,Personalizacion!$E$6:$F$52,2,FALSE),0),0),Personalizacion!$J$5) -> 30 | AB16: =MROUND(Z16+IF(AA16>=$E16,IFERROR(VLOOKUP($A16,Personalizacion!$E$6:$F$52,2,FALSE),0),0),Personalizacion!$J$5) -> 30
A17: =Personalizacion!A20 -> Elevaciones laterales | C17: 3 | D17: 15 | E17: 20 | F17: =FLOOR(VLOOKUP(A17,Personalizacion!$A$6:$B$64,2,FALSE)*VLOOKUP(E17,Intensidad!$B$4:$D$16,3,FALSE),Personalizacion!$J$5) -> 20 | H17: =MROUND(F17+IF(G17>=$E17,IFERROR(VLOOKUP($A17,Personalizacion!$E$6:$F$52,2,FALSE),0),0),Personalizacion!$J$5) -> 20 | J17: =MROUND(H17+IF(I17>=$E17,IFERROR(VLOOKUP($A17,Personalizacion!$E$6:$F$52,2,FALSE),0),0),Personalizacion!$J$5) -> 20 | L17: =MROUND(J17+IF(K17>=$E17,IFERROR(VLOOKUP($A17,Personalizacion!$E$6:$F$52,2,FALSE),0),0),Personalizacion!$J$5) -> 20 | N17: =MROUND(L17+IF(M17>=$E17,IFERROR(VLOOKUP($A17,Personalizacion!$E$6:$F$52,2,FALSE),0),0),Personalizacion!$J$5) -> 20 | P17: =MROUND(N17+IF(O17>=$E17,IFERROR(VLOOKUP($A17,Personalizacion!$E$6:$F$52,2,FALSE),0),0),Personalizacion!$J$5) -> 20 | R17: =MROUND(P17+IF(Q17>=$E17,IFERROR(VLOOKUP($A17,Personalizacion!$E$6:$F$52,2,FALSE),0),0),Personalizacion!$J$5) -> 20 | T17: =MROUND(R17+IF(S17>=$E17,IFERROR(VLOOKUP($A17,Personalizacion!$E$6:$F$52,2,FALSE),0),0),Personalizacion!$J$5) -> 20 | V17: =MROUND(T17+IF(U17>=$E17,IFERROR(VLOOKUP($A17,Personalizacion!$E$6:$F$52,2,FALSE),0),0),Personalizacion!$J$5) -> 20 | X17: =MROUND(V17+IF(W17>=$E17,IFERROR(VLOOKUP($A17,Personalizacion!$E$6:$F$52,2,FALSE),0),0),Personalizacion!$J$5) -> 20 | Z17: =MROUND(X17+IF(Y17>=$E17,IFERROR(VLOOKUP($A17,Personalizacion!$E$6:$F$52,2,FALSE),0),0),Personalizacion!$J$5) -> 20 | AB17: =MROUND(Z17+IF(AA17>=$E17,IFERROR(VLOOKUP($A17,Personalizacion!$E$6:$F$52,2,FALSE),0),0),Personalizacion!$J$5) -> 20
A18: Miercoles - Legs | B18: Anotaciones | C18: Series | D18: Min Reps | E18: Max Reps
A19: =Personalizacion!A22 -> Sentadillas | B19: Ultima serie AMRAP | C19: 5 | D19: 5 | E19: 5 | F19: =FLOOR(VLOOKUP(A19,Personalizacion!$A$6:$B$64,2,FALSE)*VLOOKUP(E19,Intensidad!$B$4:$D$16,3,FALSE),Personalizacion!$J$5) -> 147.5 | H19: =MROUND(F19+IF(G19>=$E19,IFERROR(VLOOKUP($A19,Personalizacion!$E$6:$F$52,2,FALSE),0),0),Personalizacion!$J$5) -> 147.5 | J19: =MROUND(H19+IF(I19>=$E19,IFERROR(VLOOKUP($A19,Personalizacion!$E$6:$F$52,2,FALSE),0),0),Personalizacion!$J$5) -> 147.5 | L19: =MROUND(J19+IF(K19>=$E19,IFERROR(VLOOKUP($A19,Personalizacion!$E$6:$F$52,2,FALSE),0),0),Personalizacion!$J$5) -> 147.5 | N19: =MROUND(L19+IF(M19>=$E19,IFERROR(VLOOKUP($A19,Personalizacion!$E$6:$F$52,2,FALSE),0),0),Personalizacion!$J$5) -> 147.5 | P19: =MROUND(N19+IF(O19>=$E19,IFERROR(VLOOKUP($A19,Personalizacion!$E$6:$F$52,2,FALSE),0),0),Personalizacion!$J$5) -> 147.5 | R19: =MROUND(P19+IF(Q19>=$E19,IFERROR(VLOOKUP($A19,Personalizacion!$E$6:$F$52,2,FALSE),0),0),Personalizacion!$J$5) -> 147.5 | T19: =MROUND(R19+IF(S19>=$E19,IFERROR(VLOOKUP($A19,Personalizacion!$E$6:$F$52,2,FALSE),0),0),Personalizacion!$J$5) -> 147.5 | V19: =MROUND(T19+IF(U19>=$E19,IFERROR(VLOOKUP($A19,Personalizacion!$E$6:$F$52,2,FALSE),0),0),Personalizacion!$J$5) -> 147.5 | X19: =MROUND(V19+IF(W19>=$E19,IFERROR(VLOOKUP($A19,Personalizacion!$E$6:$F$52,2,FALSE),0),0),Personalizacion!$J$5) -> 147.5 | Z19: =MROUND(X19+IF(Y19>=$E19,IFERROR(VLOOKUP($A19,Personalizacion!$E$6:$F$52,2,FALSE),0),0),Personalizacion!$J$5) -> 147.5 | AB19: =MROUND(Z19+IF(AA19>=$E19,IFERROR(VLOOKUP($A19,Personalizacion!$E$6:$F$52,2,FALSE),0),0),Personalizacion!$J$5) -> 147.5
A20: =Personalizacion!A23 -> Peso muerto rumano | C20: 3 | D20: 8 | E20: 12 | F20: =FLOOR(VLOOKUP(A20,Personalizacion!$A$6:$B$64,2,FALSE)*VLOOKUP(E20,Intensidad!$B$4:$D$16,3,FALSE),Personalizacion!$J$5) -> 82.5 | H20: =MROUND(F20+IF(G20>=$E20,IFERROR(VLOOKUP($A20,Personalizacion!$E$6:$F$52,2,FALSE),0),0),Personalizacion!$J$5) -> 82.5 | J20: =MROUND(H20+IF(I20>=$E20,IFERROR(VLOOKUP($A20,Personalizacion!$E$6:$F$52,2,FALSE),0),0),Personalizacion!$J$5) -> 82.5 | L20: =MROUND(J20+IF(K20>=$E20,IFERROR(VLOOKUP($A20,Personalizacion!$E$6:$F$52,2,FALSE),0),0),Personalizacion!$J$5) -> 82.5 | N20: =MROUND(L20+IF(M20>=$E20,IFERROR(VLOOKUP($A20,Personalizacion!$E$6:$F$52,2,FALSE),0),0),Personalizacion!$J$5) -> 82.5 | P20: =MROUND(N20+IF(O20>=$E20,IFERROR(VLOOKUP($A20,Personalizacion!$E$6:$F$52,2,FALSE),0),0),Personalizacion!$J$5) -> 82.5 | R20: =MROUND(P20+IF(Q20>=$E20,IFERROR(VLOOKUP($A20,Personalizacion!$E$6:$F$52,2,FALSE),0),0),Personalizacion!$J$5) -> 82.5 | T20: =MROUND(R20+IF(S20>=$E20,IFERROR(VLOOKUP($A20,Personalizacion!$E$6:$F$52,2,FALSE),0),0),Personalizacion!$J$5) -> 82.5 | V20: =MROUND(T20+IF(U20>=$E20,IFERROR(VLOOKUP($A20,Personalizacion!$E$6:$F$52,2,FALSE),0),0),Personalizacion!$J$5) -> 82.5 | X20: =MROUND(V20+IF(W20>=$E20,IFERROR(VLOOKUP($A20,Personalizacion!$E$6:$F$52,2,FALSE),0),0),Personalizacion!$J$5) -> 82.5 | Z20: =MROUND(X20+IF(Y20>=$E20,IFERROR(VLOOKUP($A20,Personalizacion!$E$6:$F$52,2,FALSE),0),0),Personalizacion!$J$5) -> 82.5 | AB20: =MROUND(Z20+IF(AA20>=$E20,IFERROR(VLOOKUP($A20,Personalizacion!$E$6:$F$52,2,FALSE),0),0),Personalizacion!$J$5) -> 82.5
A21: =Personalizacion!A24 -> Prensa | C21: 3 | D21: 8 | E21: 12 | F21: =FLOOR(VLOOKUP(A21,Personalizacion!$A$6:$B$64,2,FALSE)*VLOOKUP(E21,Intensidad!$B$4:$D$16,3,FALSE),Personalizacion!$J$5) -> 137.5 | H21: =MROUND(F21+IF(G21>=$E21,IFERROR(VLOOKUP($A21,Personalizacion!$E$6:$F$52,2,FALSE),0),0),Personalizacion!$J$5) -> 137.5 | J21: =MROUND(H21+IF(I21>=$E21,IFERROR(VLOOKUP($A21,Personalizacion!$E$6:$F$52,2,FALSE),0),0),Personalizacion!$J$5) -> 137.5 | L21: =MROUND(J21+IF(K21>=$E21,IFERROR(VLOOKUP($A21,Personalizacion!$E$6:$F$52,2,FALSE),0),0),Personalizacion!$J$5) -> 137.5 | N21: =MROUND(L21+IF(M21>=$E21,IFERROR(VLOOKUP($A21,Personalizacion!$E$6:$F$52,2,FALSE),0),0),Personalizacion!$J$5) -> 137.5 | P21: =MROUND(N21+IF(O21>=$E21,IFERROR(VLOOKUP($A21,Personalizacion!$E$6:$F$52,2,FALSE),0),0),Personalizacion!$J$5) -> 137.5 | R21: =MROUND(P21+IF(Q21>=$E21,IFERROR(VLOOKUP($A21,Personalizacion!$E$6:$F$52,2,FALSE),0),0),Personalizacion!$J$5) -> 137.5 | T21: =MROUND(R21+IF(S21>=$E21,IFERROR(VLOOKUP($A21,Personalizacion!$E$6:$F$52,2,FALSE),0),0),Personalizacion!$J$5) -> 137.5 | V21: =MROUND(T21+IF(U21>=$E21,IFERROR(VLOOKUP($A21,Personalizacion!$E$6:$F$52,2,FALSE),0),0),Personalizacion!$J$5) -> 137.5 | X21: =MROUND(V21+IF(W21>=$E21,IFERROR(VLOOKUP($A21,Personalizacion!$E$6:$F$52,2,FALSE),0),0),Personalizacion!$J$5) -> 137.5 | Z21: =MROUND(X21+IF(Y21>=$E21,IFERROR(VLOOKUP($A21,Personalizacion!$E$6:$F$52,2,FALSE),0),0),Personalizacion!$J$5) -> 137.5 | AB21: =MROUND(Z21+IF(AA21>=$E21,IFERROR(VLOOKUP($A21,Personalizacion!$E$6:$F$52,2,FALSE),0),0),Personalizacion!$J$5) -> 137.5
A22: =Personalizacion!A26 -> Curl de pierna | C22: 3 | D22: 8 | E22: 12 | F22: =FLOOR(VLOOKUP(A22,Personalizacion!$A$6:$B$64,2,FALSE)*VLOOKUP(E22,Intensidad!$B$4:$D$16,3,FALSE),Personalizacion!$J$5) -> 40 | H22: =MROUND(F22+IF(G22>=$E22,IFERROR(VLOOKUP($A22,Personalizacion!$E$6:$F$52,2,FALSE),0),0),Personalizacion!$J$5) -> 40 | J22: =MROUND(H22+IF(I22>=$E22,IFERROR(VLOOKUP($A22,Personalizacion!$E$6:$F$52,2,FALSE),0),0),Personalizacion!$J$5) -> 40 | L22: =MROUND(J22+IF(K22>=$E22,IFERROR(VLOOKUP($A22,Personalizacion!$E$6:$F$52,2,FALSE),0),0),Personalizacion!$J$5) -> 40 | N22: =MROUND(L22+IF(M22>=$E22,IFERROR(VLOOKUP($A22,Personalizacion!$E$6:$F$52,2,FALSE),0),0),Personalizacion!$J$5) -> 40 | P22: =MROUND(N22+IF(O22>=$E22,IFERROR(VLOOKUP($A22,Personalizacion!$E$6:$F$52,2,FALSE),0),0),Personalizacion!$J$5) -> 40 | R22: =MROUND(P22+IF(Q22>=$E22,IFERROR(VLOOKUP($A22,Personalizacion!$E$6:$F$52,2,FALSE),0),0),Personalizacion!$J$5) -> 40 | T22: =MROUND(R22+IF(S22>=$E22,IFERROR(VLOOKUP($A22,Personalizacion!$E$6:$F$52,2,FALSE),0),0),Personalizacion!$J$5) -> 40 | V22: =MROUND(T22+IF(U22>=$E22,IFERROR(VLOOKUP($A22,Personalizacion!$E$6:$F$52,2,FALSE),0),0),Personalizacion!$J$5) -> 40 | X22: =MROUND(V22+IF(W22>=$E22,IFERROR(VLOOKUP($A22,Personalizacion!$E$6:$F$52,2,FALSE),0),0),Personalizacion!$J$5) -> 40 | Z22: =MROUND(X22+IF(Y22>=$E22,IFERROR(VLOOKUP($A22,Personalizacion!$E$6:$F$52,2,FALSE),0),0),Personalizacion!$J$5) -> 40 | AB22: =MROUND(Z22+IF(AA22>=$E22,IFERROR(VLOOKUP($A22,Personalizacion!$E$6:$F$52,2,FALSE),0),0),Personalizacion!$J$5) -> 40
A23: =Personalizacion!A25 -> Elevacion gemelos | C23: 5 | D23: 8 | E23: 12 | F23: =FLOOR(VLOOKUP(A23,Personalizacion!$A$6:$B$64,2,FALSE)*VLOOKUP(E23,Intensidad!$B$4:$D$16,3,FALSE),Personalizacion!$J$5) -> 60 | H23: =MROUND(F23+IF(G23>=$E23,IFERROR(VLOOKUP($A23,Personalizacion!$E$6:$F$52,2,FALSE),0),0),Personalizacion!$J$5) -> 60 | J23: =MROUND(H23+IF(I23>=$E23,IFERROR(VLOOKUP($A23,Personalizacion!$E$6:$F$52,2,FALSE),0),0),Personalizacion!$J$5) -> 60 | L23: =MROUND(J23+IF(K23>=$E23,IFERROR(VLOOKUP($A23,Personalizacion!$E$6:$F$52,2,FALSE),0),0),Personalizacion!$J$5) -> 60 | N23: =MROUND(L23+IF(M23>=$E23,IFERROR(VLOOKUP($A23,Personalizacion!$E$6:$F$52,2,FALSE),0),0),Personalizacion!$J$5) -> 60 | P23: =MROUND(N23+IF(O23>=$E23,IFERROR(VLOOKUP($A23,Personalizacion!$E$6:$F$52,2,FALSE),0),0),Personalizacion!$J$5) -> 60 | R23: =MROUND(P23+IF(Q23>=$E23,IFERROR(VLOOKUP($A23,Personalizacion!$E$6:$F$52,2,FALSE),0),0),Personalizacion!$J$5) -> 60 | T23: =MROUND(R23+IF(S23>=$E23,IFERROR(VLOOKUP($A23,Personalizacion!$E$6:$F$52,2,FALSE),0),0),Personalizacion!$J$5) -> 60 | V23: =MROUND(T23+IF(U23>=$E23,IFERROR(VLOOKUP($A23,Personalizacion!$E$6:$F$52,2,FALSE),0),0),Personalizacion!$J$5) -> 60 | X23: =MROUND(V23+IF(W23>=$E23,IFERROR(VLOOKUP($A23,Personalizacion!$E$6:$F$52,2,FALSE),0),0),Personalizacion!$J$5) -> 60 | Z23: =MROUND(X23+IF(Y23>=$E23,IFERROR(VLOOKUP($A23,Personalizacion!$E$6:$F$52,2,FALSE),0),0),Personalizacion!$J$5) -> 60 | AB23: =MROUND(Z23+IF(AA23>=$E23,IFERROR(VLOOKUP($A23,Personalizacion!$E$6:$F$52,2,FALSE),0),0),Personalizacion!$J$5) -> 60
A24: Jueves - Rest
A25: Viernes - Pull | B25: Anotaciones | C25: Series | D25: Min Reps | E25: Max Reps
A26: =Personalizacion!A7 -> Remo en barra | B26: Ultima serie AMRAP | C26: 5 | D26: 5 | E26: 5 | F26: =FLOOR(VLOOKUP(A26,Personalizacion!$A$6:$B$64,2,FALSE)*VLOOKUP(E26,Intensidad!$B$4:$D$16,3,FALSE),Personalizacion!$J$5) -> 62.5 | H26: =MROUND(F26+IF(G26>=$E26,IFERROR(VLOOKUP($A26,Personalizacion!$E$6:$F$52,2,FALSE),0),0),Personalizacion!$J$5) -> 62.5 | J26: =MROUND(H26+IF(I26>=$E26,IFERROR(VLOOKUP($A26,Personalizacion!$E$6:$F$52,2,FALSE),0),0),Personalizacion!$J$5) -> 62.5 | L26: =MROUND(J26+IF(K26>=$E26,IFERROR(VLOOKUP($A26,Personalizacion!$E$6:$F$52,2,FALSE),0),0),Personalizacion!$J$5) -> 62.5 | N26: =MROUND(L26+IF(M26>=$E26,IFERROR(VLOOKUP($A26,Personalizacion!$E$6:$F$52,2,FALSE),0),0),Personalizacion!$J$5) -> 62.5 | P26: =MROUND(N26+IF(O26>=$E26,IFERROR(VLOOKUP($A26,Personalizacion!$E$6:$F$52,2,FALSE),0),0),Personalizacion!$J$5) -> 62.5 | R26: =MROUND(P26+IF(Q26>=$E26,IFERROR(VLOOKUP($A26,Personalizacion!$E$6:$F$52,2,FALSE),0),0),Personalizacion!$J$5) -> 62.5 | T26: =MROUND(R26+IF(S26>=$E26,IFERROR(VLOOKUP($A26,Personalizacion!$E$6:$F$52,2,FALSE),0),0),Personalizacion!$J$5) -> 62.5 | V26: =MROUND(T26+IF(U26>=$E26,IFERROR(VLOOKUP($A26,Personalizacion!$E$6:$F$52,2,FALSE),0),0),Personalizacion!$J$5) -> 62.5 | X26: =MROUND(V26+IF(W26>=$E26,IFERROR(VLOOKUP($A26,Personalizacion!$E$6:$F$52,2,FALSE),0),0),Personalizacion!$J$5) -> 62.5 | Z26: =MROUND(X26+IF(Y26>=$E26,IFERROR(VLOOKUP($A26,Personalizacion!$E$6:$F$52,2,FALSE),0),0),Personalizacion!$J$5) -> 62.5 | AB26: =MROUND(Z26+IF(AA26>=$E26,IFERROR(VLOOKUP($A26,Personalizacion!$E$6:$F$52,2,FALSE),0),0),Personalizacion!$J$5) -> 62.5
A27: =Personalizacion!A8 -> Jalon al pecho | C27: 3 | D27: 8 | E27: 12 | F27: =FLOOR(VLOOKUP(A27,Personalizacion!$A$6:$B$64,2,FALSE)*VLOOKUP(E27,Intensidad!$B$4:$D$16,3,FALSE),Personalizacion!$J$5) -> 30 | H27: =MROUND(F27+IF(G27>=$E27,IFERROR(VLOOKUP($A27,Personalizacion!$E$6:$F$52,2,FALSE),0),0),Personalizacion!$J$5) -> 30 | J27: =MROUND(H27+IF(I27>=$E27,IFERROR(VLOOKUP($A27,Personalizacion!$E$6:$F$52,2,FALSE),0),0),Personalizacion!$J$5) -> 30 | L27: =MROUND(J27+IF(K27>=$E27,IFERROR(VLOOKUP($A27,Personalizacion!$E$6:$F$52,2,FALSE),0),0),Personalizacion!$J$5) -> 30 | N27: =MROUND(L27+IF(M27>=$E27,IFERROR(VLOOKUP($A27,Personalizacion!$E$6:$F$52,2,FALSE),0),0),Personalizacion!$J$5) -> 30 | P27: =MROUND(N27+IF(O27>=$E27,IFERROR(VLOOKUP($A27,Personalizacion!$E$6:$F$52,2,FALSE),0),0),Personalizacion!$J$5) -> 30 | R27: =MROUND(P27+IF(Q27>=$E27,IFERROR(VLOOKUP($A27,Personalizacion!$E$6:$F$52,2,FALSE),0),0),Personalizacion!$J$5) -> 30 | T27: =MROUND(R27+IF(S27>=$E27,IFERROR(VLOOKUP($A27,Personalizacion!$E$6:$F$52,2,FALSE),0),0),Personalizacion!$J$5) -> 30 | V27: =MROUND(T27+IF(U27>=$E27,IFERROR(VLOOKUP($A27,Personalizacion!$E$6:$F$52,2,FALSE),0),0),Personalizacion!$J$5) -> 30 | X27: =MROUND(V27+IF(W27>=$E27,IFERROR(VLOOKUP($A27,Personalizacion!$E$6:$F$52,2,FALSE),0),0),Personalizacion!$J$5) -> 30 | Z27: =MROUND(X27+IF(Y27>=$E27,IFERROR(VLOOKUP($A27,Personalizacion!$E$6:$F$52,2,FALSE),0),0),Personalizacion!$J$5) -> 30 | AB27: =MROUND(Z27+IF(AA27>=$E27,IFERROR(VLOOKUP($A27,Personalizacion!$E$6:$F$52,2,FALSE),0),0),Personalizacion!$J$5) -> 30
A28: =Personalizacion!A9 -> Remo en cable | C28: 3 | D28: 8 | E28: 12 | F28: =FLOOR(VLOOKUP(A28,Personalizacion!$A$6:$B$64,2,FALSE)*VLOOKUP(E28,Intensidad!$B$4:$D$16,3,FALSE),Personalizacion!$J$5) -> 27.5 | H28: =MROUND(F28+IF(G28>=$E28,IFERROR(VLOOKUP($A28,Personalizacion!$E$6:$F$52,2,FALSE),0),0),Personalizacion!$J$5) -> 27.5 | J28: =MROUND(H28+IF(I28>=$E28,IFERROR(VLOOKUP($A28,Personalizacion!$E$6:$F$52,2,FALSE),0),0),Personalizacion!$J$5) -> 27.5 | L28: =MROUND(J28+IF(K28>=$E28,IFERROR(VLOOKUP($A28,Personalizacion!$E$6:$F$52,2,FALSE),0),0),Personalizacion!$J$5) -> 27.5 | N28: =MROUND(L28+IF(M28>=$E28,IFERROR(VLOOKUP($A28,Personalizacion!$E$6:$F$52,2,FALSE),0),0),Personalizacion!$J$5) -> 27.5 | P28: =MROUND(N28+IF(O28>=$E28,IFERROR(VLOOKUP($A28,Personalizacion!$E$6:$F$52,2,FALSE),0),0),Personalizacion!$J$5) -> 27.5 | R28: =MROUND(P28+IF(Q28>=$E28,IFERROR(VLOOKUP($A28,Personalizacion!$E$6:$F$52,2,FALSE),0),0),Personalizacion!$J$5) -> 27.5 | T28: =MROUND(R28+IF(S28>=$E28,IFERROR(VLOOKUP($A28,Personalizacion!$E$6:$F$52,2,FALSE),0),0),Personalizacion!$J$5) -> 27.5 | V28: =MROUND(T28+IF(U28>=$E28,IFERROR(VLOOKUP($A28,Personalizacion!$E$6:$F$52,2,FALSE),0),0),Personalizacion!$J$5) -> 27.5 | X28: =MROUND(V28+IF(W28>=$E28,IFERROR(VLOOKUP($A28,Personalizacion!$E$6:$F$52,2,FALSE),0),0),Personalizacion!$J$5) -> 27.5 | Z28: =MROUND(X28+IF(Y28>=$E28,IFERROR(VLOOKUP($A28,Personalizacion!$E$6:$F$52,2,FALSE),0),0),Personalizacion!$J$5) -> 27.5 | AB28: =MROUND(Z28+IF(AA28>=$E28,IFERROR(VLOOKUP($A28,Personalizacion!$E$6:$F$52,2,FALSE),0),0),Personalizacion!$J$5) -> 27.5
A29: =Personalizacion!A10 -> Face Pull | C29: 5 | D29: 15 | E29: 20 | F29: =FLOOR(VLOOKUP(A29,Personalizacion!$A$6:$B$64,2,FALSE)*VLOOKUP(E29,Intensidad!$B$4:$D$16,3,FALSE),Personalizacion!$J$5) -> 17.5 | H29: =MROUND(F29+IF(G29>=$E29,IFERROR(VLOOKUP($A29,Personalizacion!$E$6:$F$52,2,FALSE),0),0),Personalizacion!$J$5) -> 17.5 | J29: =MROUND(H29+IF(I29>=$E29,IFERROR(VLOOKUP($A29,Personalizacion!$E$6:$F$52,2,FALSE),0),0),Personalizacion!$J$5) -> 17.5 | L29: =MROUND(J29+IF(K29>=$E29,IFERROR(VLOOKUP($A29,Personalizacion!$E$6:$F$52,2,FALSE),0),0),Personalizacion!$J$5) -> 17.5 | N29: =MROUND(L29+IF(M29>=$E29,IFERROR(VLOOKUP($A29,Personalizacion!$E$6:$F$52,2,FALSE),0),0),Personalizacion!$J$5) -> 17.5 | P29: =MROUND(N29+IF(O29>=$E29,IFERROR(VLOOKUP($A29,Personalizacion!$E$6:$F$52,2,FALSE),0),0),Personalizacion!$J$5) -> 17.5 | R29: =MROUND(P29+IF(Q29>=$E29,IFERROR(VLOOKUP($A29,Personalizacion!$E$6:$F$52,2,FALSE),0),0),Personalizacion!$J$5) -> 17.5 | T29: =MROUND(R29+IF(S29>=$E29,IFERROR(VLOOKUP($A29,Personalizacion!$E$6:$F$52,2,FALSE),0),0),Personalizacion!$J$5) -> 17.5 | V29: =MROUND(T29+IF(U29>=$E29,IFERROR(VLOOKUP($A29,Personalizacion!$E$6:$F$52,2,FALSE),0),0),Personalizacion!$J$5) -> 17.5 | X29: =MROUND(V29+IF(W29>=$E29,IFERROR(VLOOKUP($A29,Personalizacion!$E$6:$F$52,2,FALSE),0),0),Personalizacion!$J$5) -> 17.5 | Z29: =MROUND(X29+IF(Y29>=$E29,IFERROR(VLOOKUP($A29,Personalizacion!$E$6:$F$52,2,FALSE),0),0),Personalizacion!$J$5) -> 17.5 | AB29: =MROUND(Z29+IF(AA29>=$E29,IFERROR(VLOOKUP($A29,Personalizacion!$E$6:$F$52,2,FALSE),0),0),Personalizacion!$J$5) -> 17.5
A30: =Personalizacion!A11 -> Curl martillo | C30: 4 | D30: 8 | E30: 12 | F30: =FLOOR(VLOOKUP(A30,Personalizacion!$A$6:$B$64,2,FALSE)*VLOOKUP(E30,Intensidad!$B$4:$D$16,3,FALSE),Personalizacion!$J$5) -> 20 | H30: =MROUND(F30+IF(G30>=$E30,IFERROR(VLOOKUP($A30,Personalizacion!$E$6:$F$52,2,FALSE),0),0),Personalizacion!$J$5) -> 20 | J30: =MROUND(H30+IF(I30>=$E30,IFERROR(VLOOKUP($A30,Personalizacion!$E$6:$F$52,2,FALSE),0),0),Personalizacion!$J$5) -> 20 | L30: =MROUND(J30+IF(K30>=$E30,IFERROR(VLOOKUP($A30,Personalizacion!$E$6:$F$52,2,FALSE),0),0),Personalizacion!$J$5) -> 20 | N30: =MROUND(L30+IF(M30>=$E30,IFERROR(VLOOKUP($A30,Personalizacion!$E$6:$F$52,2,FALSE),0),0),Personalizacion!$J$5) -> 20 | P30: =MROUND(N30+IF(O30>=$E30,IFERROR(VLOOKUP($A30,Personalizacion!$E$6:$F$52,2,FALSE),0),0),Personalizacion!$J$5) -> 20 | R30: =MROUND(P30+IF(Q30>=$E30,IFERROR(VLOOKUP($A30,Personalizacion!$E$6:$F$52,2,FALSE),0),0),Personalizacion!$J$5) -> 20 | T30: =MROUND(R30+IF(S30>=$E30,IFERROR(VLOOKUP($A30,Personalizacion!$E$6:$F$52,2,FALSE),0),0),Personalizacion!$J$5) -> 20 | V30: =MROUND(T30+IF(U30>=$E30,IFERROR(VLOOKUP($A30,Personalizacion!$E$6:$F$52,2,FALSE),0),0),Personalizacion!$J$5) -> 20 | X30: =MROUND(V30+IF(W30>=$E30,IFERROR(VLOOKUP($A30,Personalizacion!$E$6:$F$52,2,FALSE),0),0),Personalizacion!$J$5) -> 20 | Z30: =MROUND(X30+IF(Y30>=$E30,IFERROR(VLOOKUP($A30,Personalizacion!$E$6:$F$52,2,FALSE),0),0),Personalizacion!$J$5) -> 20 | AB30: =MROUND(Z30+IF(AA30>=$E30,IFERROR(VLOOKUP($A30,Personalizacion!$E$6:$F$52,2,FALSE),0),0),Personalizacion!$J$5) -> 20
A31: =Personalizacion!A12 -> Curl de biceps barra Z | C31: 4 | D31: 8 | E31: 12 | F31: =FLOOR(VLOOKUP(A31,Personalizacion!$A$6:$B$64,2,FALSE)*VLOOKUP(E31,Intensidad!$B$4:$D$16,3,FALSE),Personalizacion!$J$5) -> 15 | H31: =MROUND(F31+IF(G31>=$E31,IFERROR(VLOOKUP($A31,Personalizacion!$E$6:$F$52,2,FALSE),0),0),Personalizacion!$J$5) -> 15 | J31: =MROUND(H31+IF(I31>=$E31,IFERROR(VLOOKUP($A31,Personalizacion!$E$6:$F$52,2,FALSE),0),0),Personalizacion!$J$5) -> 15 | L31: =MROUND(J31+IF(K31>=$E31,IFERROR(VLOOKUP($A31,Personalizacion!$E$6:$F$52,2,FALSE),0),0),Personalizacion!$J$5) -> 15 | N31: =MROUND(L31+IF(M31>=$E31,IFERROR(VLOOKUP($A31,Personalizacion!$E$6:$F$52,2,FALSE),0),0),Personalizacion!$J$5) -> 15 | P31: =MROUND(N31+IF(O31>=$E31,IFERROR(VLOOKUP($A31,Personalizacion!$E$6:$F$52,2,FALSE),0),0),Personalizacion!$J$5) -> 15 | R31: =MROUND(P31+IF(Q31>=$E31,IFERROR(VLOOKUP($A31,Personalizacion!$E$6:$F$52,2,FALSE),0),0),Personalizacion!$J$5) -> 15 | T31: =MROUND(R31+IF(S31>=$E31,IFERROR(VLOOKUP($A31,Personalizacion!$E$6:$F$52,2,FALSE),0),0),Personalizacion!$J$5) -> 15 | V31: =MROUND(T31+IF(U31>=$E31,IFERROR(VLOOKUP($A31,Personalizacion!$E$6:$F$52,2,FALSE),0),0),Personalizacion!$J$5) -> 15 | X31: =MROUND(V31+IF(W31>=$E31,IFERROR(VLOOKUP($A31,Personalizacion!$E$6:$F$52,2,FALSE),0),0),Personalizacion!$J$5) -> 15 | Z31: =MROUND(X31+IF(Y31>=$E31,IFERROR(VLOOKUP($A31,Personalizacion!$E$6:$F$52,2,FALSE),0),0),Personalizacion!$J$5) -> 15 | AB31: =MROUND(Z31+IF(AA31>=$E31,IFERROR(VLOOKUP($A31,Personalizacion!$E$6:$F$52,2,FALSE),0),0),Personalizacion!$J$5) -> 15
A32: Sabado - Push | B32: Anotaciones | C32: Series | D32: Min Reps | E32: Max Reps
A33: =Personalizacion!A16 -> Press militar | B33: Ultima serie AMRAP | C33: 5 | D33: 5 | E33: 5 | F33: =FLOOR(VLOOKUP(A33,Personalizacion!$A$6:$B$64,2,FALSE)*VLOOKUP(E33,Intensidad!$B$4:$D$16,3,FALSE),Personalizacion!$J$5) -> 72.5 | H33: =MROUND(F33+IF(G33>=$E33,IFERROR(VLOOKUP($A33,Personalizacion!$E$6:$F$52,2,FALSE),0),0),Personalizacion!$J$5) -> 72.5 | J33: =MROUND(H33+IF(I33>=$E33,IFERROR(VLOOKUP($A33,Personalizacion!$E$6:$F$52,2,FALSE),0),0),Personalizacion!$J$5) -> 72.5 | L33: =MROUND(J33+IF(K33>=$E33,IFERROR(VLOOKUP($A33,Personalizacion!$E$6:$F$52,2,FALSE),0),0),Personalizacion!$J$5) -> 72.5 | N33: =MROUND(L33+IF(M33>=$E33,IFERROR(VLOOKUP($A33,Personalizacion!$E$6:$F$52,2,FALSE),0),0),Personalizacion!$J$5) -> 72.5 | P33: =MROUND(N33+IF(O33>=$E33,IFERROR(VLOOKUP($A33,Personalizacion!$E$6:$F$52,2,FALSE),0),0),Personalizacion!$J$5) -> 72.5 | R33: =MROUND(P33+IF(Q33>=$E33,IFERROR(VLOOKUP($A33,Personalizacion!$E$6:$F$52,2,FALSE),0),0),Personalizacion!$J$5) -> 72.5 | T33: =MROUND(R33+IF(S33>=$E33,IFERROR(VLOOKUP($A33,Personalizacion!$E$6:$F$52,2,FALSE),0),0),Personalizacion!$J$5) -> 72.5 | V33: =MROUND(T33+IF(U33>=$E33,IFERROR(VLOOKUP($A33,Personalizacion!$E$6:$F$52,2,FALSE),0),0),Personalizacion!$J$5) -> 72.5 | X33: =MROUND(V33+IF(W33>=$E33,IFERROR(VLOOKUP($A33,Personalizacion!$E$6:$F$52,2,FALSE),0),0),Personalizacion!$J$5) -> 72.5 | Z33: =MROUND(X33+IF(Y33>=$E33,IFERROR(VLOOKUP($A33,Personalizacion!$E$6:$F$52,2,FALSE),0),0),Personalizacion!$J$5) -> 72.5 | AB33: =MROUND(Z33+IF(AA33>=$E33,IFERROR(VLOOKUP($A33,Personalizacion!$E$6:$F$52,2,FALSE),0),0),Personalizacion!$J$5) -> 72.5
A34: =Personalizacion!A15 -> Press de banca | C34: 3 | D34: 8 | E34: 12 | F34: =FLOOR(VLOOKUP(A34,Personalizacion!$A$6:$B$64,2,FALSE)*VLOOKUP(E34,Intensidad!$B$4:$D$16,3,FALSE),Personalizacion!$J$5) -> 80 | H34: =MROUND(F34+IF(G34>=$E34,IFERROR(VLOOKUP($A34,Personalizacion!$E$6:$F$52,2,FALSE),0),0),Personalizacion!$J$5) -> 80 | J34: =MROUND(H34+IF(I34>=$E34,IFERROR(VLOOKUP($A34,Personalizacion!$E$6:$F$52,2,FALSE),0),0),Personalizacion!$J$5) -> 80 | L34: =MROUND(J34+IF(K34>=$E34,IFERROR(VLOOKUP($A34,Personalizacion!$E$6:$F$52,2,FALSE),0),0),Personalizacion!$J$5) -> 80 | N34: =MROUND(L34+IF(M34>=$E34,IFERROR(VLOOKUP($A34,Personalizacion!$E$6:$F$52,2,FALSE),0),0),Personalizacion!$J$5) -> 80 | P34: =MROUND(N34+IF(O34>=$E34,IFERROR(VLOOKUP($A34,Personalizacion!$E$6:$F$52,2,FALSE),0),0),Personalizacion!$J$5) -> 80 | R34: =MROUND(P34+IF(Q34>=$E34,IFERROR(VLOOKUP($A34,Personalizacion!$E$6:$F$52,2,FALSE),0),0),Personalizacion!$J$5) -> 80 | T34: =MROUND(R34+IF(S34>=$E34,IFERROR(VLOOKUP($A34,Personalizacion!$E$6:$F$52,2,FALSE),0),0),Personalizacion!$J$5) -> 80 | V34: =MROUND(T34+IF(U34>=$E34,IFERROR(VLOOKUP($A34,Personalizacion!$E$6:$F$52,2,FALSE),0),0),Personalizacion!$J$5) -> 80 | X34: =MROUND(V34+IF(W34>=$E34,IFERROR(VLOOKUP($A34,Personalizacion!$E$6:$F$52,2,FALSE),0),0),Personalizacion!$J$5) -> 80 | Z34: =MROUND(X34+IF(Y34>=$E34,IFERROR(VLOOKUP($A34,Personalizacion!$E$6:$F$52,2,FALSE),0),0),Personalizacion!$J$5) -> 80 | AB34: =MROUND(Z34+IF(AA34>=$E34,IFERROR(VLOOKUP($A34,Personalizacion!$E$6:$F$52,2,FALSE),0),0),Personalizacion!$J$5) -> 80
A35: =Personalizacion!A17 -> Press de banca inclinado con mancuernas | C35: 3 | D35: 8 | E35: 12 | F35: =FLOOR(VLOOKUP(A35,Personalizacion!$A$6:$B$64,2,FALSE)*VLOOKUP(E35,Intensidad!$B$4:$D$16,3,FALSE),Personalizacion!$J$5) -> 37.5 | H35: =MROUND(F35+IF(G35>=$E35,IFERROR(VLOOKUP($A35,Personalizacion!$E$6:$F$52,2,FALSE),0),0),Personalizacion!$J$5) -> 37.5 | J35: =MROUND(H35+IF(I35>=$E35,IFERROR(VLOOKUP($A35,Personalizacion!$E$6:$F$52,2,FALSE),0),0),Personalizacion!$J$5) -> 37.5 | L35: =MROUND(J35+IF(K35>=$E35,IFERROR(VLOOKUP($A35,Personalizacion!$E$6:$F$52,2,FALSE),0),0),Personalizacion!$J$5) -> 37.5 | N35: =MROUND(L35+IF(M35>=$E35,IFERROR(VLOOKUP($A35,Personalizacion!$E$6:$F$52,2,FALSE),0),0),Personalizacion!$J$5) -> 37.5 | P35: =MROUND(N35+IF(O35>=$E35,IFERROR(VLOOKUP($A35,Personalizacion!$E$6:$F$52,2,FALSE),0),0),Personalizacion!$J$5) -> 37.5 | R35: =MROUND(P35+IF(Q35>=$E35,IFERROR(VLOOKUP($A35,Personalizacion!$E$6:$F$52,2,FALSE),0),0),Personalizacion!$J$5) -> 37.5 | T35: =MROUND(R35+IF(S35>=$E35,IFERROR(VLOOKUP($A35,Personalizacion!$E$6:$F$52,2,FALSE),0),0),Personalizacion!$J$5) -> 37.5 | V35: =MROUND(T35+IF(U35>=$E35,IFERROR(VLOOKUP($A35,Personalizacion!$E$6:$F$52,2,FALSE),0),0),Personalizacion!$J$5) -> 37.5 | X35: =MROUND(V35+IF(W35>=$E35,IFERROR(VLOOKUP($A35,Personalizacion!$E$6:$F$52,2,FALSE),0),0),Personalizacion!$J$5) -> 37.5 | Z35: =MROUND(X35+IF(Y35>=$E35,IFERROR(VLOOKUP($A35,Personalizacion!$E$6:$F$52,2,FALSE),0),0),Personalizacion!$J$5) -> 37.5 | AB35: =MROUND(Z35+IF(AA35>=$E35,IFERROR(VLOOKUP($A35,Personalizacion!$E$6:$F$52,2,FALSE),0),0),Personalizacion!$J$5) -> 37.5
A36: =Personalizacion!A18 -> Extension de triceps en polea alta | C36: 3 | D36: 8 | E36: 12 | F36: =FLOOR(VLOOKUP(A36,Personalizacion!$A$6:$B$64,2,FALSE)*VLOOKUP(E36,Intensidad!$B$4:$D$16,3,FALSE),Personalizacion!$J$5) -> 32.5 | H36: =MROUND(F36+IF(G36>=$E36,IFERROR(VLOOKUP($A36,Personalizacion!$E$6:$F$52,2,FALSE),0),0),Personalizacion!$J$5) -> 32.5 | J36: =MROUND(H36+IF(I36>=$E36,IFERROR(VLOOKUP($A36,Personalizacion!$E$6:$F$52,2,FALSE),0),0),Personalizacion!$J$5) -> 32.5 | L36: =MROUND(J36+IF(K36>=$E36,IFERROR(VLOOKUP($A36,Personalizacion!$E$6:$F$52,2,FALSE),0),0),Personalizacion!$J$5) -> 32.5 | N36: =MROUND(L36+IF(M36>=$E36,IFERROR(VLOOKUP($A36,Personalizacion!$E$6:$F$52,2,FALSE),0),0),Personalizacion!$J$5) -> 32.5 | P36: =MROUND(N36+IF(O36>=$E36,IFERROR(VLOOKUP($A36,Personalizacion!$E$6:$F$52,2,FALSE),0),0),Personalizacion!$J$5) -> 32.5 | R36: =MROUND(P36+IF(Q36>=$E36,IFERROR(VLOOKUP($A36,Personalizacion!$E$6:$F$52,2,FALSE),0),0),Personalizacion!$J$5) -> 32.5 | T36: =MROUND(R36+IF(S36>=$E36,IFERROR(VLOOKUP($A36,Personalizacion!$E$6:$F$52,2,FALSE),0),0),Personalizacion!$J$5) -> 32.5 | V36: =MROUND(T36+IF(U36>=$E36,IFERROR(VLOOKUP($A36,Personalizacion!$E$6:$F$52,2,FALSE),0),0),Personalizacion!$J$5) -> 32.5 | X36: =MROUND(V36+IF(W36>=$E36,IFERROR(VLOOKUP($A36,Personalizacion!$E$6:$F$52,2,FALSE),0),0),Personalizacion!$J$5) -> 32.5 | Z36: =MROUND(X36+IF(Y36>=$E36,IFERROR(VLOOKUP($A36,Personalizacion!$E$6:$F$52,2,FALSE),0),0),Personalizacion!$J$5) -> 32.5 | AB36: =MROUND(Z36+IF(AA36>=$E36,IFERROR(VLOOKUP($A36,Personalizacion!$E$6:$F$52,2,FALSE),0),0),Personalizacion!$J$5) -> 32.5
A37: =Personalizacion!A19 -> Press frances | C37: 3 | D37: 8 | E37: 12 | F37: =FLOOR(VLOOKUP(A37,Personalizacion!$A$6:$B$64,2,FALSE)*VLOOKUP(E37,Intensidad!$B$4:$D$16,3,FALSE),Personalizacion!$J$5) -> 30 | H37: =MROUND(F37+IF(G37>=$E37,IFERROR(VLOOKUP($A37,Personalizacion!$E$6:$F$52,2,FALSE),0),0),Personalizacion!$J$5) -> 30 | J37: =MROUND(H37+IF(I37>=$E37,IFERROR(VLOOKUP($A37,Personalizacion!$E$6:$F$52,2,FALSE),0),0),Personalizacion!$J$5) -> 30 | L37: =MROUND(J37+IF(K37>=$E37,IFERROR(VLOOKUP($A37,Personalizacion!$E$6:$F$52,2,FALSE),0),0),Personalizacion!$J$5) -> 30 | N37: =MROUND(L37+IF(M37>=$E37,IFERROR(VLOOKUP($A37,Personalizacion!$E$6:$F$52,2,FALSE),0),0),Personalizacion!$J$5) -> 30 | P37: =MROUND(N37+IF(O37>=$E37,IFERROR(VLOOKUP($A37,Personalizacion!$E$6:$F$52,2,FALSE),0),0),Personalizacion!$J$5) -> 30 | R37: =MROUND(P37+IF(Q37>=$E37,IFERROR(VLOOKUP($A37,Personalizacion!$E$6:$F$52,2,FALSE),0),0),Personalizacion!$J$5) -> 30 | T37: =MROUND(R37+IF(S37>=$E37,IFERROR(VLOOKUP($A37,Personalizacion!$E$6:$F$52,2,FALSE),0),0),Personalizacion!$J$5) -> 30 | V37: =MROUND(T37+IF(U37>=$E37,IFERROR(VLOOKUP($A37,Personalizacion!$E$6:$F$52,2,FALSE),0),0),Personalizacion!$J$5) -> 30 | X37: =MROUND(V37+IF(W37>=$E37,IFERROR(VLOOKUP($A37,Personalizacion!$E$6:$F$52,2,FALSE),0),0),Personalizacion!$J$5) -> 30 | Z37: =MROUND(X37+IF(Y37>=$E37,IFERROR(VLOOKUP($A37,Personalizacion!$E$6:$F$52,2,FALSE),0),0),Personalizacion!$J$5) -> 30 | AB37: =MROUND(Z37+IF(AA37>=$E37,IFERROR(VLOOKUP($A37,Personalizacion!$E$6:$F$52,2,FALSE),0),0),Personalizacion!$J$5) -> 30
A38: =Personalizacion!A20 -> Elevaciones laterales | C38: 3 | D38: 15 | E38: 20 | F38: =FLOOR(VLOOKUP(A38,Personalizacion!$A$6:$B$64,2,FALSE)*VLOOKUP(E38,Intensidad!$B$4:$D$16,3,FALSE),Personalizacion!$J$5) -> 20 | H38: =MROUND(F38+IF(G38>=$E38,IFERROR(VLOOKUP($A38,Personalizacion!$E$6:$F$52,2,FALSE),0),0),Personalizacion!$J$5) -> 20 | J38: =MROUND(H38+IF(I38>=$E38,IFERROR(VLOOKUP($A38,Personalizacion!$E$6:$F$52,2,FALSE),0),0),Personalizacion!$J$5) -> 20 | L38: =MROUND(J38+IF(K38>=$E38,IFERROR(VLOOKUP($A38,Personalizacion!$E$6:$F$52,2,FALSE),0),0),Personalizacion!$J$5) -> 20 | N38: =MROUND(L38+IF(M38>=$E38,IFERROR(VLOOKUP($A38,Personalizacion!$E$6:$F$52,2,FALSE),0),0),Personalizacion!$J$5) -> 20 | P38: =MROUND(N38+IF(O38>=$E38,IFERROR(VLOOKUP($A38,Personalizacion!$E$6:$F$52,2,FALSE),0),0),Personalizacion!$J$5) -> 20 | R38: =MROUND(P38+IF(Q38>=$E38,IFERROR(VLOOKUP($A38,Personalizacion!$E$6:$F$52,2,FALSE),0),0),Personalizacion!$J$5) -> 20 | T38: =MROUND(R38+IF(S38>=$E38,IFERROR(VLOOKUP($A38,Personalizacion!$E$6:$F$52,2,FALSE),0),0),Personalizacion!$J$5) -> 20 | V38: =MROUND(T38+IF(U38>=$E38,IFERROR(VLOOKUP($A38,Personalizacion!$E$6:$F$52,2,FALSE),0),0),Personalizacion!$J$5) -> 20 | X38: =MROUND(V38+IF(W38>=$E38,IFERROR(VLOOKUP($A38,Personalizacion!$E$6:$F$52,2,FALSE),0),0),Personalizacion!$J$5) -> 20 | Z38: =MROUND(X38+IF(Y38>=$E38,IFERROR(VLOOKUP($A38,Personalizacion!$E$6:$F$52,2,FALSE),0),0),Personalizacion!$J$5) -> 20 | AB38: =MROUND(Z38+IF(AA38>=$E38,IFERROR(VLOOKUP($A38,Personalizacion!$E$6:$F$52,2,FALSE),0),0),Personalizacion!$J$5) -> 20
A39: Sunday - Legs | B39: Anotaciones | C39: Series | D39: Min Reps | E39: Max Reps
A40: =Personalizacion!A22 -> Sentadillas | B40: Ultima serie AMRAP | C40: 5 | D40: 5 | E40: 5 | F40: =FLOOR(VLOOKUP(A40,Personalizacion!$A$6:$B$64,2,FALSE)*VLOOKUP(E40,Intensidad!$B$4:$D$16,3,FALSE),Personalizacion!$J$5) -> 147.5 | H40: =MROUND(F40+IF(G40>=$E40,IFERROR(VLOOKUP($A40,Personalizacion!$E$6:$F$52,2,FALSE),0),0),Personalizacion!$J$5) -> 147.5 | J40: =MROUND(H40+IF(I40>=$E40,IFERROR(VLOOKUP($A40,Personalizacion!$E$6:$F$52,2,FALSE),0),0),Personalizacion!$J$5) -> 147.5 | L40: =MROUND(J40+IF(K40>=$E40,IFERROR(VLOOKUP($A40,Personalizacion!$E$6:$F$52,2,FALSE),0),0),Personalizacion!$J$5) -> 147.5 | N40: =MROUND(L40+IF(M40>=$E40,IFERROR(VLOOKUP($A40,Personalizacion!$E$6:$F$52,2,FALSE),0),0),Personalizacion!$J$5) -> 147.5 | P40: =MROUND(N40+IF(O40>=$E40,IFERROR(VLOOKUP($A40,Personalizacion!$E$6:$F$52,2,FALSE),0),0),Personalizacion!$J$5) -> 147.5 | R40: =MROUND(P40+IF(Q40>=$E40,IFERROR(VLOOKUP($A40,Personalizacion!$E$6:$F$52,2,FALSE),0),0),Personalizacion!$J$5) -> 147.5 | T40: =MROUND(R40+IF(S40>=$E40,IFERROR(VLOOKUP($A40,Personalizacion!$E$6:$F$52,2,FALSE),0),0),Personalizacion!$J$5) -> 147.5 | V40: =MROUND(T40+IF(U40>=$E40,IFERROR(VLOOKUP($A40,Personalizacion!$E$6:$F$52,2,FALSE),0),0),Personalizacion!$J$5) -> 147.5 | X40: =MROUND(V40+IF(W40>=$E40,IFERROR(VLOOKUP($A40,Personalizacion!$E$6:$F$52,2,FALSE),0),0),Personalizacion!$J$5) -> 147.5 | Z40: =MROUND(X40+IF(Y40>=$E40,IFERROR(VLOOKUP($A40,Personalizacion!$E$6:$F$52,2,FALSE),0),0),Personalizacion!$J$5) -> 147.5 | AB40: =MROUND(Z40+IF(AA40>=$E40,IFERROR(VLOOKUP($A40,Personalizacion!$E$6:$F$52,2,FALSE),0),0),Personalizacion!$J$5) -> 147.5
A41: =Personalizacion!A23 -> Peso muerto rumano | C41: 3 | D41: 8 | E41: 12 | F41: =FLOOR(VLOOKUP(A41,Personalizacion!$A$6:$B$64,2,FALSE)*VLOOKUP(E41,Intensidad!$B$4:$D$16,3,FALSE),Personalizacion!$J$5) -> 82.5 | H41: =MROUND(F41+IF(G41>=$E41,IFERROR(VLOOKUP($A41,Personalizacion!$E$6:$F$52,2,FALSE),0),0),Personalizacion!$J$5) -> 82.5 | J41: =MROUND(H41+IF(I41>=$E41,IFERROR(VLOOKUP($A41,Personalizacion!$E$6:$F$52,2,FALSE),0),0),Personalizacion!$J$5) -> 82.5 | L41: =MROUND(J41+IF(K41>=$E41,IFERROR(VLOOKUP($A41,Personalizacion!$E$6:$F$52,2,FALSE),0),0),Personalizacion!$J$5) -> 82.5 | N41: =MROUND(L41+IF(M41>=$E41,IFERROR(VLOOKUP($A41,Personalizacion!$E$6:$F$52,2,FALSE),0),0),Personalizacion!$J$5) -> 82.5 | P41: =MROUND(N41+IF(O41>=$E41,IFERROR(VLOOKUP($A41,Personalizacion!$E$6:$F$52,2,FALSE),0),0),Personalizacion!$J$5) -> 82.5 | R41: =MROUND(P41+IF(Q41>=$E41,IFERROR(VLOOKUP($A41,Personalizacion!$E$6:$F$52,2,FALSE),0),0),Personalizacion!$J$5) -> 82.5 | T41: =MROUND(R41+IF(S41>=$E41,IFERROR(VLOOKUP($A41,Personalizacion!$E$6:$F$52,2,FALSE),0),0),Personalizacion!$J$5) -> 82.5 | V41: =MROUND(T41+IF(U41>=$E41,IFERROR(VLOOKUP($A41,Personalizacion!$E$6:$F$52,2,FALSE),0),0),Personalizacion!$J$5) -> 82.5 | X41: =MROUND(V41+IF(W41>=$E41,IFERROR(VLOOKUP($A41,Personalizacion!$E$6:$F$52,2,FALSE),0),0),Personalizacion!$J$5) -> 82.5 | Z41: =MROUND(X41+IF(Y41>=$E41,IFERROR(VLOOKUP($A41,Personalizacion!$E$6:$F$52,2,FALSE),0),0),Personalizacion!$J$5) -> 82.5 | AB41: =MROUND(Z41+IF(AA41>=$E41,IFERROR(VLOOKUP($A41,Personalizacion!$E$6:$F$52,2,FALSE),0),0),Personalizacion!$J$5) -> 82.5
...

Sheet Lista de ejercicios
A2: Pull Day | B2: Push Day | C2: Leg Day
A3: Peso muerto | B3: Press de banca | C3: Sentadillas
A4: Jalon al pecho | B4: Press militar | C4: Peso muerto rumano
A5: Remo en cable | B5: Press de banca inclinado con mancuernas | C5: Prensa
A6: Face Pull | B6: Extension de triceps en polea alta | C6: Elevacion gemelos
A7: Curl martillo | B7: Press frances | C7: Extensiones piernas
A8: Curl de biceps barra Z | B8: Elevaciones laterales | C8: Hamstring curls
A9: Remo en barra | B9: Press de banca inclinado | C9: Puente de gluteos
A10: Remo en barra T | B10: Push Press | C10: Zancadas
A11: Buenos dias | B11: Arnold press | C11: Curl de pierna
A12: Peso muerto con deficit | B12: Fondos
A13: Dominadas
A14: Paseo del granjero
A15: Encogimientos

Sheet Calculadora 1RM
A2: Inputs | B2: Editar celdas verdes | E2: =HYPERLINK("http://www.exrx.net/Calculators/OneRepMax.html","Sourced from ExRx") -> Sourced from ExRx
A3: Peso levantado | B3: 150 | E3: Reps | F3: Brzycki | G3: Baechle | H3: dos Remedios | I3: Average
A4: Repeticiones | B4: 5 | C4: Para mayor precisión usar entre 2 y 10 repeticiones | E4: 1 | F4: 100 | G4: 100 | H4: 100 | I4: =SUM(F4:H4)/3 -> 100
E5: 2 | F5: 95 | G5: 95 | H5: 92 | I5: =SUM(F5:H5)/3 -> 94
A6: 1RM Estimado | B6: =B3/F16 -> 174.4186 | E6: 3 | F6: 90 | G6: 93 | H6: 90 | I6: =SUM(F6:H6)/3 -> 91
E7: 4 | F7: 88 | G7: 90 | H7: 87 | I7: =SUM(F7:H7)/3 -> 88.333333
E8: 5 | F8: 86 | G8: 87 | H8: 85 | I8: =SUM(F8:H8)/3 -> 86
E9: 6 | F9: 83 | G9: 85 | H9: 82 | I9: =SUM(F9:H9)/3 -> 83.333333
E10: 7 | F10: 80 | G10: 83 | I10: =SUM(F10:H10)/2 -> 81.5
E11: 8 | F11: 78 | G11: 80 | H11: 75 | I11: =SUM(F11:H11)/3 -> 77.666667
E12: 9 | F12: 76 | G12: 77 | I12: =SUM(F12:H12)/2 -> 76.5
E13: 10 | F13: 71.888889 | G13: 74.277778 | H13: 77.933333 | I13: =SUM(F13:H13)/3 -> 74.7
E14: 12 | F14: 69.022222 | G14: 71.577778 | H14: 74.67619 | I14: =SUM(F14:H14)/3 -> 71.75873
E16: Multiplier | F16: =VLOOKUP(B4,$E$4:$I$14,5,FALSE)/100 -> 0.86

Sheet Intensidad
A1: This determines what % of your 1RM you will start the routine at for a given rep range. These are intentionally a little low since the intensity increases so quickly on this program. Be patient.
B3: Rep Count | C3: "True" % | D3: Training %
B4: 1 | C4: 1 | D4: =C4*0.8 -> 0.8
B5: 2 | C5: 0.95 | D5: =C5*0.8 -> 0.76
B6: 3 | C6: 0.93 | D6: =C6*0.8 -> 0.744
B7: 4 | C7: 0.9 | D7: =C7*0.8 -> 0.72
B8: 5 | C8: 0.87 | D8: =C8*0.8 -> 0.696
B9: 6 | C9: 0.85 | D9: =C9*0.8 -> 0.68
B10: 7 | C10: 0.83 | D10: =C10*0.8 -> 0.664
B11: 8 | C11: 0.8 | D11: =C11*0.8 -> 0.64
B12: 9 | C12: 0.77 | D12: =C12*0.8 -> 0.616
B13: 10 | C13: 0.75 | D13: =C13*0.8 -> 0.6
B14: 11 | C14: 0.7 | D14: =C14*0.8 -> 0.56
B15: 12 | C15: 0.5 | D15: =C15*0.8 -> 0.4
B16: 20 | C16: 0.4 | D16: =C16*0.8 -> 0.32
